Workbook
Name liste_intervenant: Guide!$E$18:$E$19
Name liste_modalite: Guide!$D$18:$D$21
Name liste_objectif: Guide!$C$18:$C$23
Name liste_public: Guide!$B$18:$B$22
Name liste_specialite: Guide!$B$26:$B$40

Sheet Synthèse
B2: BILAN PÉDAGOGIQUE | R2: =IFERROR("EXERCICE "&YEAR($R$8),"EXERCICE 2027") -> EXERCICE 2027
B3: SYNTHÈSE ANNUELLE DE L'ACTIVITÉ DE FORMATION | R3: Bilan pédagogique et financier — volet pédagogique
B7: ORGANISME DE FORMATION | J7: N° DE DÉCLARATION D'ACTIVITÉ (NDA) | R7: PÉRIODE DE L'EXERCICE
B8: Institut Novaform | J8: 76 54 32109 76 | R8: 46388 | U8: → | V8: 46752
B11: =COUNTA('Suivi des actions'!$A$4:$A$43) -> 13 | F11: =SUM('Suivi des actions'!$L$4:$L$43) -> 347 | J11: =SUM('Suivi des actions'!$P$4:$P$43) -> 40685 | N11: =SUM('Suivi des actions'!$J$4:$J$43) -> 29 | R11: =IFERROR(SUM('Suivi des actions'!$P$4:$P$43)/SUM('Suivi des actions'!$O$4:$O$43),"") -> 0.84305518 | V11: =IFERROR(SUMPRODUCT('Suivi des actions'!$L$4:$L$43,'Suivi des actions'!$T$4:$T$43)/SUM('Suivi des actions'!$L$4:$L$43),"") -> 8.8233429
B13: ACTIONS DE FORMATION | F13: STAGIAIRES FORMÉS | J13: HEURES-STAGIAIRES | N13: SESSIONS RÉALISÉES | R13: TAUX DE RÉALISATION | V13: SATISFACTION / 10
B15: RÉPARTITION PAR TYPE DE PUBLIC · CADRE F-1
B17: Type de public | J17: Stagiaires | N17: Heures-stag. | R17: Part heures | V17: Actions
B18: =Guide!$B$18 -> Salariés (secteur privé) | J18: =SUMIFS('Suivi des actions'!$L$4:$L$43,'Suivi des actions'!$E$4:$E$43,$B18) -> 246 | N18: =SUMIFS('Suivi des actions'!$P$4:$P$43,'Suivi des actions'!$E$4:$E$43,$B18) -> 11757 | R18: =IFERROR($N18/SUM('Suivi des actions'!$P$4:$P$43),"") -> 0.28897628 | V18: =COUNTIFS('Suivi des actions'!$E$4:$E$43,$B18) -> 6
B19: =Guide!$B$19 -> Demandeurs d'emploi | J19: =SUMIFS('Suivi des actions'!$L$4:$L$43,'Suivi des actions'!$E$4:$E$43,$B19) -> 50 | N19: =SUMIFS('Suivi des actions'!$P$4:$P$43,'Suivi des actions'!$E$4:$E$43,$B19) -> 20825 | R19: =IFERROR($N19/SUM('Suivi des actions'!$P$4:$P$43),"") -> 0.51185941 | V19: =COUNTIFS('Suivi des actions'!$E$4:$E$43,$B19) -> 4
B20: =Guide!$B$20 -> Particuliers (à leurs frais) | J20: =SUMIFS('Suivi des actions'!$L$4:$L$43,'Suivi des actions'!$E$4:$E$43,$B20) -> 13 | N20: =SUMIFS('Suivi des actions'!$P$4:$P$43,'Suivi des actions'!$E$4:$E$43,$B20) -> 312 | R20: =IFERROR($N20/SUM('Suivi des actions'!$P$4:$P$43),"") -> 0.007668674 | V20: =COUNTIFS('Suivi des actions'!$E$4:$E$43,$B20) -> 1
B21: =Guide!$B$21 -> Autres stagiaires | J21: =SUMIFS('Suivi des actions'!$L$4:$L$43,'Suivi des actions'!$E$4:$E$43,$B21) -> 23 | N21: =SUMIFS('Suivi des actions'!$P$4:$P$43,'Suivi des actions'!$E$4:$E$43,$B21) -> 966 | R21: =IFERROR($N21/SUM('Suivi des actions'!$P$4:$P$43),"") -> 0.023743394 | V21: =COUNTIFS('Suivi des actions'!$E$4:$E$43,$B21) -> 1
B22: =Guide!$B$22 -> Apprentis | J22: =SUMIFS('Suivi des actions'!$L$4:$L$43,'Suivi des actions'!$E$4:$E$43,$B22) -> 15 | N22: =SUMIFS('Suivi des actions'!$P$4:$P$43,'Suivi des actions'!$E$4:$E$43,$B22) -> 6825 | R22: =IFERROR($N22/SUM('Suivi des actions'!$P$4:$P$43),"") -> 0.16775224 | V22: =COUNTIFS('Suivi des actions'!$E$4:$E$43,$B22) -> 1
B23: TOTAL | J23: =SUM(J18:J22) -> 347 | N23: =SUM(N18:N22) -> 40685 | R23: =IFERROR(SUM(N18:N22)/SUM('Suivi des actions'!$P$4:$P$43),"") -> 1 | V23: =SUM(V18:V22) -> 13
B25: RÉPARTITION PAR OBJECTIF GÉNÉRAL · CADRE F-3
B27: Objectif général | J27: Actions | N27: Stagiaires | R27: Heures-stag. | V27: Part heures
B28: =Guide!$C$18 -> Diplôme / titre RNCP | J28: =COUNTIFS('Suivi des actions'!$D$4:$D$43,$B28) -> 3 | N28: =SUMIFS('Suivi des actions'!$L$4:$L$43,'Suivi des actions'!$D$4:$D$43,$B28) -> 44 | R28: =SUMIFS('Suivi des actions'!$P$4:$P$43,'Suivi des actions'!$D$4:$D$43,$B28) -> 24962 | V28: =IFERROR($R28/SUM('Suivi des actions'!$P$4:$P$43),"") -> 0.61354307
B29: =Guide!$C$19 -> Certification / habilitation RS | J29: =COUNTIFS('Suivi des actions'!$D$4:$D$43,$B29) -> 4 | N29: =SUMIFS('Suivi des actions'!$L$4:$L$43,'Suivi des actions'!$D$4:$D$43,$B29) -> 180 | R29: =SUMIFS('Suivi des actions'!$P$4:$P$43,'Suivi des actions'!$D$4:$D$43,$B29) -> 3840 | V29: =IFERROR($R29/SUM('Suivi des actions'!$P$4:$P$43),"") -> 0.094383679
B30: =Guide!$C$20 -> CQP | J30: =COUNTIFS('Suivi des actions'!$D$4:$D$43,$B30) -> 1 | N30: =SUMIFS('Suivi des actions'!$L$4:$L$43,'Suivi des actions'!$D$4:$D$43,$B30) -> 15 | R30: =SUMIFS('Suivi des actions'!$P$4:$P$43,'Suivi des actions'!$D$4:$D$43,$B30) -> 6825 | V30: =IFERROR($R30/SUM('Suivi des actions'!$P$4:$P$43),"") -> 0.16775224
B31: =Guide!$C$21 -> VAE | J31: =COUNTIFS('Suivi des actions'!$D$4:$D$43,$B31) -> 1 | N31: =SUMIFS('Suivi des actions'!$L$4:$L$43,'Suivi des actions'!$D$4:$D$43,$B31) -> 7 | R31: =SUMIFS('Suivi des actions'!$P$4:$P$43,'Suivi des actions'!$D$4:$D$43,$B31) -> 168 | V31: =IFERROR($R31/SUM('Suivi des actions'!$P$4:$P$43),"") -> 0.004129286
B32: =Guide!$C$22 -> Bilan de compétences | J32: =COUNTIFS('Suivi des actions'!$D$4:$D$43,$B32) -> 1 | N32: =SUMIFS('Suivi des actions'!$L$4:$L$43,'Suivi des actions'!$D$4:$D$43,$B32) -> 13 | R32: =SUMIFS('Suivi des actions'!$P$4:$P$43,'Suivi des actions'!$D$4:$D$43,$B32) -> 312 | V32: =IFERROR($R32/SUM('Suivi des actions'!$P$4:$P$43),"") -> 0.007668674
B33: =Guide!$C$23 -> Autre formation professionnelle continue | J33: =COUNTIFS('Suivi des actions'!$D$4:$D$43,$B33) -> 3 | N33: =SUMIFS('Suivi des actions'!$L$4:$L$43,'Suivi des actions'!$D$4:$D$43,$B33) -> 88 | R33: =SUMIFS('Suivi des actions'!$P$4:$P$43,'Suivi des actions'!$D$4:$D$43,$B33) -> 4578 | V33: =IFERROR($R33/SUM('Suivi des actions'!$P$4:$P$43),"") -> 0.11252304
B34: TOTAL | J34: =SUM(J28:J33) -> 13 | N34: =SUM(N28:N33) -> 347 | R34: =SUM(R28:R33) -> 40685 | V34: =IFERROR(SUM(R28:R33)/SUM('Suivi des actions'!$P$4:$P$43),"") -> 1
B36: RÉPARTITION PAR SPÉCIALITÉ DE FORMATION · CADRE F-4
B38: Spécialité (code NSF) | J38: Actions | N38: Stagiaires | R38: Heures-stag. | V38: Rang
B39: =Guide!$B$26 -> 136 - Langues vivantes | J39: =COUNTIFS('Suivi des actions'!$C$4:$C$43,$B39) -> 1 | N39: =SUMIFS('Suivi des actions'!$L$4:$L$43,'Suivi des actions'!$C$4:$C$43,$B39) -> 30 | R39: =SUMIFS('Suivi des actions'!$P$4:$P$43,'Suivi des actions'!$C$4:$C$43,$B39) -> 900 | V39: =IF($R39=0,"",RANK($R39,$R$39:$R$53)) -> 7
B40: =Guide!$B$27 -> 312 - Commerce, vente | J40: =COUNTIFS('Suivi des actions'!$C$4:$C$43,$B40) -> 2 | N40: =SUMIFS('Suivi des actions'!$L$4:$L$43,'Suivi des actions'!$C$4:$C$43,$B40) -> 27 | R40: =SUMIFS('Suivi des actions'!$P$4:$P$43,'Suivi des actions'!$C$4:$C$43,$B40) -> 14217 | V40: =IF($R40=0,"",RANK($R40,$R$39:$R$53)) -> 1
B41: =Guide!$B$28 -> 314 - Comptabilité, gestion | J41: =COUNTIFS('Suivi des actions'!$C$4:$C$43,$B41) -> 1 | N41: =SUMIFS('Suivi des actions'!$L$4:$L$43,'Suivi des actions'!$C$4:$C$43,$B41) -> 16 | R41: =SUMIFS('Suivi des actions'!$P$4:$P$43,'Suivi des actions'!$C$4:$C$43,$B41) -> 2240 | V41: =IF($R41=0,"",RANK($R41,$R$39:$R$53)) -> 4
B42: =Guide!$B$29 -> 315 - Ressources humaines | J42: =COUNTIFS('Suivi des actions'!$C$4:$C$43,$B42) -> 2 | N42: =SUMIFS('Suivi des actions'!$L$4:$L$43,'Suivi des actions'!$C$4:$C$43,$B42) -> 39 | R42: =SUMIFS('Suivi des actions'!$P$4:$P$43,'Suivi des actions'!$C$4:$C$43,$B42) -> 7777 | V42: =IF($R42=0,"",RANK($R42,$R$39:$R$53)) -> 3
B43: =Guide!$B$30 -> 320 - Communication, information | J43: =COUNTIFS('Suivi des actions'!$C$4:$C$43,$B43) -> 1 | N43: =SUMIFS('Suivi des actions'!$L$4:$L$43,'Suivi des actions'!$C$4:$C$43,$B43) -> 23 | R43: =SUMIFS('Suivi des actions'!$P$4:$P$43,'Suivi des actions'!$C$4:$C$43,$B43) -> 966 | V43: =IF($R43=0,"",RANK($R43,$R$39:$R$53)) -> 6
B44: =Guide!$B$31 -> 324 - Secrétariat, bureautique | J44: =COUNTIFS('Suivi des actions'!$C$4:$C$43,$B44) -> 0 | N44: =SUMIFS('Suivi des actions'!$L$4:$L$43,'Suivi des actions'!$C$4:$C$43,$B44) -> 0 | R44: =SUMIFS('Suivi des actions'!$P$4:$P$43,'Suivi des actions'!$C$4:$C$43,$B44) -> 0 | V44: =IF($R44=0,"",RANK($R44,$R$39:$R$53))
B45: =Guide!$B$32 -> 326 - Informatique, réseaux | J45: =COUNTIFS('Suivi des actions'!$C$4:$C$43,$B45) -> 2 | N45: =SUMIFS('Suivi des actions'!$L$4:$L$43,'Suivi des actions'!$C$4:$C$43,$B45) -> 64 | R45: =SUMIFS('Suivi des actions'!$P$4:$P$43,'Suivi des actions'!$C$4:$C$43,$B45) -> 12397 | V45: =IF($R45=0,"",RANK($R45,$R$39:$R$53)) -> 2
B46: =Guide!$B$33 -> 331 - Santé | J46: =COUNTIFS('Suivi des actions'!$C$4:$C$43,$B46) -> 1 | N46: =SUMIFS('Suivi des actions'!$L$4:$L$43,'Suivi des actions'!$C$4:$C$43,$B46) -> 70 | R46: =SUMIFS('Suivi des actions'!$P$4:$P$43,'Suivi des actions'!$C$4:$C$43,$B46) -> 490 | V46: =IF($R46=0,"",RANK($R46,$R$39:$R$53)) -> 8
B47: =Guide!$B$34 -> 332 - Travail social | J47: =COUNTIFS('Suivi des actions'!$C$4:$C$43,$B47) -> 1 | N47: =SUMIFS('Suivi des actions'!$L$4:$L$43,'Suivi des actions'!$C$4:$C$43,$B47) -> 7 | R47: =SUMIFS('Suivi des actions'!$P$4:$P$43,'Suivi des actions'!$C$4:$C$43,$B47) -> 168 | V47: =IF($R47=0,"",RANK($R47,$R$39:$R$53)) -> 10
B48: =Guide!$B$35 -> 333 - Enseignement, formation | J48: =COUNTIFS('Suivi des actions'!$C$4:$C$43,$B48) -> 0 | N48: =SUMIFS('Suivi des actions'!$L$4:$L$43,'Suivi des actions'!$C$4:$C$43,$B48) -> 0 | R48: =SUMIFS('Suivi des actions'!$P$4:$P$43,'Suivi des actions'!$C$4:$C$43,$B48) -> 0 | V48: =IF($R48=0,"",RANK($R48,$R$39:$R$53))
B49: =Guide!$B$36 -> 334 - Accueil, hôtellerie, tourisme | J49: =COUNTIFS('Suivi des actions'!$C$4:$C$43,$B49) -> 0 | N49: =SUMIFS('Suivi des actions'!$L$4:$L$43,'Suivi des actions'!$C$4:$C$43,$B49) -> 0 | R49: =SUMIFS('Suivi des actions'!$P$4:$P$43,'Suivi des actions'!$C$4:$C$43,$B49) -> 0 | V49: =IF($R49=0,"",RANK($R49,$R$39:$R$53))
B50: =Guide!$B$37 -> 336 - Coiffure, esthétique | J50: =COUNTIFS('Suivi des actions'!$C$4:$C$43,$B50) -> 0 | N50: =SUMIFS('Suivi des actions'!$L$4:$L$43,'Suivi des actions'!$C$4:$C$43,$B50) -> 0 | R50: =SUMIFS('Suivi des actions'!$P$4:$P$43,'Suivi des actions'!$C$4:$C$43,$B50) -> 0 | V50: =IF($R50=0,"",RANK($R50,$R$39:$R$53))
B51: =Guide!$B$38 -> 344 - Sécurité des biens et des personnes | J51: =COUNTIFS('Suivi des actions'!$C$4:$C$43,$B51) -> 1 | N51: =SUMIFS('Suivi des actions'!$L$4:$L$43,'Suivi des actions'!$C$4:$C$43,$B51) -> 58 | R51: =SUMIFS('Suivi des actions'!$P$4:$P$43,'Suivi des actions'!$C$4:$C$43,$B51) -> 1218 | V51: =IF($R51=0,"",RANK($R51,$R$39:$R$53)) -> 5
B52: =Guide!$B$39 -> 411 - Pratiques sportives | J52: =COUNTIFS('Suivi des actions'!$C$4:$C$43,$B52) -> 0 | N52: =SUMIFS('Suivi des actions'!$L$4:$L$43,'Suivi des actions'!$C$4:$C$43,$B52) -> 0 | R52: =SUMIFS('Suivi des actions'!$P$4:$P$43,'Suivi des actions'!$C$4:$C$43,$B52) -> 0 | V52: =IF($R52=0,"",RANK($R52,$R$39:$R$53))
B53: =Guide!$B$40 -> 415 - Bilan de compétences, orientation | J53: =COUNTIFS('Suivi des actions'!$C$4:$C$43,$B53) -> 1 | N53: =SUMIFS('Suivi des actions'!$L$4:$L$43,'Suivi des actions'!$C$4:$C$43,$B53) -> 13 | R53: =SUMIFS('Suivi des actions'!$P$4:$P$43,'Suivi des actions'!$C$4:$C$43,$B53) -> 312 | V53: =IF($R53=0,"",RANK($R53,$R$39:$R$53)) -> 9
B54: TOTAL | J54: =SUM(J39:J53) -> 13 | N54: =SUM(N39:N53) -> 347 | R54: =SUM(R39:R53) -> 40685
B55: ▸ Les spécialités classées de rang 1 à 5 constituent vos cinq principales spécialités de formation. | R55: Contrôle H-stag. | V55: =IF(R54=SUM('Suivi des actions'!$P$4:$P$43),"✓ Cohérent","⚠ Écart") -> ✓ Cohérent
B57: MODALITÉS PÉDAGOGIQUES · INTERVENANTS
B59: Modalité | H59: Actions | J59: Heures | L59: Part | N59: Intervenant | T59: Actions | V59: Heures | X59: Part
B60: =Guide!$D$18 -> Présentiel | H60: =COUNTIFS('Suivi des actions'!$F$4:$F$43,$B60) -> 5 | J60: =SUMIFS('Suivi des actions'!$P$4:$P$43,'Suivi des actions'!$F$4:$F$43,$B60) -> 18165 | L60: =IFERROR(J60/SUM('Suivi des actions'!$P$4:$P$43),"") -> 0.44647905 | N60: =Guide!$E$18 -> Interne | T60: =COUNTIFS('Suivi des actions'!$G$4:$G$43,$N60) -> 8 | V60: =SUMIFS('Suivi des actions'!$P$4:$P$43,'Suivi des actions'!$G$4:$G$43,$N60) -> 29684 | X60: =IFERROR(V60/SUM('Suivi des actions'!$P$4:$P$43),"") -> 0.72960551
B61: =Guide!$D$19 -> Distanciel (FOAD) | H61: =COUNTIFS('Suivi des actions'!$F$4:$F$43,$B61) -> 3 | J61: =SUMIFS('Suivi des actions'!$P$4:$P$43,'Suivi des actions'!$F$4:$F$43,$B61) -> 3238 | L61: =IFERROR(J61/SUM('Suivi des actions'!$P$4:$P$43),"") -> 0.079587071 | N61: =Guide!$E$19 -> Externe (sous-traitance) | T61: =COUNTIFS('Suivi des actions'!$G$4:$G$43,$N61) -> 5 | V61: =SUMIFS('Suivi des actions'!$P$4:$P$43,'Suivi des actions'!$G$4:$G$43,$N61) -> 11001 | X61: =IFERROR(V61/SUM('Suivi des actions'!$P$4:$P$43),"") -> 0.27039449
B62: =Guide!$D$20 -> Mixte | H62: =COUNTIFS('Suivi des actions'!$F$4:$F$43,$B62) -> 5 | J62: =SUMIFS('Suivi des actions'!$P$4:$P$43,'Suivi des actions'!$F$4:$F$43,$B62) -> 19282 | L62: =IFERROR(J62/SUM('Suivi des actions'!$P$4:$P$43),"") -> 0.47393388
B63: =Guide!$D$21 -> AFEST | H63: =COUNTIFS('Suivi des actions'!$F$4:$F$43,$B63) -> 0 | J63: =SUMIFS('Suivi des actions'!$P$4:$P$43,'Suivi des actions'!$F$4:$F$43,$B63) -> 0 | L63: =IFERROR(J63/SUM('Suivi des actions'!$P$4:$P$43),"") -> 0
B64: TOTAL | H64: =SUM(H60:H63) -> 13 | J64: =SUM(J60:J63) -> 40685 | L64: =IFERROR(SUM(J60:J63)/SUM('Suivi des actions'!$P$4:$P$43),"") -> 1 | N64: TOTAL | T64: =SUM(T60:T63) -> 13 | V64: =SUM(V60:V63) -> 40685 | X64: =IFERROR(SUM(V60:V63)/SUM('Suivi des actions'!$P$4:$P$43),"") -> 1
B66: VISUALISATION
B83: Modèle de bilan pédagogique — données d'exemple fictives. Renseignez l'onglet « Suivi des actions » : la synthèse se recalcule automatiquement.

Sheet Suivi des actions
A1: SUIVI DES ACTIONS DE FORMATION
A2: Exercice 2027 · cellules bleutées = à saisir · colonnes grisées = calculées automatiquement
A3: Code action | B3: Intitulé de l'action | C3: Spécialité (NSF) | D3: Objectif général | E3: Type de public | F3: Modalité | G3: Intervenant | H3: Début | I3: Fin | J3: Sessions | K3: Inscrits | L3: Formés | M3: Abandons | N3: Durée (h) | O3: H-stag. prév. | P3: H-stag. réal. | Q3: Réalisation | R3: Certifiés | S3: Réussite | T3: Satisf. /10
A4: NOV-27-01 | B4: Manager de proximité – parcours certifiant | C4: 315 - Ressources humaines | D4: Certification / habilitation RS | E4: Salariés (secteur privé) | F4: Mixte | G4: Interne | H4: 46400 | I4: 46501 | J4: 2 | K4: 24 | L4: 22 | M4: =IF($K4="","",$K4-$L4) -> 2 | N4: 56 | O4: =IF(OR($K4="",$N4=""),"",$K4*$N4) -> 1344 | P4: =IF(OR($L4="",$N4=""),"",$L4*$N4) -> 1232 | Q4: =IF(OR($O4="",$O4=0),"",$P4/$O4) -> 0.91666667 | R4: 20 | S4: =IF(OR($L4="",$L4=0,$R4=""),"",$R4/$L4) -> 0.90909091 | T4: 8.9
A5: NOV-27-02 | B5: Cybersécurité – fondamentaux | C5: 326 - Informatique, réseaux | D5: Autre formation professionnelle continue | E5: Salariés (secteur privé) | F5: Distanciel (FOAD) | G5: Externe (sous-traitance) | H5: 46420 | I5: 46424 | J5: 4 | K5: 52 | L5: 49 | M5: =IF($K5="","",$K5-$L5) -> 3 | N5: 28 | O5: =IF(OR($K5="",$N5=""),"",$K5*$N5) -> 1456 | P5: =IF(OR($L5="",$N5=""),"",$L5*$N5) -> 1372 | Q5: =IF(OR($O5="",$O5=0),"",$P5/$O5) -> 0.94230769 | S5: =IF(OR($L5="",$L5=0,$R5=""),"",$R5/$L5) | T5: 8.6
A6: NOV-27-03 | B6: Titre pro Négociateur technico-commercial | C6: 312 - Commerce, vente | D6: Diplôme / titre RNCP | E6: Demandeurs d'emploi | F6: Présentiel | G6: Interne | H6: 46398 | I6: 46577 | J6: 1 | K6: 15 | L6: 12 | M6: =IF($K6="","",$K6-$L6) -> 3 | N6: 616 | O6: =IF(OR($K6="",$N6=""),"",$K6*$N6) -> 9240 | P6: =IF(OR($L6="",$N6=""),"",$L6*$N6) -> 7392 | Q6: =IF(OR($O6="",$O6=0),"",$P6/$O6) -> 0.8 | R6: 10 | S6: =IF(OR($L6="",$L6=0,$R6=""),"",$R6/$L6) -> 0.83333333 | T6: 8.4
A7: NOV-27-04 | B7: Espagnol professionnel A2 → B1 | C7: 136 - Langues vivantes | D7: Certification / habilitation RS | E7: Salariés (secteur privé) | F7: Distanciel (FOAD) | G7: Externe (sous-traitance) | H7: 46455 | I7: 46564 | J7: 3 | K7: 34 | L7: 30 | M7: =IF($K7="","",$K7-$L7) -> 4 | N7: 30 | O7: =IF(OR($K7="",$N7=""),"",$K7*$N7) -> 1020 | P7: =IF(OR($L7="",$N7=""),"",$L7*$N7) -> 900 | Q7: =IF(OR($O7="",$O7=0),"",$P7/$O7) -> 0.88235294 | R7: 25 | S7: =IF(OR($L7="",$L7=0,$R7=""),"",$R7/$L7) -> 0.83333333 | T7: 8.2
A8: NOV-27-05 | B8: Comptabilité & gestion de la paie | C8: 314 - Comptabilité, gestion | D8: Autre formation professionnelle continue | E8: Demandeurs d'emploi | F8: Présentiel | G8: Interne | H8: 46483 | I8: 46529 | J8: 1 | K8: 18 | L8: 16 | M8: =IF($K8="","",$K8-$L8) -> 2 | N8: 140 | O8: =IF(OR($K8="",$N8=""),"",$K8*$N8) -> 2520 | P8: =IF(OR($L8="",$N8=""),"",$L8*$N8) -> 2240 | Q8: =IF(OR($O8="",$O8=0),"",$P8/$O8) -> 0.88888889 | S8: =IF(OR($L8="",$L8=0,$R8=""),"",$R8/$L8) | T8: 8.7
A9: NOV-27-06 | B9: Développeur web full-stack – titre pro | C9: 326 - Informatique, réseaux | D9: Diplôme / titre RNCP | E9: Demandeurs d'emploi | F9: Mixte | G9: Interne | H9: 46405 | I9: 46598 | J9: 1 | K9: 20 | L9: 15 | M9: =IF($K9="","",$K9-$L9) -> 5 | N9: 735 | O9: =IF(OR($K9="",$N9=""),"",$K9*$N9) -> 14700 | P9: =IF(OR($L9="",$N9=""),"",$L9*$N9) -> 11025 | Q9: =IF(OR($O9="",$O9=0),"",$P9/$O9) -> 0.75 | R9: 12 | S9: =IF(OR($L9="",$L9=0,$R9=""),"",$R9/$L9) -> 0.8 | T9: 9
A10: NOV-27-07 | B10: Habilitation électrique B1-B2 | C10: 344 - Sécurité des biens et des personnes | D10: Certification / habilitation RS | E10: Salariés (secteur privé) | F10: Présentiel | G10: Externe (sous-traitance) | H10: 46511 | I10: 46513 | J10: 5 | K10: 60 | L10: 58 | M10: =IF($K10="","",$K10-$L10) -> 2 | N10: 21 | O10: =IF(OR($K10="",$N10=""),"",$K10*$N10) -> 1260 | P10: =IF(OR($L10="",$N10=""),"",$L10*$N10) -> 1218 | Q10: =IF(OR($O10="",$O10=0),"",$P10/$O10) -> 0.96666667 | R10: 57 | S10: =IF(OR($L10="",$L10=0,$R10=""),"",$R10/$L10) -> 0.98275862 | T10: 9.2
A11: NOV-27-08 | B11: Bilan de compétences | C11: 415 - Bilan de compétences, orientation | D11: Bilan de compétences | E11: Particuliers (à leurs frais) | F11: Mixte | G11: Interne | H11: 46399 | I11: 46675 | J11: 1 | K11: 14 | L11: 13 | M11: =IF($K11="","",$K11-$L11) -> 1 | N11: 24 | O11: =IF(OR($K11="",$N11=""),"",$K11*$N11) -> 336 | P11: =IF(OR($L11="",$N11=""),"",$L11*$N11) -> 312 | Q11: =IF(OR($O11="",$O11=0),"",$P11/$O11) -> 0.92857143 | R11: 13 | S11: =IF(OR($L11="",$L11=0,$R11=""),"",$R11/$L11) -> 1 | T11: 9.3
A12: NOV-27-09 | B12: VAE Éducateur spécialisé | C12: 332 - Travail social | D12: VAE | E12: Demandeurs d'emploi | F12: Mixte | G12: Interne | H12: 46407 | I12: 46709 | J12: 1 | K12: 8 | L12: 7 | M12: =IF($K12="","",$K12-$L12) -> 1 | N12: 24 | O12: =IF(OR($K12="",$N12=""),"",$K12*$N12) -> 192 | P12: =IF(OR($L12="",$N12=""),"",$L12*$N12) -> 168 | Q12: =IF(OR($O12="",$O12=0),"",$P12/$O12) -> 0.875 | R12: 6 | S12: =IF(OR($L12="",$L12=0,$R12=""),"",$R12/$L12) -> 0.85714286 | T12: 8.5
A13: NOV-27-10 | B13: CQP Employé commercial | C13: 312 - Commerce, vente | D13: CQP | E13: Apprentis | F13: Présentiel | G13: Interne | H13: 46632 | I13: 46738 | J13: 1 | K13: 16 | L13: 15 | M13: =IF($K13="","",$K13-$L13) -> 1 | N13: 455 | O13: =IF(OR($K13="",$N13=""),"",$K13*$N13) -> 7280 | P13: =IF(OR($L13="",$N13=""),"",$L13*$N13) -> 6825 | Q13: =IF(OR($O13="",$O13=0),"",$P13/$O13) -> 0.9375 | R13: 13 | S13: =IF(OR($L13="",$L13=0,$R13=""),"",$R13/$L13) -> 0.86666667 | T13: 8.6
A14: NOV-27-11 | B14: Community & content management | C14: 320 - Communication, information | D14: Autre formation professionnelle continue | E14: Autres stagiaires | F14: Distanciel (FOAD) | G14: Externe (sous-traitance) | H14: 46644 | I14: 46683 | J14: 2 | K14: 26 | L14: 23 | M14: =IF($K14="","",$K14-$L14) -> 3 | N14: 42 | O14: =IF(OR($K14="",$N14=""),"",$K14*$N14) -> 1092 | P14: =IF(OR($L14="",$N14=""),"",$L14*$N14) -> 966 | Q14: =IF(OR($O14="",$O14=0),"",$P14/$O14) -> 0.88461538 | S14: =IF(OR($L14="",$L14=0,$R14=""),"",$R14/$L14) | T14: 8.8
A15: NOV-27-12 | B15: Assistant ressources humaines – titre pro | C15: 315 - Ressources humaines | D15: Diplôme / titre RNCP | E15: Salariés (secteur privé) | F15: Mixte | G15: Externe (sous-traitance) | H15: 46426 | I15: 46563 | J15: 1 | K15: 19 | L15: 17 | M15: =IF($K15="","",$K15-$L15) -> 2 | N15: 385 | O15: =IF(OR($K15="",$N15=""),"",$K15*$N15) -> 7315 | P15: =IF(OR($L15="",$N15=""),"",$L15*$N15) -> 6545 | Q15: =IF(OR($O15="",$O15=0),"",$P15/$O15) -> 0.89473684 | R15: 14 | S15: =IF(OR($L15="",$L15=0,$R15=""),"",$R15/$L15) -> 0.82352941 | T15: 8.3
A16: NOV-27-13 | B16: SST – recyclage sauveteur secouriste | C16: 331 - Santé | D16: Certification / habilitation RS | E16: Salariés (secteur privé) | F16: Présentiel | G16: Interne | H16: 46553 | I16: 46553 | J16: 6 | K16: 72 | L16: 70 | M16: =IF($K16="","",$K16-$L16) -> 2 | N16: 7 | O16: =IF(OR($K16="",$N16=""),"",$K16*$N16) -> 504 | P16: =IF(OR($L16="",$N16=""),"",$L16*$N16) -> 490 | Q16: =IF(OR($O16="",$O16=0),"",$P16/$O16) -> 0.97222222 | R16: 70 | S16: =IF(OR($L16="",$L16=0,$R16=""),"",$R16/$L16) -> 1 | T16: 9.1
M17: =IF($K17="","",$K17-$L17) | O17: =IF(OR($K17="",$N17=""),"",$K17*$N17) | P17: =IF(OR($L17="",$N17=""),"",$L17*$N17) | Q17: =IF(OR($O17="",$O17=0),"",$P17/$O17) | S17: =IF(OR($L17="",$L17=0,$R17=""),"",$R17/$L17)
M18: =IF($K18="","",$K18-$L18) | O18: =IF(OR($K18="",$N18=""),"",$K18*$N18) | P18: =IF(OR($L18="",$N18=""),"",$L18*$N18) | Q18: =IF(OR($O18="",$O18=0),"",$P18/$O18) | S18: =IF(OR($L18="",$L18=0,$R18=""),"",$R18/$L18)
M19: =IF($K19="","",$K19-$L19) | O19: =IF(OR($K19="",$N19=""),"",$K19*$N19) | P19: =IF(OR($L19="",$N19=""),"",$L19*$N19) | Q19: =IF(OR($O19="",$O19=0),"",$P19/$O19) | S19: =IF(OR($L19="",$L19=0,$R19=""),"",$R19/$L19)
M20: =IF($K20="","",$K20-$L20) | O20: =IF(OR($K20="",$N20=""),"",$K20*$N20) | P20: =IF(OR($L20="",$N20=""),"",$L20*$N20) | Q20: =IF(OR($O20="",$O20=0),"",$P20/$O20) | S20: =IF(OR($L20="",$L20=0,$R20=""),"",$R20/$L20)
M21: =IF($K21="","",$K21-$L21) | O21: =IF(OR($K21="",$N21=""),"",$K21*$N21) | P21: =IF(OR($L21="",$N21=""),"",$L21*$N21) | Q21: =IF(OR($O21="",$O21=0),"",$P21/$O21) | S21: =IF(OR($L21="",$L21=0,$R21=""),"",$R21/$L21)
M22: =IF($K22="","",$K22-$L22) | O22: =IF(OR($K22="",$N22=""),"",$K22*$N22) | P22: =IF(OR($L22="",$N22=""),"",$L22*$N22) | Q22: =IF(OR($O22="",$O22=0),"",$P22/$O22) | S22: =IF(OR($L22="",$L22=0,$R22=""),"",$R22/$L22)
M23: =IF($K23="","",$K23-$L23) | O23: =IF(OR($K23="",$N23=""),"",$K23*$N23) | P23: =IF(OR($L23="",$N23=""),"",$L23*$N23) | Q23: =IF(OR($O23="",$O23=0),"",$P23/$O23) | S23: =IF(OR($L23="",$L23=0,$R23=""),"",$R23/$L23)
M24: =IF($K24="","",$K24-$L24) | O24: =IF(OR($K24="",$N24=""),"",$K24*$N24) | P24: =IF(OR($L24="",$N24=""),"",$L24*$N24) | Q24: =IF(OR($O24="",$O24=0),"",$P24/$O24) | S24: =IF(OR($L24="",$L24=0,$R24=""),"",$R24/$L24)
M25: =IF($K25="","",$K25-$L25) | O25: =IF(OR($K25="",$N25=""),"",$K25*$N25) | P25: =IF(OR($L25="",$N25=""),"",$L25*$N25) | Q25: =IF(OR($O25="",$O25=0),"",$P25/$O25) | S25: =IF(OR($L25="",$L25=0,$R25=""),"",$R25/$L25)
M26: =IF($K26="","",$K26-$L26) | O26: =IF(OR($K26="",$N26=""),"",$K26*$N26) | P26: =IF(OR($L26="",$N26=""),"",$L26*$N26) | Q26: =IF(OR($O26="",$O26=0),"",$P26/$O26) | S26: =IF(OR($L26="",$L26=0,$R26=""),"",$R26/$L26)
M27: =IF($K27="","",$K27-$L27) | O27: =IF(OR($K27="",$N27=""),"",$K27*$N27) | P27: =IF(OR($L27="",$N27=""),"",$L27*$N27) | Q27: =IF(OR($O27="",$O27=0),"",$P27/$O27) | S27: =IF(OR($L27="",$L27=0,$R27=""),"",$R27/$L27)
M28: =IF($K28="","",$K28-$L28) | O28: =IF(OR($K28="",$N28=""),"",$K28*$N28) | P28: =IF(OR($L28="",$N28=""),"",$L28*$N28) | Q28: =IF(OR($O28="",$O28=0),"",$P28/$O28) | S28: =IF(OR($L28="",$L28=0,$R28=""),"",$R28/$L28)
... M43: =IF($K43="","",$K43-$L43) | O43: =IF(OR($K43="",$N43=""),"",$K43*$N43) | P43: =IF(OR($L43="",$N43=""),"",$L43*$N43) | Q43: =IF(OR($O43="",$O43=0),"",$P43/$O43) | S43: =IF(OR($L43="",$L43=0,$R43=""),"",$R43/$L43)

Sheet Guide
B2: GUIDE D'UTILISATION
B3: Bilan pédagogique — notice & listes de référence
B5: MODE D'EMPLOI
B7: 1. Saisissez vos formations dans l'onglet « Suivi des actions » — une ligne correspond à une action de formation de l'exercice.
B8: 2. Les cellules sur fond bleu clair sont à renseigner. Les colonnes sur fond gris se calculent automatiquement : ne rien y saisir.
B9: 3. Les menus déroulants (spécialité, objectif, public, modalité, intervenant) sont alimentés par les listes ci-dessous. Adaptez-les à votre activité.
B10: 4. L'onglet « Synthèse » se met à jour seul : indicateurs, répartitions par public / objectif / spécialité, modalités, intervenants et graphiques.
B11: 5. Heures-stagiaires = nombre de stagiaires × durée de l'action (en heures). C'est la donnée volumétrique de référence du bilan.
B12: 6. Dans la répartition par spécialité, les cinq premières lignes du classement (rang 1 à 5) sont vos principales spécialités de formation.
B13: 7. Toutes les données affichées sont fictives : remplacez-les par les vôtres. La devise et les formats s'adaptent aux conventions françaises.
B15: LISTES DE RÉFÉRENCE
B17: Types de public | C17: Objectifs généraux | D17: Modalités | E17: Intervenants
B18: Salariés (secteur privé) | C18: Diplôme / titre RNCP | D18: Présentiel | E18: Interne
B19: Demandeurs d'emploi | C19: Certification / habilitation RS | D19: Distanciel (FOAD) | E19: Externe (sous-traitance)
B20: Particuliers (à leurs frais) | C20: CQP | D20: Mixte
B21: Autres stagiaires | C21: VAE | D21: AFEST
B22: Apprentis | C22: Bilan de compétences
C23: Autre formation professionnelle continue
B25: Spécialités de formation (code NSF)
B26: 136 - Langues vivantes
B27: 312 - Commerce, vente
B28: 314 - Comptabilité, gestion
B29: 315 - Ressources humaines
B30: 320 - Communication, information
B31: 324 - Secrétariat, bureautique
B32: 326 - Informatique, réseaux
B33: 331 - Santé
B34: 332 - Travail social
B35: 333 - Enseignement, formation
B36: 334 - Accueil, hôtellerie, tourisme
... B42: Codes NSF issus de la nomenclature officielle des spécialités de formation. Ajustez les libellés selon votre offre.
