Workbook
Name liste_formateur: Paramètres!$E$14:$E$15
Name liste_modalite: Paramètres!$D$14:$D$17
Name liste_objectif: Paramètres!$C$14:$C$19
Name liste_public: Paramètres!$B$14:$B$18
Name liste_specialite: Paramètres!$B$22:$B$36

Sheet Synthèse
B2: BILAN PÉDAGOGIQUE
B6: Organisme de formation | C6: Centre Exemple Formation | H6: N° de déclaration (NDA) | I6: 12 34 56789 34
B7: Exercice / période | C7: 46388 | D7: au | E7: 46752
B9: INDICATEURS CLÉS
B10: ACTIONS DE FORMATION | D10: STAGIAIRES FORMÉS | F10: HEURES-STAGIAIRES | H10: SESSIONS RÉALISÉES
B11: =COUNTA('Suivi des actions'!$A$3:$A$42) -> 12 | D11: =SUM('Suivi des actions'!$L$3:$L$42) -> 214 | F11: =SUM('Suivi des actions'!$P$3:$P$42) -> 27328 | H11: =SUM('Suivi des actions'!$J$3:$J$42) -> 22
B13: TAUX DE RÉALISATION | D13: TAUX DE RÉUSSITE | F13: TAUX D'ABANDON | H13: SATISFACTION MOYENNE
B14: =IFERROR(SUM('Suivi des actions'!$P$3:$P$42)/SUM('Suivi des actions'!$O$3:$O$42),"") -> 0.85285398 | D14: =IFERROR(SUM('Suivi des actions'!$R$3:$R$42)/SUMPRODUCT(--ISNUMBER('Suivi des actions'!$R$3:$R$42),'Suivi des actions'!$L$3:$L$42),"") -> 0.90909091 | F14: =IFERROR(SUM('Suivi des actions'!$M$3:$M$42)/SUM('Suivi des actions'!$K$3:$K$42),"") -> 0.085470085 | H14: =IFERROR(SUMPRODUCT('Suivi des actions'!$L$3:$L$42,'Suivi des actions'!$T$3:$T$42)/SUM('Suivi des actions'!$L$3:$L$42),"") -> 8.8028037
B16: Répartition par type de public (Cadre F-1) | H16: Répartition par objectif (Cadre F-3)
B17: Type de public | C17: Stagiaires | D17: Heures-stag. | E17: % heures | F17: Actions | H17: Objectif général | I17: Actions | J17: Stagiaires | K17: Heures-stag.
B18: =Paramètres!$B$14 -> Salariés (secteur privé) | C18: =SUMIFS('Suivi des actions'!$L$3:$L$42,'Suivi des actions'!$E$3:$E$42,$B18) -> 145 | D18: =SUMIFS('Suivi des actions'!$P$3:$P$42,'Suivi des actions'!$E$3:$E$42,$B18) -> 3342 | E18: =IFERROR($D18/SUM('Suivi des actions'!$P$3:$P$42),"") -> 0.12229215 | F18: =COUNTIFS('Suivi des actions'!$E$3:$E$42,$B18) -> 6 | H18: =Paramètres!$C$14 -> Diplôme / titre RNCP | I18: =COUNTIFS('Suivi des actions'!$D$3:$D$42,$H18) -> 3 | J18: =SUMIFS('Suivi des actions'!$L$3:$L$42,'Suivi des actions'!$D$3:$D$42,$H18) -> 34 | K18: =SUMIFS('Suivi des actions'!$P$3:$P$42,'Suivi des actions'!$D$3:$D$42,$H18) -> 18340
B19: =Paramètres!$B$15 -> Demandeurs d'emploi | C19: =SUMIFS('Suivi des actions'!$L$3:$L$42,'Suivi des actions'!$E$3:$E$42,$B19) -> 31 | D19: =SUMIFS('Suivi des actions'!$P$3:$P$42,'Suivi des actions'!$E$3:$E$42,$B19) -> 13444 | E19: =IFERROR($D19/SUM('Suivi des actions'!$P$3:$P$42),"") -> 0.49194965 | F19: =COUNTIFS('Suivi des actions'!$E$3:$E$42,$B19) -> 3 | H19: =Paramètres!$C$15 -> Certification / habilitation RS | I19: =COUNTIFS('Suivi des actions'!$D$3:$D$42,$H19) -> 3 | J19: =SUMIFS('Suivi des actions'!$L$3:$L$42,'Suivi des actions'!$D$3:$D$42,$H19) -> 94 | K19: =SUMIFS('Suivi des actions'!$P$3:$P$42,'Suivi des actions'!$D$3:$D$42,$H19) -> 2006
B20: =Paramètres!$B$16 -> Particuliers (à leurs frais) | C20: =SUMIFS('Suivi des actions'!$L$3:$L$42,'Suivi des actions'!$E$3:$E$42,$B20) -> 9 | D20: =SUMIFS('Suivi des actions'!$P$3:$P$42,'Suivi des actions'!$E$3:$E$42,$B20) -> 5040 | E20: =IFERROR($D20/SUM('Suivi des actions'!$P$3:$P$42),"") -> 0.18442623 | F20: =COUNTIFS('Suivi des actions'!$E$3:$E$42,$B20) -> 1 | H20: =Paramètres!$C$16 -> CQP | I20: =COUNTIFS('Suivi des actions'!$D$3:$D$42,$H20) -> 1 | J20: =SUMIFS('Suivi des actions'!$L$3:$L$42,'Suivi des actions'!$D$3:$D$42,$H20) -> 11 | K20: =SUMIFS('Suivi des actions'!$P$3:$P$42,'Suivi des actions'!$D$3:$D$42,$H20) -> 4620
B21: =Paramètres!$B$17 -> Autres stagiaires | C21: =SUMIFS('Suivi des actions'!$L$3:$L$42,'Suivi des actions'!$E$3:$E$42,$B21) -> 18 | D21: =SUMIFS('Suivi des actions'!$P$3:$P$42,'Suivi des actions'!$E$3:$E$42,$B21) -> 882 | E21: =IFERROR($D21/SUM('Suivi des actions'!$P$3:$P$42),"") -> 0.03227459 | F21: =COUNTIFS('Suivi des actions'!$E$3:$E$42,$B21) -> 1 | H21: =Paramètres!$C$17 -> VAE | I21: =COUNTIFS('Suivi des actions'!$D$3:$D$42,$H21) -> 1 | J21: =SUMIFS('Suivi des actions'!$L$3:$L$42,'Suivi des actions'!$D$3:$D$42,$H21) -> 6 | K21: =SUMIFS('Suivi des actions'!$P$3:$P$42,'Suivi des actions'!$D$3:$D$42,$H21) -> 144
B22: =Paramètres!$B$18 -> Apprentis | C22: =SUMIFS('Suivi des actions'!$L$3:$L$42,'Suivi des actions'!$E$3:$E$42,$B22) -> 11 | D22: =SUMIFS('Suivi des actions'!$P$3:$P$42,'Suivi des actions'!$E$3:$E$42,$B22) -> 4620 | E22: =IFERROR($D22/SUM('Suivi des actions'!$P$3:$P$42),"") -> 0.16905738 | F22: =COUNTIFS('Suivi des actions'!$E$3:$E$42,$B22) -> 1 | H22: =Paramètres!$C$18 -> Bilan de compétences | I22: =COUNTIFS('Suivi des actions'!$D$3:$D$42,$H22) -> 1 | J22: =SUMIFS('Suivi des actions'!$L$3:$L$42,'Suivi des actions'!$D$3:$D$42,$H22) -> 9 | K22: =SUMIFS('Suivi des actions'!$P$3:$P$42,'Suivi des actions'!$D$3:$D$42,$H22) -> 216
B23: TOTAL | C23: =SUM(C18:C22) -> 214 | D23: =SUM(D18:D22) -> 27328 | E23: =IFERROR($D23/SUM('Suivi des actions'!$P$3:$P$42),"") -> 1 | F23: =SUM(F18:F22) -> 12 | H23: =Paramètres!$C$19 -> Autre formation professionnelle continue | I23: =COUNTIFS('Suivi des actions'!$D$3:$D$42,$H23) -> 3 | J23: =SUMIFS('Suivi des actions'!$L$3:$L$42,'Suivi des actions'!$D$3:$D$42,$H23) -> 60 | K23: =SUMIFS('Suivi des actions'!$P$3:$P$42,'Suivi des actions'!$D$3:$D$42,$H23) -> 2002
H24: TOTAL | I24: =SUM(I18:I23) -> 12 | J24: =SUM(J18:J23) -> 214 | K24: =SUM(K18:K23) -> 27328
B26: Répartition par spécialité de formation (Cadre F-4) | H26: Répartition par modalité
B27: Spécialité (code NSF) | C27: Actions | D27: Stagiaires | E27: Heures-stag. | F27: Rang | H27: Modalité | I27: Actions | J27: Heures-stag. | K27: % heures
B28: =Paramètres!$B$22 -> 136 - Langues vivantes | C28: =COUNTIFS('Suivi des actions'!$C$3:$C$42,$B28) -> 1 | D28: =SUMIFS('Suivi des actions'!$L$3:$L$42,'Suivi des actions'!$C$3:$C$42,$B28) -> 19 | E28: =SUMIFS('Suivi des actions'!$P$3:$P$42,'Suivi des actions'!$C$3:$C$42,$B28) -> 760 | F28: =IF($E28=0,"",RANK($E28,$E$28:$E$42)) -> 5 | H28: =Paramètres!$D$14 -> Présentiel | I28: =COUNTIFS('Suivi des actions'!$F$3:$F$42,$H28) -> 5 | J28: =SUMIFS('Suivi des actions'!$P$3:$P$42,'Suivi des actions'!$F$3:$F$42,$H28) -> 15078 | K28: =IFERROR($J28/SUM('Suivi des actions'!$P$3:$P$42),"") -> 0.5517418
B29: =Paramètres!$B$23 -> 312 - Commerce, vente | C29: =COUNTIFS('Suivi des actions'!$C$3:$C$42,$B29) -> 2 | D29: =SUMIFS('Suivi des actions'!$L$3:$L$42,'Suivi des actions'!$C$3:$C$42,$B29) -> 23 | E29: =SUMIFS('Suivi des actions'!$P$3:$P$42,'Suivi des actions'!$C$3:$C$42,$B29) -> 8820 | F29: =IF($E29=0,"",RANK($E29,$E$28:$E$42)) -> 2 | H29: =Paramètres!$D$15 -> Distanciel (FOAD) | I29: =COUNTIFS('Suivi des actions'!$F$3:$F$42,$H29) -> 3 | J29: =SUMIFS('Suivi des actions'!$P$3:$P$42,'Suivi des actions'!$F$3:$F$42,$H29) -> 2230 | K29: =IFERROR($J29/SUM('Suivi des actions'!$P$3:$P$42),"") -> 0.081601288
B30: =Paramètres!$B$24 -> 314 - Comptabilité, gestion | C30: =COUNTIFS('Suivi des actions'!$C$3:$C$42,$B30) -> 1 | D30: =SUMIFS('Suivi des actions'!$L$3:$L$42,'Suivi des actions'!$C$3:$C$42,$B30) -> 17 | E30: =SUMIFS('Suivi des actions'!$P$3:$P$42,'Suivi des actions'!$C$3:$C$42,$B30) -> 595 | F30: =IF($E30=0,"",RANK($E30,$E$28:$E$42)) -> 7 | H30: =Paramètres!$D$16 -> Mixte | I30: =COUNTIFS('Suivi des actions'!$F$3:$F$42,$H30) -> 4 | J30: =SUMIFS('Suivi des actions'!$P$3:$P$42,'Suivi des actions'!$F$3:$F$42,$H30) -> 10020 | K30: =IFERROR($J30/SUM('Suivi des actions'!$P$3:$P$42),"") -> 0.36665691
B31: =Paramètres!$B$25 -> 315 - Ressources humaines | C31: =COUNTIFS('Suivi des actions'!$C$3:$C$42,$B31) -> 1 | D31: =SUMIFS('Suivi des actions'!$L$3:$L$42,'Suivi des actions'!$C$3:$C$42,$B31) -> 25 | E31: =SUMIFS('Suivi des actions'!$P$3:$P$42,'Suivi des actions'!$C$3:$C$42,$B31) -> 525 | F31: =IF($E31=0,"",RANK($E31,$E$28:$E$42)) -> 9 | H31: =Paramètres!$D$17 -> AFEST | I31: =COUNTIFS('Suivi des actions'!$F$3:$F$42,$H31) -> 0 | J31: =SUMIFS('Suivi des actions'!$P$3:$P$42,'Suivi des actions'!$F$3:$F$42,$H31) -> 0 | K31: =IFERROR($J31/SUM('Suivi des actions'!$P$3:$P$42),"") -> 0
B32: =Paramètres!$B$26 -> 320 - Communication, information | C32: =COUNTIFS('Suivi des actions'!$C$3:$C$42,$B32) -> 1 | D32: =SUMIFS('Suivi des actions'!$L$3:$L$42,'Suivi des actions'!$C$3:$C$42,$B32) -> 18 | E32: =SUMIFS('Suivi des actions'!$P$3:$P$42,'Suivi des actions'!$C$3:$C$42,$B32) -> 882 | F32: =IF($E32=0,"",RANK($E32,$E$28:$E$42)) -> 4 | H32: TOTAL | I32: =SUM(I28:I31) -> 12 | J32: =SUM(J28:J31) -> 27328 | K32: =IFERROR($J32/SUM('Suivi des actions'!$P$3:$P$42),"") -> 1
B33: =Paramètres!$B$27 -> 324 - Secrétariat, bureautique | C33: =COUNTIFS('Suivi des actions'!$C$3:$C$42,$B33) -> 1 | D33: =SUMIFS('Suivi des actions'!$L$3:$L$42,'Suivi des actions'!$C$3:$C$42,$B33) -> 28 | E33: =SUMIFS('Suivi des actions'!$P$3:$P$42,'Suivi des actions'!$C$3:$C$42,$B33) -> 588 | F33: =IF($E33=0,"",RANK($E33,$E$28:$E$42)) -> 8
B34: =Paramètres!$B$28 -> 326 - Informatique, réseaux | C34: =COUNTIFS('Suivi des actions'!$C$3:$C$42,$B34) -> 1 | D34: =SUMIFS('Suivi des actions'!$L$3:$L$42,'Suivi des actions'!$C$3:$C$42,$B34) -> 13 | E34: =SUMIFS('Suivi des actions'!$P$3:$P$42,'Suivi des actions'!$C$3:$C$42,$B34) -> 9100 | F34: =IF($E34=0,"",RANK($E34,$E$28:$E$42)) -> 1 | H34: Personnes dispensant les heures
B35: =Paramètres!$B$29 -> 331 - Santé | C35: =COUNTIFS('Suivi des actions'!$C$3:$C$42,$B35) -> 1 | D35: =SUMIFS('Suivi des actions'!$L$3:$L$42,'Suivi des actions'!$C$3:$C$42,$B35) -> 6 | E35: =SUMIFS('Suivi des actions'!$P$3:$P$42,'Suivi des actions'!$C$3:$C$42,$B35) -> 144 | F35: =IF($E35=0,"",RANK($E35,$E$28:$E$42)) -> 11 | H35: Formateur | I35: Actions | J35: Heures-stag. | K35: % heures
B36: =Paramètres!$B$30 -> 332 - Travail social | C36: =COUNTIFS('Suivi des actions'!$C$3:$C$42,$B36) -> 1 | D36: =SUMIFS('Suivi des actions'!$L$3:$L$42,'Suivi des actions'!$C$3:$C$42,$B36) -> 9 | E36: =SUMIFS('Suivi des actions'!$P$3:$P$42,'Suivi des actions'!$C$3:$C$42,$B36) -> 5040 | F36: =IF($E36=0,"",RANK($E36,$E$28:$E$42)) -> 3 | H36: =Paramètres!$E$14 -> Interne | I36: =COUNTIFS('Suivi des actions'!$G$3:$G$42,$H36) -> 7 | J36: =SUMIFS('Suivi des actions'!$P$3:$P$42,'Suivi des actions'!$G$3:$G$42,$H36) -> 23915 | K36: =IFERROR($J36/SUM('Suivi des actions'!$P$3:$P$42),"") -> 0.87510978
B37: =Paramètres!$B$31 -> 333 - Enseignement, formation | C37: =COUNTIFS('Suivi des actions'!$C$3:$C$42,$B37) -> 0 | D37: =SUMIFS('Suivi des actions'!$L$3:$L$42,'Suivi des actions'!$C$3:$C$42,$B37) -> 0 | E37: =SUMIFS('Suivi des actions'!$P$3:$P$42,'Suivi des actions'!$C$3:$C$42,$B37) -> 0 | F37: =IF($E37=0,"",RANK($E37,$E$28:$E$42)) | H37: =Paramètres!$E$15 -> Externe (sous-traitance) | I37: =COUNTIFS('Suivi des actions'!$G$3:$G$42,$H37) -> 5 | J37: =SUMIFS('Suivi des actions'!$P$3:$P$42,'Suivi des actions'!$G$3:$G$42,$H37) -> 3413 | K37: =IFERROR($J37/SUM('Suivi des actions'!$P$3:$P$42),"") -> 0.12489022
B38: =Paramètres!$B$32 -> 334 - Accueil, hôtellerie, tourisme | C38: =COUNTIFS('Suivi des actions'!$C$3:$C$42,$B38) -> 0 | D38: =SUMIFS('Suivi des actions'!$L$3:$L$42,'Suivi des actions'!$C$3:$C$42,$B38) -> 0 | E38: =SUMIFS('Suivi des actions'!$P$3:$P$42,'Suivi des actions'!$C$3:$C$42,$B38) -> 0 | F38: =IF($E38=0,"",RANK($E38,$E$28:$E$42)) | H38: TOTAL | I38: =SUM(I36:I37) -> 12 | J38: =SUM(J36:J37) -> 27328 | K38: =IFERROR($J38/SUM('Suivi des actions'!$P$3:$P$42),"") -> 1
B39: =Paramètres!$B$33 -> 336 - Coiffure, esthétique | C39: =COUNTIFS('Suivi des actions'!$C$3:$C$42,$B39) -> 0 | D39: =SUMIFS('Suivi des actions'!$L$3:$L$42,'Suivi des actions'!$C$3:$C$42,$B39) -> 0 | E39: =SUMIFS('Suivi des actions'!$P$3:$P$42,'Suivi des actions'!$C$3:$C$42,$B39) -> 0 | F39: =IF($E39=0,"",RANK($E39,$E$28:$E$42))
B40: =Paramètres!$B$34 -> 344 - Sécurité des biens et des personnes | C40: =COUNTIFS('Suivi des actions'!$C$3:$C$42,$B40) -> 1 | D40: =SUMIFS('Suivi des actions'!$L$3:$L$42,'Suivi des actions'!$C$3:$C$42,$B40) -> 47 | E40: =SUMIFS('Suivi des actions'!$P$3:$P$42,'Suivi des actions'!$C$3:$C$42,$B40) -> 658 | F40: =IF($E40=0,"",RANK($E40,$E$28:$E$42)) -> 6
B41: =Paramètres!$B$35 -> 411 - Pratiques sportives | C41: =COUNTIFS('Suivi des actions'!$C$3:$C$42,$B41) -> 0 | D41: =SUMIFS('Suivi des actions'!$L$3:$L$42,'Suivi des actions'!$C$3:$C$42,$B41) -> 0 | E41: =SUMIFS('Suivi des actions'!$P$3:$P$42,'Suivi des actions'!$C$3:$C$42,$B41) -> 0 | F41: =IF($E41=0,"",RANK($E41,$E$28:$E$42))
B42: =Paramètres!$B$36 -> 415 - Développement des capacités, bilan de compétences | C42: =COUNTIFS('Suivi des actions'!$C$3:$C$42,$B42) -> 1 | D42: =SUMIFS('Suivi des actions'!$L$3:$L$42,'Suivi des actions'!$C$3:$C$42,$B42) -> 9 | E42: =SUMIFS('Suivi des actions'!$P$3:$P$42,'Suivi des actions'!$C$3:$C$42,$B42) -> 216 | F42: =IF($E42=0,"",RANK($E42,$E$28:$E$42)) -> 10
B43: TOTAL | C43: =SUM(C28:C42) -> 12 | D43: =SUM(D28:D42) -> 214 | E43: =SUM(E28:E42) -> 27328
B44: ▸ Les spécialités de rang 1 à 5 sont vos 5 principales spécialités de formation.
B45: Contrôle heures-stag. | C45: =IF(E43=SUM('Suivi des actions'!$P$3:$P$42),"✓ Cohérent","⚠ Écart") -> ✓ Cohérent
B62: Modèle de bilan pédagogique — données d'exemple fictives. Complétez l'onglet « Suivi des actions » : la synthèse se recalcule automatiquement.

Sheet Suivi des actions
A1: SUIVI DES ACTIONS DE FORMATION — Exercice 2027
A2: Code action | B2: Intitulé de l'action | C2: Spécialité (NSF) | D2: Objectif général | E2: Type de public | F2: Modalité | G2: Formateur | H2: Début | I2: Fin | J2: Sessions | K2: Stag. inscrits | L2: Stag. formés | M2: Abandons | N2: Durée (h/stag.) | O2: H-stag. prévues | P2: H-stag. réalisées | Q2: Taux réalisation | R2: Stag. certifiés | S2: Taux réussite | T2: Satisfaction /10
A3: ACT-2027-001 | B3: Titre professionnel Assistant commercial | C3: 312 - Commerce, vente | D3: Diplôme / titre RNCP | E3: Demandeurs d'emploi | F3: Présentiel | G3: Interne | H3: 46399 | I3: 46473 | J3: 1 | K3: 14 | L3: 12 | M3: =IF($K3="","",$K3-$L3) -> 2 | N3: 350 | O3: =IF(OR($K3="",$N3=""),"",$K3*$N3) -> 4900 | P3: =IF(OR($L3="",$N3=""),"",$L3*$N3) -> 4200 | Q3: =IF(OR($O3="",$O3=0),"",$P3/$O3) -> 0.85714286 | R3: 10 | S3: =IF(OR($L3="",$L3=0,$R3=""),"",$R3/$L3) -> 0.83333333 | T3: 8.7
A4: ACT-2027-002 | B4: Bureautique – Excel perfectionnement | C4: 324 - Secrétariat, bureautique | D4: Certification / habilitation RS | E4: Salariés (secteur privé) | F4: Distanciel (FOAD) | G4: Externe (sous-traitance) | H4: 46421 | I4: 46423 | J4: 3 | K4: 30 | L4: 28 | M4: =IF($K4="","",$K4-$L4) -> 2 | N4: 21 | O4: =IF(OR($K4="",$N4=""),"",$K4*$N4) -> 630 | P4: =IF(OR($L4="",$N4=""),"",$L4*$N4) -> 588 | Q4: =IF(OR($O4="",$O4=0),"",$P4/$O4) -> 0.93333333 | R4: 26 | S4: =IF(OR($L4="",$L4=0,$R4=""),"",$R4/$L4) -> 0.92857143 | T4: 9.1
A5: ACT-2027-003 | B5: Bilan de compétences | C5: 415 - Développement des capacités, bilan de compétences | D5: Bilan de compétences | E5: Salariés (secteur privé) | F5: Mixte | G5: Interne | H5: 46393 | I5: 46568 | J5: 1 | K5: 9 | L5: 9 | M5: =IF($K5="","",$K5-$L5) -> 0 | N5: 24 | O5: =IF(OR($K5="",$N5=""),"",$K5*$N5) -> 216 | P5: =IF(OR($L5="",$N5=""),"",$L5*$N5) -> 216 | Q5: =IF(OR($O5="",$O5=0),"",$P5/$O5) -> 1 | R5: 9 | S5: =IF(OR($L5="",$L5=0,$R5=""),"",$R5/$L5) -> 1 | T5: 9.4
A6: ACT-2027-004 | B6: Anglais professionnel – niveau B1 | C6: 136 - Langues vivantes | D6: Certification / habilitation RS | E6: Salariés (secteur privé) | F6: Distanciel (FOAD) | G6: Externe (sous-traitance) | H6: 46461 | I6: 46558 | J6: 2 | K6: 22 | L6: 19 | M6: =IF($K6="","",$K6-$L6) -> 3 | N6: 40 | O6: =IF(OR($K6="",$N6=""),"",$K6*$N6) -> 880 | P6: =IF(OR($L6="",$N6=""),"",$L6*$N6) -> 760 | Q6: =IF(OR($O6="",$O6=0),"",$P6/$O6) -> 0.86363636 | R6: 16 | S6: =IF(OR($L6="",$L6=0,$R6=""),"",$R6/$L6) -> 0.84210526 | T6: 8.2
A7: ACT-2027-005 | B7: Comptabilité pour non-comptables | C7: 314 - Comptabilité, gestion | D7: Autre formation professionnelle continue | E7: Salariés (secteur privé) | F7: Présentiel | G7: Interne | H7: 46482 | I7: 46486 | J7: 2 | K7: 18 | L7: 17 | M7: =IF($K7="","",$K7-$L7) -> 1 | N7: 35 | O7: =IF(OR($K7="",$N7=""),"",$K7*$N7) -> 630 | P7: =IF(OR($L7="",$N7=""),"",$L7*$N7) -> 595 | Q7: =IF(OR($O7="",$O7=0),"",$P7/$O7) -> 0.94444444 | S7: =IF(OR($L7="",$L7=0,$R7=""),"",$R7/$L7) | T7: 8.5
A8: ACT-2027-006 | B8: Développeur web – titre professionnel | C8: 326 - Informatique, réseaux | D8: Diplôme / titre RNCP | E8: Demandeurs d'emploi | F8: Présentiel | G8: Interne | H8: 46420 | I8: 46578 | J8: 1 | K8: 16 | L8: 13 | M8: =IF($K8="","",$K8-$L8) -> 3 | N8: 700 | O8: =IF(OR($K8="",$N8=""),"",$K8*$N8) -> 11200 | P8: =IF(OR($L8="",$N8=""),"",$L8*$N8) -> 9100 | Q8: =IF(OR($O8="",$O8=0),"",$P8/$O8) -> 0.8125 | R8: 11 | S8: =IF(OR($L8="",$L8=0,$R8=""),"",$R8/$L8) -> 0.84615385 | T8: 8.9
A9: ACT-2027-007 | B9: Sauveteur secouriste du travail (SST) | C9: 344 - Sécurité des biens et des personnes | D9: Certification / habilitation RS | E9: Salariés (secteur privé) | F9: Présentiel | G9: Externe (sous-traitance) | H9: 46518 | I9: 46519 | J9: 4 | K9: 48 | L9: 47 | M9: =IF($K9="","",$K9-$L9) -> 1 | N9: 14 | O9: =IF(OR($K9="",$N9=""),"",$K9*$N9) -> 672 | P9: =IF(OR($L9="",$N9=""),"",$L9*$N9) -> 658 | Q9: =IF(OR($O9="",$O9=0),"",$P9/$O9) -> 0.97916667 | R9: 47 | S9: =IF(OR($L9="",$L9=0,$R9=""),"",$R9/$L9) -> 1 | T9: 9.3
A10: ACT-2027-008 | B10: Accompagnement VAE Aide-soignant | C10: 331 - Santé | D10: VAE | E10: Demandeurs d'emploi | F10: Mixte | G10: Interne | H10: 46395 | I10: 46645 | J10: 1 | K10: 7 | L10: 6 | M10: =IF($K10="","",$K10-$L10) -> 1 | N10: 24 | O10: =IF(OR($K10="",$N10=""),"",$K10*$N10) -> 168 | P10: =IF(OR($L10="",$N10=""),"",$L10*$N10) -> 144 | Q10: =IF(OR($O10="",$O10=0),"",$P10/$O10) -> 0.85714286 | R10: 5 | S10: =IF(OR($L10="",$L10=0,$R10=""),"",$R10/$L10) -> 0.83333333 | T10: 8.8
A11: ACT-2027-009 | B11: CQP Vendeur-conseil | C11: 312 - Commerce, vente | D11: CQP | E11: Apprentis | F11: Mixte | G11: Interne | H11: 46631 | I11: 46741 | J11: 1 | K11: 12 | L11: 11 | M11: =IF($K11="","",$K11-$L11) -> 1 | N11: 420 | O11: =IF(OR($K11="",$N11=""),"",$K11*$N11) -> 5040 | P11: =IF(OR($L11="",$N11=""),"",$L11*$N11) -> 4620 | Q11: =IF(OR($O11="",$O11=0),"",$P11/$O11) -> 0.91666667 | R11: 9 | S11: =IF(OR($L11="",$L11=0,$R11=""),"",$R11/$L11) -> 0.81818182 | T11: 8.6
A12: ACT-2027-010 | B12: Management d'équipe | C12: 315 - Ressources humaines | D12: Autre formation professionnelle continue | E12: Salariés (secteur privé) | F12: Présentiel | G12: Externe (sous-traitance) | H12: 46462 | I12: 46464 | J12: 3 | K12: 27 | L12: 25 | M12: =IF($K12="","",$K12-$L12) -> 2 | N12: 21 | O12: =IF(OR($K12="",$N12=""),"",$K12*$N12) -> 567 | P12: =IF(OR($L12="",$N12=""),"",$L12*$N12) -> 525 | Q12: =IF(OR($O12="",$O12=0),"",$P12/$O12) -> 0.92592593 | S12: =IF(OR($L12="",$L12=0,$R12=""),"",$R12/$L12) | T12: 8.4
A13: ACT-2027-011 | B13: Petite enfance – CAP AEPE | C13: 332 - Travail social | D13: Diplôme / titre RNCP | E13: Particuliers (à leurs frais) | F13: Mixte | G13: Interne | H13: 46392 | I13: 46721 | J13: 1 | K13: 11 | L13: 9 | M13: =IF($K13="","",$K13-$L13) -> 2 | N13: 560 | O13: =IF(OR($K13="",$N13=""),"",$K13*$N13) -> 6160 | P13: =IF(OR($L13="",$N13=""),"",$L13*$N13) -> 5040 | Q13: =IF(OR($O13="",$O13=0),"",$P13/$O13) -> 0.81818182 | R13: 7 | S13: =IF(OR($L13="",$L13=0,$R13=""),"",$R13/$L13) -> 0.77777778 | T13: 8.1
A14: ACT-2027-012 | B14: Community management | C14: 320 - Communication, information | D14: Autre formation professionnelle continue | E14: Autres stagiaires | F14: Distanciel (FOAD) | G14: Externe (sous-traitance) | H14: 46637 | I14: 46676 | J14: 2 | K14: 20 | L14: 18 | M14: =IF($K14="","",$K14-$L14) -> 2 | N14: 49 | O14: =IF(OR($K14="",$N14=""),"",$K14*$N14) -> 980 | P14: =IF(OR($L14="",$N14=""),"",$L14*$N14) -> 882 | Q14: =IF(OR($O14="",$O14=0),"",$P14/$O14) -> 0.9 | S14: =IF(OR($L14="",$L14=0,$R14=""),"",$R14/$L14) | T14: 8.7
M15: =IF($K15="","",$K15-$L15) | O15: =IF(OR($K15="",$N15=""),"",$K15*$N15) | P15: =IF(OR($L15="",$N15=""),"",$L15*$N15) | Q15: =IF(OR($O15="",$O15=0),"",$P15/$O15) | S15: =IF(OR($L15="",$L15=0,$R15=""),"",$R15/$L15)
M16: =IF($K16="","",$K16-$L16) | O16: =IF(OR($K16="",$N16=""),"",$K16*$N16) | P16: =IF(OR($L16="",$N16=""),"",$L16*$N16) | Q16: =IF(OR($O16="",$O16=0),"",$P16/$O16) | S16: =IF(OR($L16="",$L16=0,$R16=""),"",$R16/$L16)
M17: =IF($K17="","",$K17-$L17) | O17: =IF(OR($K17="",$N17=""),"",$K17*$N17) | P17: =IF(OR($L17="",$N17=""),"",$L17*$N17) | Q17: =IF(OR($O17="",$O17=0),"",$P17/$O17) | S17: =IF(OR($L17="",$L17=0,$R17=""),"",$R17/$L17)
M18: =IF($K18="","",$K18-$L18) | O18: =IF(OR($K18="",$N18=""),"",$K18*$N18) | P18: =IF(OR($L18="",$N18=""),"",$L18*$N18) | Q18: =IF(OR($O18="",$O18=0),"",$P18/$O18) | S18: =IF(OR($L18="",$L18=0,$R18=""),"",$R18/$L18)
M19: =IF($K19="","",$K19-$L19) | O19: =IF(OR($K19="",$N19=""),"",$K19*$N19) | P19: =IF(OR($L19="",$N19=""),"",$L19*$N19) | Q19: =IF(OR($O19="",$O19=0),"",$P19/$O19) | S19: =IF(OR($L19="",$L19=0,$R19=""),"",$R19/$L19)
M20: =IF($K20="","",$K20-$L20) | O20: =IF(OR($K20="",$N20=""),"",$K20*$N20) | P20: =IF(OR($L20="",$N20=""),"",$L20*$N20) | Q20: =IF(OR($O20="",$O20=0),"",$P20/$O20) | S20: =IF(OR($L20="",$L20=0,$R20=""),"",$R20/$L20)
M21: =IF($K21="","",$K21-$L21) | O21: =IF(OR($K21="",$N21=""),"",$K21*$N21) | P21: =IF(OR($L21="",$N21=""),"",$L21*$N21) | Q21: =IF(OR($O21="",$O21=0),"",$P21/$O21) | S21: =IF(OR($L21="",$L21=0,$R21=""),"",$R21/$L21)
M22: =IF($K22="","",$K22-$L22) | O22: =IF(OR($K22="",$N22=""),"",$K22*$N22) | P22: =IF(OR($L22="",$N22=""),"",$L22*$N22) | Q22: =IF(OR($O22="",$O22=0),"",$P22/$O22) | S22: =IF(OR($L22="",$L22=0,$R22=""),"",$R22/$L22)
M23: =IF($K23="","",$K23-$L23) | O23: =IF(OR($K23="",$N23=""),"",$K23*$N23) | P23: =IF(OR($L23="",$N23=""),"",$L23*$N23) | Q23: =IF(OR($O23="",$O23=0),"",$P23/$O23) | S23: =IF(OR($L23="",$L23=0,$R23=""),"",$R23/$L23)
M24: =IF($K24="","",$K24-$L24) | O24: =IF(OR($K24="",$N24=""),"",$K24*$N24) | P24: =IF(OR($L24="",$N24=""),"",$L24*$N24) | Q24: =IF(OR($O24="",$O24=0),"",$P24/$O24) | S24: =IF(OR($L24="",$L24=0,$R24=""),"",$R24/$L24)
M25: =IF($K25="","",$K25-$L25) | O25: =IF(OR($K25="",$N25=""),"",$K25*$N25) | P25: =IF(OR($L25="",$N25=""),"",$L25*$N25) | Q25: =IF(OR($O25="",$O25=0),"",$P25/$O25) | S25: =IF(OR($L25="",$L25=0,$R25=""),"",$R25/$L25)
M26: =IF($K26="","",$K26-$L26) | O26: =IF(OR($K26="",$N26=""),"",$K26*$N26) | P26: =IF(OR($L26="",$N26=""),"",$L26*$N26) | Q26: =IF(OR($O26="",$O26=0),"",$P26/$O26) | S26: =IF(OR($L26="",$L26=0,$R26=""),"",$R26/$L26)
... M42: =IF($K42="","",$K42-$L42) | O42: =IF(OR($K42="",$N42=""),"",$K42*$N42) | P42: =IF(OR($L42="",$N42=""),"",$L42*$N42) | Q42: =IF(OR($O42="",$O42=0),"",$P42/$O42) | S42: =IF(OR($L42="",$L42=0,$R42=""),"",$R42/$L42)

Sheet Paramètres
B2: PARAMÈTRES ET MODE D'EMPLOI
B4: Mode d'emploi
B5: 1. Renseignez vos formations dans l'onglet « Suivi des actions » : une ligne = une action de formation de l'exercice.
B6: 2. Les cellules à saisir sont sur fond crème. Les colonnes grisées se calculent seules (ne rien y écrire).
B7: 3. Les menus déroulants (spécialité, objectif, public, modalité, formateur) puisent dans les listes ci-dessous : modifiez-les ici pour les adapter.
B8: 4. L'onglet « Synthèse » se met à jour automatiquement : indicateurs clés, répartitions par public / objectif / spécialité et graphiques.
B9: 5. Heures-stagiaires = nombre de stagiaires × durée en heures. C'est la donnée volumétrique attendue au bilan.
B10: 6. Dans la répartition par spécialité, les 5 spécialités de rang 1 à 5 sont vos principales spécialités de formation (à déclarer).
B11: 7. Les données affichées sont des exemples fictifs : remplacez-les par les vôtres.
B13: Types de public | C13: Objectifs généraux | D13: Modalités | E13: Formateurs
B14: Salariés (secteur privé) | C14: Diplôme / titre RNCP | D14: Présentiel | E14: Interne
B15: Demandeurs d'emploi | C15: Certification / habilitation RS | D15: Distanciel (FOAD) | E15: Externe (sous-traitance)
B16: Particuliers (à leurs frais) | C16: CQP | D16: Mixte
B17: Autres stagiaires | C17: VAE | D17: AFEST
B18: Apprentis | C18: Bilan de compétences
C19: Autre formation professionnelle continue
B21: Spécialités de formation (code NSF)
B22: 136 - Langues vivantes
B23: 312 - Commerce, vente
B24: 314 - Comptabilité, gestion
B25: 315 - Ressources humaines
B26: 320 - Communication, information
B27: 324 - Secrétariat, bureautique
B28: 326 - Informatique, réseaux
B29: 331 - Santé
B30: 332 - Travail social
B31: 333 - Enseignement, formation
B32: 334 - Accueil, hôtellerie, tourisme
... B38: Codes NSF issus de la nomenclature officielle des spécialités de formation. Ajustez les libellés à votre activité si besoin.
