Workbook
Name AnneeRecolte: Configuration!$K$7
Name ApportCouvert: Configuration!$V$9
Name CalComplement: Configuration!$C$35:$L$41
Name CalOccupations: Configuration!$B$24:$B$30
Name CalPrincipal: Configuration!$C$24:$L$30
Name CalTypes: Configuration!$C$22:$L$22
Name CulturesCat: Configuration!$O$8:$O$47
Name CulturesNoms: Configuration!$N$8:$N$47
Name CulturesUnite: Configuration!$P$8:$P$47
Name DebutCampagne: Configuration!$K$8
Name DelaiSaisie: Configuration!$K$17
Name FicheIlot: 'Fiche îlot'!$D$7
Name FinCampagne: Configuration!$K$9
Name ListeApportSur: OFFSET(Configuration!$V$8,0,0,MAX(1,COUNTIF(Configuration!$V$8:$V$27,"?*")),1)
Name ListeCategories: OFFSET(Configuration!$T$8,0,0,MAX(1,COUNTIF(Configuration!$T$8:$T$27,"?*")),1)
Name ListeCouverts: OFFSET(Configuration!$Y$8,0,0,MAX(1,COUNTIF(Configuration!$Y$8:$Y$27,"?*")),1)
Name ListeCultures: OFFSET(Configuration!$N$8,0,0,MAX(1,COUNTIF(Configuration!$N$8:$N$47,"?*")),1)
Name ListeEtats: OFFSET(Configuration!$U$8,0,0,MAX(1,COUNTIF(Configuration!$U$8:$U$27,"?*")),1)
Name ListeFaireValoir: OFFSET(Configuration!$Z$8,0,0,MAX(1,COUNTIF(Configuration!$Z$8:$Z$27,"?*")),1)
Name ListeFertilisants: OFFSET(Fertilisants!$B$8,0,0,MAX(1,COUNTIF(Fertilisants!$B$8:$B$47,"?*")),1)
Name ListeIlots: OFFSET(Îlots!$D$8,0,0,MAX(1,COUNTIF(Îlots!$D$8:$D$57,"?*")),1)
Name ListeMateriel: OFFSET(Configuration!$W$8,0,0,MAX(1,COUNTIF(Configuration!$W$8:$W$27,"?*")),1)
Name ListeNature: OFFSET(Configuration!$AA$8,0,0,MAX(1,COUNTIF(Configuration!$AA$8:$AA$27,"?*")),1)
Name ListeOccupations: Configuration!$B$24:$B$30
Name ListeRealise: OFFSET(Configuration!$X$8,0,0,MAX(1,COUNTIF(Configuration!$X$8:$X$27,"?*")),1)
Name ListeRegime: OFFSET(Configuration!$AC$8,0,0,MAX(1,COUNTIF(Configuration!$AC$8:$AC$27,"?*")),1)
Name ListeSource: OFFSET(Configuration!$AB$8,0,0,MAX(1,COUNTIF(Configuration!$AB$8:$AB$27,"?*")),1)
Name ListeTypes: OFFSET(Configuration!$R$8,0,0,MAX(1,COUNTIF(Configuration!$R$8:$R$27,"?*")),1)
Name ListeUnites: OFFSET(Configuration!$S$8,0,0,MAX(1,COUNTIF(Configuration!$S$8:$S$27,"?*")),1)
Name OccCouvert: Configuration!$B$28
Name PlafondN: Configuration!$K$15
Name RaisonSociale: Configuration!$C$7
Name SAU: Configuration!$K$10
Name TolerancePPF: Configuration!$K$16
Name ZoneVulnerable: Configuration!$K$13

Sheet Tableau de bord
B2: CAHIER D'ÉPANDAGE | T2: =RaisonSociale -> SCEA du Val de Mérienne
B3: ="Tableau de bord de la campagne "&(AnneeRecolte-1)&"-"&AnneeRecolte&" · récolte "&AnneeRecolte -> Tableau de bord de la campagne 2026-2027 · récolte 2027 | N3: Dernier apport enregistré | T3: =IF(COUNT(Registre!$C$8:$C$507)=0,"",MAX(Registre!$C$8:$C$507)) -> 46552
B5: Registre › | C5: Îlots › | D5: Fertilisants › | F5: Échanges & stockage › | H5: Fiche îlot › | J5: Configuration › | L5: Mode d'emploi ›
B7: APPORTS ENREGISTRÉS | F7: AZOTE TOTAL ÉPANDU | J7: AZOTE DES EFFLUENTS D'ÉLEVAGE | N7: POINTS DE CONTRÔLE CONFORMES | R7: COÛT DES FERTILISANTS
B8: =COUNT(Registre!$C$8:$C$507) -> 29 | F8: =SUM(Registre!$Q$8:$Q$507) -> 26441.754 | J8: =IFERROR(SUMIFS(Registre!$Q$8:$Q$507,Registre!$AM$8:$AM$507,1)/SAU,0) -> 153.62872 | N8: =COUNTIF($H$15:$H$24,"Conforme") -> 3 | R8: =SUM(Fertilisants!$R$8:$R$47) -> 11850.735
B10: ="sur "&COUNTIF(Îlots!$X$8:$X$57,">0")&" îlots fertilisés" -> sur 9 îlots fertilisés | F10: ="soit "&ROUND(IFERROR(SUM(Registre!$Q$8:$Q$507)/SAU,0),0)&" kg N par ha de SAU" -> soit 235 kg N par ha de SAU | J10: =ROUND(IFERROR(J8/PlafondN,0)*100,0)&" % du plafond de "&PlafondN&" kg N/ha SAU" -> 90 % du plafond de 170 kg N/ha SAU | N10: =COUNTIF($H$15:$H$24,"Non conforme")&" non conforme(s) · "&COUNTIF($H$15:$H$24,"Vigilance")&" en vigilance" -> 3 non conforme(s) · 4 en vigilance | R10: ="soit "&ROUND(IFERROR(R8/SAU,0),0)&" € par ha de SAU" -> soit 105 € par ha de SAU
J11: =IFERROR(J8/PlafondN,0) -> 0.90369838 | N11: =N8/10 -> 0.3
B13: Contrôles réglementaires | J13: Azote épandu par mois (kg N) | W13: Mois | X13: Organique | Y13: Minéral | Z13: Total
B14: POINT DE CONTRÔLE | F14: CONSTAT | H14: STATUT | W14: =CHOOSE(MONTH(DATE(AnneeRecolte-1,9,1)),"janv.","févr.","mars","avr.","mai","juin","juil.","août","sept.","oct.","nov.","déc.")&" "&MOD(YEAR(DATE(AnneeRecolte-1,9,1)),100) -> sept. 26 | X14: =SUMIFS(Registre!$Q$8:$Q$507,Registre!$AN$8:$AN$507,"Organique",Registre!$C$8:$C$507,">="&DATE(AnneeRecolte-1,9,1),Registre!$C$8:$C$507,"<"&DATE(AnneeRecolte-1,10,1)) -> 7412.55 | Y14: =SUMIFS(Registre!$Q$8:$Q$507,Registre!$AN$8:$AN$507,"Minéral",Registre!$C$8:$C$507,">="&DATE(AnneeRecolte-1,9,1),Registre!$C$8:$C$507,"<"&DATE(AnneeRecolte-1,10,1)) -> 0 | Z14: =X14+Y14 -> 7412.55
B15: Plafond d'azote des effluents d'élevage | F15: =ROUND($J$8,0)&" kg N/ha" -> 154 kg N/ha | H15: =IF($J$8>PlafondN,"Non conforme",IF($J$8>0.9*PlafondN,"Vigilance","Conforme")) -> Vigilance | W15: =CHOOSE(MONTH(DATE(AnneeRecolte-1,10,1)),"janv.","févr.","mars","avr.","mai","juin","juil.","août","sept.","oct.","nov.","déc.")&" "&MOD(YEAR(DATE(AnneeRecolte-1,10,1)),100) -> oct. 26 | X15: =SUMIFS(Registre!$Q$8:$Q$507,Registre!$AN$8:$AN$507,"Organique",Registre!$C$8:$C$507,">="&DATE(AnneeRecolte-1,10,1),Registre!$C$8:$C$507,"<"&DATE(AnneeRecolte-1,11,1)) -> 804.6 | Y15: =SUMIFS(Registre!$Q$8:$Q$507,Registre!$AN$8:$AN$507,"Minéral",Registre!$C$8:$C$507,">="&DATE(AnneeRecolte-1,10,1),Registre!$C$8:$C$507,"<"&DATE(AnneeRecolte-1,11,1)) -> 0 | Z15: =X15+Y15 -> 804.6
B16: Épandages en période d'interdiction | F16: =IF((COUNTIF(Registre!$W$8:$W$507,"Période interdite"))=0,"Aucun",(COUNTIF(Registre!$W$8:$W$507,"Période interdite"))&IF((COUNTIF(Registre!$W$8:$W$507,"Période interdite"))>1," apports"," apport")) -> 1 apport | H16: =IF((COUNTIF(Registre!$W$8:$W$507,"Période interdite"))>0,"Non conforme","Conforme") -> Non conforme | W16: =CHOOSE(MONTH(DATE(AnneeRecolte-1,11,1)),"janv.","févr.","mars","avr.","mai","juin","juil.","août","sept.","oct.","nov.","déc.")&" "&MOD(YEAR(DATE(AnneeRecolte-1,11,1)),100) -> nov. 26 | X16: =SUMIFS(Registre!$Q$8:$Q$507,Registre!$AN$8:$AN$507,"Organique",Registre!$C$8:$C$507,">="&DATE(AnneeRecolte-1,11,1),Registre!$C$8:$C$507,"<"&DATE(AnneeRecolte-1,12,1)) -> 1944 | Y16: =SUMIFS(Registre!$Q$8:$Q$507,Registre!$AN$8:$AN$507,"Minéral",Registre!$C$8:$C$507,">="&DATE(AnneeRecolte-1,11,1),Registre!$C$8:$C$507,"<"&DATE(AnneeRecolte-1,12,1)) -> 0 | Z16: =X16+Y16 -> 1944
B17: Épandages sur sol interdit | F17: =IF((COUNTIF(Registre!$W$8:$W$507,"Sol interdit"))=0,"Aucun",(COUNTIF(Registre!$W$8:$W$507,"Sol interdit"))&IF((COUNTIF(Registre!$W$8:$W$507,"Sol interdit"))>1," apports"," apport")) -> 1 apport | H17: =IF((COUNTIF(Registre!$W$8:$W$507,"Sol interdit"))>0,"Non conforme","Conforme") -> Non conforme | W17: =CHOOSE(MONTH(DATE(AnneeRecolte-1,12,1)),"janv.","févr.","mars","avr.","mai","juin","juil.","août","sept.","oct.","nov.","déc.")&" "&MOD(YEAR(DATE(AnneeRecolte-1,12,1)),100) -> déc. 26 | X17: =SUMIFS(Registre!$Q$8:$Q$507,Registre!$AN$8:$AN$507,"Organique",Registre!$C$8:$C$507,">="&DATE(AnneeRecolte-1,12,1),Registre!$C$8:$C$507,"<"&DATE(AnneeRecolte-1,13,1)) -> 0 | Y17: =SUMIFS(Registre!$Q$8:$Q$507,Registre!$AN$8:$AN$507,"Minéral",Registre!$C$8:$C$507,">="&DATE(AnneeRecolte-1,12,1),Registre!$C$8:$C$507,"<"&DATE(AnneeRecolte-1,13,1)) -> 0 | Z17: =X17+Y17 -> 0
B18: Îlots au-delà de la dose PPF | F18: =IF((COUNTIF(Îlots!$Y$8:$Y$57,"Dépassement PPF"))=0,"Aucun",(COUNTIF(Îlots!$Y$8:$Y$57,"Dépassement PPF"))&IF((COUNTIF(Îlots!$Y$8:$Y$57,"Dépassement PPF"))>1," îlots"," îlot")) -> 1 îlot | H18: =IF((COUNTIF(Îlots!$Y$8:$Y$57,"Dépassement PPF"))>0,"Non conforme","Conforme") -> Non conforme | W18: =CHOOSE(MONTH(DATE(AnneeRecolte-1,13,1)),"janv.","févr.","mars","avr.","mai","juin","juil.","août","sept.","oct.","nov.","déc.")&" "&MOD(YEAR(DATE(AnneeRecolte-1,13,1)),100) -> janv. 27 | X18: =SUMIFS(Registre!$Q$8:$Q$507,Registre!$AN$8:$AN$507,"Organique",Registre!$C$8:$C$507,">="&DATE(AnneeRecolte-1,13,1),Registre!$C$8:$C$507,"<"&DATE(AnneeRecolte-1,14,1)) -> 0 | Y18: =SUMIFS(Registre!$Q$8:$Q$507,Registre!$AN$8:$AN$507,"Minéral",Registre!$C$8:$C$507,">="&DATE(AnneeRecolte-1,13,1),Registre!$C$8:$C$507,"<"&DATE(AnneeRecolte-1,14,1)) -> 0 | Z18: =X18+Y18 -> 0
B19: Îlots sans dose prévisionnelle | F19: =IF((COUNTIF(Îlots!$Y$8:$Y$57,"PPF à renseigner"))=0,"Aucun",(COUNTIF(Îlots!$Y$8:$Y$57,"PPF à renseigner"))&IF((COUNTIF(Îlots!$Y$8:$Y$57,"PPF à renseigner"))>1," îlots"," îlot")) -> Aucun | H19: =IF((COUNTIF(Îlots!$Y$8:$Y$57,"PPF à renseigner"))>0,"Vigilance","Conforme") -> Conforme | W19: =CHOOSE(MONTH(DATE(AnneeRecolte-1,14,1)),"janv.","févr.","mars","avr.","mai","juin","juil.","août","sept.","oct.","nov.","déc.")&" "&MOD(YEAR(DATE(AnneeRecolte-1,14,1)),100) -> févr. 27 | X19: =SUMIFS(Registre!$Q$8:$Q$507,Registre!$AN$8:$AN$507,"Organique",Registre!$C$8:$C$507,">="&DATE(AnneeRecolte-1,14,1),Registre!$C$8:$C$507,"<"&DATE(AnneeRecolte-1,15,1)) -> 1850 | Y19: =SUMIFS(Registre!$Q$8:$Q$507,Registre!$AN$8:$AN$507,"Minéral",Registre!$C$8:$C$507,">="&DATE(AnneeRecolte-1,14,1),Registre!$C$8:$C$507,"<"&DATE(AnneeRecolte-1,15,1)) -> 1377.5475 | Z19: =X19+Y19 -> 3227.5475
B20: Surfaces épandues supérieures à l'îlot | F20: =IF((COUNTIF(Registre!$W$8:$W$507,"Surface > îlot"))=0,"Aucun",(COUNTIF(Registre!$W$8:$W$507,"Surface > îlot"))&IF((COUNTIF(Registre!$W$8:$W$507,"Surface > îlot"))>1," lignes"," ligne")) -> Aucun | H20: =IF((COUNTIF(Registre!$W$8:$W$507,"Surface > îlot"))>0,"Vigilance","Conforme") -> Conforme | W20: =CHOOSE(MONTH(DATE(AnneeRecolte-1,15,1)),"janv.","févr.","mars","avr.","mai","juin","juil.","août","sept.","oct.","nov.","déc.")&" "&MOD(YEAR(DATE(AnneeRecolte-1,15,1)),100) -> mars 27 | X20: =SUMIFS(Registre!$Q$8:$Q$507,Registre!$AN$8:$AN$507,"Organique",Registre!$C$8:$C$507,">="&DATE(AnneeRecolte-1,15,1),Registre!$C$8:$C$507,"<"&DATE(AnneeRecolte-1,16,1)) -> 2897.35 | Y20: =SUMIFS(Registre!$Q$8:$Q$507,Registre!$AN$8:$AN$507,"Minéral",Registre!$C$8:$C$507,">="&DATE(AnneeRecolte-1,15,1),Registre!$C$8:$C$507,"<"&DATE(AnneeRecolte-1,16,1)) -> 2088.7515 | Z20: =X20+Y20 -> 4986.1015
B21: Lignes incomplètes ou hors campagne | F21: =IF((COUNTIF(Registre!$W$8:$W$507,"Incomplet")+COUNTIF(Registre!$W$8:$W$507,"Hors campagne"))=0,"Aucun",(COUNTIF(Registre!$W$8:$W$507,"Incomplet")+COUNTIF(Registre!$W$8:$W$507,"Hors campagne"))&IF((COUNTIF(Registre!$W$8:$W$507,"Incomplet")+COUNTIF(Registre!$W$8:$W$507,"Hors campagne"))>1," lignes"," ligne")) -> Aucun | H21: =IF((COUNTIF(Registre!$W$8:$W$507,"Incomplet")+COUNTIF(Registre!$W$8:$W$507,"Hors campagne"))>0,"Vigilance","Conforme") -> Conforme | W21: =CHOOSE(MONTH(DATE(AnneeRecolte-1,16,1)),"janv.","févr.","mars","avr.","mai","juin","juil.","août","sept.","oct.","nov.","déc.")&" "&MOD(YEAR(DATE(AnneeRecolte-1,16,1)),100) -> avr. 27 | X21: =SUMIFS(Registre!$Q$8:$Q$507,Registre!$AN$8:$AN$507,"Organique",Registre!$C$8:$C$507,">="&DATE(AnneeRecolte-1,16,1),Registre!$C$8:$C$507,"<"&DATE(AnneeRecolte-1,17,1)) -> 4016 | Y21: =SUMIFS(Registre!$Q$8:$Q$507,Registre!$AN$8:$AN$507,"Minéral",Registre!$C$8:$C$507,">="&DATE(AnneeRecolte-1,16,1),Registre!$C$8:$C$507,"<"&DATE(AnneeRecolte-1,17,1)) -> 2123.4725 | Z21: =X21+Y21 -> 6139.4725
B22: Saisies au-delà du délai visé | F22: =IF((COUNTIF(Registre!$W$8:$W$507,"Saisie tardive"))=0,"Aucun",(COUNTIF(Registre!$W$8:$W$507,"Saisie tardive"))&IF((COUNTIF(Registre!$W$8:$W$507,"Saisie tardive"))>1," lignes"," ligne")) -> 1 ligne | H22: =IF((COUNTIF(Registre!$W$8:$W$507,"Saisie tardive"))>0,"Vigilance","Conforme") -> Vigilance | W22: =CHOOSE(MONTH(DATE(AnneeRecolte-1,17,1)),"janv.","févr.","mars","avr.","mai","juin","juil.","août","sept.","oct.","nov.","déc.")&" "&MOD(YEAR(DATE(AnneeRecolte-1,17,1)),100) -> mai 27 | X22: =SUMIFS(Registre!$Q$8:$Q$507,Registre!$AN$8:$AN$507,"Organique",Registre!$C$8:$C$507,">="&DATE(AnneeRecolte-1,17,1),Registre!$C$8:$C$507,"<"&DATE(AnneeRecolte-1,18,1)) -> 0 | Y22: =SUMIFS(Registre!$Q$8:$Q$507,Registre!$AN$8:$AN$507,"Minéral",Registre!$C$8:$C$507,">="&DATE(AnneeRecolte-1,17,1),Registre!$C$8:$C$507,"<"&DATE(AnneeRecolte-1,18,1)) -> 636.8025 | Z22: =X22+Y22 -> 636.8025
B23: Bordereaux d'échange non cosignés | F23: =IF((COUNTIFS('Échanges & stockage'!$B$12:$B$51,"?*",'Échanges & stockage'!$L$12:$L$51,"<>Oui"))=0,"Aucun",(COUNTIFS('Échanges & stockage'!$B$12:$B$51,"?*",'Échanges & stockage'!$L$12:$L$51,"<>Oui"))&IF((COUNTIFS('Échanges & stockage'!$B$12:$B$51,"?*",'Échanges & stockage'!$L$12:$L$51,"<>Oui"))>1," bordereaux"," bordereau")) -> 1 bordereau | H23: =IF((COUNTIFS('Échanges & stockage'!$B$12:$B$51,"?*",'Échanges & stockage'!$L$12:$L$51,"<>Oui"))>0,"Vigilance","Conforme") -> Vigilance | W23: =CHOOSE(MONTH(DATE(AnneeRecolte-1,18,1)),"janv.","févr.","mars","avr.","mai","juin","juil.","août","sept.","oct.","nov.","déc.")&" "&MOD(YEAR(DATE(AnneeRecolte-1,18,1)),100) -> juin 27 | X23: =SUMIFS(Registre!$Q$8:$Q$507,Registre!$AN$8:$AN$507,"Organique",Registre!$C$8:$C$507,">="&DATE(AnneeRecolte-1,18,1),Registre!$C$8:$C$507,"<"&DATE(AnneeRecolte-1,19,1)) -> 712 | Y23: =SUMIFS(Registre!$Q$8:$Q$507,Registre!$AN$8:$AN$507,"Minéral",Registre!$C$8:$C$507,">="&DATE(AnneeRecolte-1,18,1),Registre!$C$8:$C$507,"<"&DATE(AnneeRecolte-1,19,1)) -> 578.68 | Z23: =X23+Y23 -> 1290.68
B24: Stockages au champ à vérifier | F24: =IF((COUNTIF('Échanges & stockage'!$I$55:$I$74,"Durée > 9 mois")+COUNTIF('Échanges & stockage'!$I$55:$I$74,"Hiver : vérifier les conditions"))=0,"Aucun",(COUNTIF('Échanges & stockage'!$I$55:$I$74,"Durée > 9 mois")+COUNTIF('Échanges & stockage'!$I$55:$I$74,"Hiver : vérifier les conditions"))&IF((COUNTIF('Échanges & stockage'!$I$55:$I$74,"Durée > 9 mois")+COUNTIF('Échanges & stockage'!$I$55:$I$74,"Hiver : vérifier les conditions"))>1," dépôts"," dépôt")) -> 1 dépôt | H24: =IF((COUNTIF('Échanges & stockage'!$I$55:$I$74,"Durée > 9 mois"))>0,"Non conforme",IF((COUNTIF('Échanges & stockage'!$I$55:$I$74,"Hiver : vérifier les conditions"))>0,"Vigilance","Conforme")) -> Vigilance | W24: =CHOOSE(MONTH(DATE(AnneeRecolte-1,19,1)),"janv.","févr.","mars","avr.","mai","juin","juil.","août","sept.","oct.","nov.","déc.")&" "&MOD(YEAR(DATE(AnneeRecolte-1,19,1)),100) -> juil. 27 | X24: =SUMIFS(Registre!$Q$8:$Q$507,Registre!$AN$8:$AN$507,"Organique",Registre!$C$8:$C$507,">="&DATE(AnneeRecolte-1,19,1),Registre!$C$8:$C$507,"<"&DATE(AnneeRecolte-1,20,1)) -> 0 | Y24: =SUMIFS(Registre!$Q$8:$Q$507,Registre!$AN$8:$AN$507,"Minéral",Registre!$C$8:$C$507,">="&DATE(AnneeRecolte-1,19,1),Registre!$C$8:$C$507,"<"&DATE(AnneeRecolte-1,20,1)) -> 0 | Z24: =X24+Y24 -> 0
B25: Indicateurs calculés à partir des données saisies. Le plafond est suivi ici sur l'azote des effluents d'élevage épandus ; le calcul réglementaire s'appuie sur l'azote produit par le cheptel. | W25: =CHOOSE(MONTH(DATE(AnneeRecolte-1,20,1)),"janv.","févr.","mars","avr.","mai","juin","juil.","août","sept.","oct.","nov.","déc.")&" "&MOD(YEAR(DATE(AnneeRecolte-1,20,1)),100) -> août 27 | X25: =SUMIFS(Registre!$Q$8:$Q$507,Registre!$AN$8:$AN$507,"Organique",Registre!$C$8:$C$507,">="&DATE(AnneeRecolte-1,20,1),Registre!$C$8:$C$507,"<"&DATE(AnneeRecolte-1,21,1)) -> 0 | Y25: =SUMIFS(Registre!$Q$8:$Q$507,Registre!$AN$8:$AN$507,"Minéral",Registre!$C$8:$C$507,">="&DATE(AnneeRecolte-1,20,1),Registre!$C$8:$C$507,"<"&DATE(AnneeRecolte-1,21,1)) -> 0 | Z25: =X25+Y25 -> 0
B29: Réalisation du plan prévisionnel de fumure par îlot | R29: Azote par type de fertilisant
B30: Îlot | E30: Culture | H30: Surface (ha) | I30: Dose PPF (kg N eff./ha) | K30: N efficace apporté | L30: Écart | M30: Réalisation | O30: Statut | R30: TYPE | S30: KG N | T30: PART
B31: =IF(Îlots!$D$8="","",Îlots!$D$8) -> 01 – La Croix Blanche | E31: =IF($B31="","",Îlots!$N$8&"") -> Maïs ensilage | H31: =IF($B31="","",Îlots!$E$8) -> 14.8 | I31: =IF(OR($B31="",Îlots!$S$8=""),"",Îlots!$S$8) -> 145 | K31: =IF($B31="","",N(Îlots!$T$8)) -> 144.5 | L31: =IF(OR($B31="",$I31=""),"",ROUND($K31-$I31,0)) -> 0 | M31: =IF(OR($B31="",N($I31)=0),"",$K31/$I31) -> 0.99655172 | O31: =IF($B31="","",Îlots!$Y$8&"") -> Conforme | R31: Type 0 | S31: =SUMIFS(Registre!$Q$8:$Q$507,Registre!$H$8:$H$507,R31) -> 0 | T31: =IFERROR(S31/$S$36,0) -> 0
B32: =IF(Îlots!$D$9="","",Îlots!$D$9) -> 02 – Les Noues | E32: =IF($B32="","",Îlots!$N$9&"") -> Blé tendre d'hiver | H32: =IF($B32="","",Îlots!$E$9) -> 11.35 | I32: =IF(OR($B32="",Îlots!$S$9=""),"",Îlots!$S$9) -> 175 | K32: =IF($B32="","",N(Îlots!$T$9)) -> 174.07 | L32: =IF(OR($B32="",$I32=""),"",ROUND($K32-$I32,0)) -> -1 | M32: =IF(OR($B32="",N($I32)=0),"",$K32/$I32) -> 0.99468571 | O32: =IF($B32="","",Îlots!$Y$9&"") -> Conforme | R32: Type Ia | S32: =SUMIFS(Registre!$Q$8:$Q$507,Registre!$H$8:$H$507,R32) -> 6545.15 | T32: =IFERROR(S32/$S$36,0) -> 0.24753086
B33: =IF(Îlots!$D$10="","",Îlots!$D$10) -> 03 – La Garenne | E33: =IF($B33="","",Îlots!$N$10&"") -> Colza d'hiver | H33: =IF($B33="","",Îlots!$E$10) -> 9.6 | I33: =IF(OR($B33="",Îlots!$S$10=""),"",Îlots!$S$10) -> 160 | K33: =IF($B33="","",N(Îlots!$T$10)) -> 161.12 | L33: =IF(OR($B33="",$I33=""),"",ROUND($K33-$I33,0)) -> 1 | M33: =IF(OR($B33="",N($I33)=0),"",$K33/$I33) -> 1.007 | O33: =IF($B33="","",Îlots!$Y$10&"") -> Conforme | R33: Type Ib | S33: =SUMIFS(Registre!$Q$8:$Q$507,Registre!$H$8:$H$507,R33) -> 0 | T33: =IFERROR(S33/$S$36,0) -> 0
B34: =IF(Îlots!$D$11="","",Îlots!$D$11) -> 04 – Le Paradis | E34: =IF($B34="","",Îlots!$N$11&"") -> Maïs ensilage | H34: =IF($B34="","",Îlots!$E$11) -> 16.2 | I34: =IF(OR($B34="",Îlots!$S$11=""),"",Îlots!$S$11) -> 140 | K34: =IF($B34="","",N(Îlots!$T$11)) -> 136.2 | L34: =IF(OR($B34="",$I34=""),"",ROUND($K34-$I34,0)) -> -4 | M34: =IF(OR($B34="",N($I34)=0),"",$K34/$I34) -> 0.97285714 | O34: =IF($B34="","",Îlots!$Y$11&"") -> Conforme | R34: Type II | S34: =SUMIFS(Registre!$Q$8:$Q$507,Registre!$H$8:$H$507,R34) -> 13091.35 | T34: =IFERROR(S34/$S$36,0) -> 0.49510142
B35: =IF(Îlots!$D$12="","",Îlots!$D$12) -> 05 – Les Rouches | E35: =IF($B35="","",Îlots!$N$12&"") -> Orge d'hiver | H35: =IF($B35="","",Îlots!$E$12) -> 12.75 | I35: =IF(OR($B35="",Îlots!$S$12=""),"",Îlots!$S$12) -> 150 | K35: =IF($B35="","",N(Îlots!$T$12)) -> 138.14706 | L35: =IF(OR($B35="",$I35=""),"",ROUND($K35-$I35,0)) -> -12 | M35: =IF(OR($B35="",N($I35)=0),"",$K35/$I35) -> 0.92098039 | O35: =IF($B35="","",Îlots!$Y$12&"") -> Conforme | R35: Type III | S35: =SUMIFS(Registre!$Q$8:$Q$507,Registre!$H$8:$H$507,R35) -> 6805.254 | T35: =IFERROR(S35/$S$36,0) -> 0.25736772
B36: =IF(Îlots!$D$13="","",Îlots!$D$13) -> 06 – Pré Long | E36: =IF($B36="","",Îlots!$N$13&"") -> Prairie permanente | H36: =IF($B36="","",Îlots!$E$13) -> 8.9 | I36: =IF(OR($B36="",Îlots!$S$13=""),"",Îlots!$S$13) -> 100 | K36: =IF($B36="","",N(Îlots!$T$13)) -> 130 | L36: =IF(OR($B36="",$I36=""),"",ROUND($K36-$I36,0)) -> 30 | M36: =IF(OR($B36="",N($I36)=0),"",$K36/$I36) -> 1.3 | O36: =IF($B36="","",Îlots!$Y$13&"") -> Dépassement PPF | R36: Total | S36: =SUM(S31:S35) -> 26441.754 | T36: =IF($S$36=0,0,1) -> 1
B37: =IF(Îlots!$D$14="","",Îlots!$D$14) -> 07 – La Fosse aux Loups | E37: =IF($B37="","",Îlots!$N$14&"") -> Prairie temporaire | H37: =IF($B37="","",Îlots!$E$14) -> 7.45 | I37: =IF(OR($B37="",Îlots!$S$14=""),"",Îlots!$S$14) -> 120 | K37: =IF($B37="","",N(Îlots!$T$14)) -> 98.49 | L37: =IF(OR($B37="",$I37=""),"",ROUND($K37-$I37,0)) -> -22 | M37: =IF(OR($B37="",N($I37)=0),"",$K37/$I37) -> 0.82075 | O37: =IF($B37="","",Îlots!$Y$14&"") -> Conforme
B38: =IF(Îlots!$D$15="","",Îlots!$D$15) -> 08 – Les Terres Fortes | E38: =IF($B38="","",Îlots!$N$15&"") -> Orge de printemps | H38: =IF($B38="","",Îlots!$E$15) -> 13.1 | I38: =IF(OR($B38="",Îlots!$S$15=""),"",Îlots!$S$15) -> 105 | K38: =IF($B38="","",N(Îlots!$T$15)) -> 103.65 | L38: =IF(OR($B38="",$I38=""),"",ROUND($K38-$I38,0)) -> -1 | M38: =IF(OR($B38="",N($I38)=0),"",$K38/$I38) -> 0.98714286 | O38: =IF($B38="","",Îlots!$Y$15&"") -> Conforme
B39: =IF(Îlots!$D$16="","",Îlots!$D$16) -> 09 – Les Sablons | E39: =IF($B39="","",Îlots!$N$16&"") -> Triticale | H39: =IF($B39="","",Îlots!$E$16) -> 10.05 | I39: =IF(OR($B39="",Îlots!$S$16=""),"",Îlots!$S$16) -> 140 | K39: =IF($B39="","",N(Îlots!$T$16)) -> 136.8 | L39: =IF(OR($B39="",$I39=""),"",ROUND($K39-$I39,0)) -> -3 | M39: =IF(OR($B39="",N($I39)=0),"",$K39/$I39) -> 0.97714286 | O39: =IF($B39="","",Îlots!$Y$16&"") -> Conforme
B40: =IF(Îlots!$D$17="","",Îlots!$D$17) -> 10 – Le Bois Rond | E40: =IF($B40="","",Îlots!$N$17&"") -> Luzerne | H40: =IF($B40="","",Îlots!$E$17) -> 8.25 | I40: =IF(OR($B40="",Îlots!$S$17=""),"",Îlots!$S$17) -> 0 | K40: =IF($B40="","",N(Îlots!$T$17)) -> 0 | L40: =IF(OR($B40="",$I40=""),"",ROUND($K40-$I40,0)) -> 0 | M40: =IF(OR($B40="",N($I40)=0),"",$K40/$I40) | O40: =IF($B40="","",Îlots!$Y$17&"") -> Aucun apport
B41: =IF(Îlots!$D$18="","",Îlots!$D$18) | E41: =IF($B41="","",Îlots!$N$18&"") | H41: =IF($B41="","",Îlots!$E$18) | I41: =IF(OR($B41="",Îlots!$S$18=""),"",Îlots!$S$18) | K41: =IF($B41="","",N(Îlots!$T$18)) | L41: =IF(OR($B41="",$I41=""),"",ROUND($K41-$I41,0)) | M41: =IF(OR($B41="",N($I41)=0),"",$K41/$I41) | O41: =IF($B41="","",Îlots!$Y$18&"")
B42: =IF(Îlots!$D$19="","",Îlots!$D$19) | E42: =IF($B42="","",Îlots!$N$19&"") | H42: =IF($B42="","",Îlots!$E$19) | I42: =IF(OR($B42="",Îlots!$S$19=""),"",Îlots!$S$19) | K42: =IF($B42="","",N(Îlots!$T$19)) | L42: =IF(OR($B42="",$I42=""),"",ROUND($K42-$I42,0)) | M42: =IF(OR($B42="",N($I42)=0),"",$K42/$I42) | O42: =IF($B42="","",Îlots!$Y$19&"")
B43: =IF(Îlots!$D$20="","",Îlots!$D$20) | E43: =IF($B43="","",Îlots!$N$20&"") | H43: =IF($B43="","",Îlots!$E$20) | I43: =IF(OR($B43="",Îlots!$S$20=""),"",Îlots!$S$20) | K43: =IF($B43="","",N(Îlots!$T$20)) | L43: =IF(OR($B43="",$I43=""),"",ROUND($K43-$I43,0)) | M43: =IF(OR($B43="",N($I43)=0),"",$K43/$I43) | O43: =IF($B43="","",Îlots!$Y$20&"")
B44: =IF(Îlots!$D$21="","",Îlots!$D$21) | E44: =IF($B44="","",Îlots!$N$21&"") | H44: =IF($B44="","",Îlots!$E$21) | I44: =IF(OR($B44="",Îlots!$S$21=""),"",Îlots!$S$21) | K44: =IF($B44="","",N(Îlots!$T$21)) | L44: =IF(OR($B44="",$I44=""),"",ROUND($K44-$I44,0)) | M44: =IF(OR($B44="",N($I44)=0),"",$K44/$I44) | O44: =IF($B44="","",Îlots!$Y$21&"")
B45: =IF(Îlots!$D$22="","",Îlots!$D$22) | E45: =IF($B45="","",Îlots!$N$22&"") | H45: =IF($B45="","",Îlots!$E$22) | I45: =IF(OR($B45="",Îlots!$S$22=""),"",Îlots!$S$22) | K45: =IF($B45="","",N(Îlots!$T$22)) | L45: =IF(OR($B45="",$I45=""),"",ROUND($K45-$I45,0)) | M45: =IF(OR($B45="",N($I45)=0),"",$K45/$I45) | O45: =IF($B45="","",Îlots!$Y$22&"")
B46: =IF(Îlots!$D$23="","",Îlots!$D$23) | E46: =IF($B46="","",Îlots!$N$23&"") | H46: =IF($B46="","",Îlots!$E$23) | I46: =IF(OR($B46="",Îlots!$S$23=""),"",Îlots!$S$23) | K46: =IF($B46="","",N(Îlots!$T$23)) | L46: =IF(OR($B46="",$I46=""),"",ROUND($K46-$I46,0)) | M46: =IF(OR($B46="",N($I46)=0),"",$K46/$I46) | O46: =IF($B46="","",Îlots!$Y$23&"")
B47: =IF(Îlots!$D$24="","",Îlots!$D$24) | E47: =IF($B47="","",Îlots!$N$24&"") | H47: =IF($B47="","",Îlots!$E$24) | I47: =IF(OR($B47="",Îlots!$S$24=""),"",Îlots!$S$24) | K47: =IF($B47="","",N(Îlots!$T$24)) | L47: =IF(OR($B47="",$I47=""),"",ROUND($K47-$I47,0)) | M47: =IF(OR($B47="",N($I47)=0),"",$K47/$I47) | O47: =IF($B47="","",Îlots!$Y$24&"")
B48: =IF(Îlots!$D$25="","",Îlots!$D$25) | E48: =IF($B48="","",Îlots!$N$25&"") | H48: =IF($B48="","",Îlots!$E$25) | I48: =IF(OR($B48="",Îlots!$S$25=""),"",Îlots!$S$25) | K48: =IF($B48="","",N(Îlots!$T$25)) | L48: =IF(OR($B48="",$I48=""),"",ROUND($K48-$I48,0)) | M48: =IF(OR($B48="",N($I48)=0),"",$K48/$I48) | O48: =IF($B48="","",Îlots!$Y$25&"")
...

Sheet Registre
B1: REGISTRE DES ÉPANDAGES | X1: =RaisonSociale -> SCEA du Val de Mérienne
B2: Enregistrement des apports de fertilisants azotés – une ligne par îlot et par apport | X2: ="Campagne "&(AnneeRecolte-1)&"-"&AnneeRecolte&" · récolte "&AnneeRecolte -> Campagne 2026-2027 · récolte 2027
B4: La colonne Contrôle vérifie l'état du sol, le calendrier d'interdiction, la surface, la campagne et le délai de saisie. | L4: Saisie | N4: Calcul automatique
B6: APPORT | G6: FERTILISANT | I6: QUANTITÉS | M6: ÉLÉMENTS APPORTÉS | R6: CONDITIONS ET TRAÇABILITÉ | W6: CONTRÔLE | Z6: COLONNES TECHNIQUES – NE PAS MODIFIER
B7: N° | C7: Date d'épandage | D7: Îlot | E7: Culture ou couvert | F7: Apport réalisé sur | G7: Fertilisant | H7: Type | I7: Surface épandue (ha) | J7: Dose (unité/ha) | K7: Unité | L7: Quantité totale | M7: N total (kg/ha) | N7: N efficace (kg/ha) | O7: P₂O₅ (kg/ha) | P7: K₂O (kg/ha) | Q7: N total apporté (kg) | R7: État du sol | S7: Matériel / mode d'apport | T7: Enfouis- sement (h) | U7: Réalisé par | V7: Date de saisie | W7: Contrôle | X7: Observations (météo, n° de bordereau…) | Z7: Ligne îlot | AA7: Ligne fertil. | AB7: Surface îlot | AC7: Zone vuln. | AD7: Occupation (calendrier) | AE7: Ligne calend. | AF7: Colonne type | AG7: Code jour | AH7: P1 début | AI7: P1 fin | AJ7: P2 début | AK7: P2 fin | AL7: Période interdite | AM7: Effluent d'élevage | AN7: Nature | AO7: N efficace (kg) | AP7: P₂O₅ (kg) | AQ7: K₂O (kg) | AR7: Rang fiche îlot
B8: =IF(C8="","",COUNT($C$8:C8)) -> 1 | C8: 46268 | D8: 08 – Les Terres Fortes | E8: =IF($Z8="","",IF($F8=ApportCouvert,INDEX(Îlots!$I$8:$I$57,$Z8)&"",INDEX(Îlots!$N$8:$N$57,$Z8)&"")) -> CINE (non exporté) | F8: Couvert d'interculture | G8: Fumier de bovins (compact) | H8: =IF($AA8="","",INDEX(Fertilisants!$D$8:$D$47,$AA8)&"") -> Type Ia | I8: 13.1 | J8: 20 | K8: =IF($AA8="","",INDEX(Fertilisants!$E$8:$E$47,$AA8)&"") -> t | L8: =IF(OR($I8="",$J8=""),"",$I8*$J8) -> 262 | M8: =IF(OR($J8="",$AA8=""),"",$J8*N(INDEX(Fertilisants!$G$8:$G$47,$AA8))) -> 116 | N8: =IF(OR($J8="",$AA8=""),"",$J8*N(INDEX(Fertilisants!$I$8:$I$47,$AA8))) -> 11.6 | O8: =IF(OR($J8="",$AA8=""),"",$J8*N(INDEX(Fertilisants!$J$8:$J$47,$AA8))) -> 52 | P8: =IF(OR($J8="",$AA8=""),"",$J8*N(INDEX(Fertilisants!$K$8:$K$47,$AA8))) -> 190 | Q8: =IF(OR($I8="",$M8=""),"",$I8*$M8) -> 1519.6 | R8: Ressuyé | S8: Épandeur à hérissons verticaux | U8: Exploitant | V8: 46270 | W8: =IF($C8="","",IF(OR($D8="",$G8="",$I8="",$J8=""),"Incomplet",IF(OR($R8="Enneigé",$R8="Détrempé",$R8="Inondé",AND($R8="Gelé",$H8<>"Type 0",$H8<>"Type Ia")),"Sol interdit",IF($AL8=1,"Période interdite",IF(AND(ISNUMBER($AB8),$I8>$AB8+0.001),"Surface > îlot",IF(OR($C8<DebutCampagne,$C8>FinCampagne),"Hors campagne",IF(AND(ISNUMBER($V8),$V8-$C8>DelaiSaisie),"Saisie tardive","Conforme"))))))) -> Conforme | X8: Épandage sur couvert levé | Z8: =IF($D8="","",IFERROR(MATCH($D8,Îlots!$D$8:$D$57,0),"")) -> 8 | AA8: =IF($G8="","",IFERROR(MATCH($G8,Fertilisants!$B$8:$B$47,0),"")) -> 1 | AB8: =IF($Z8="","",INDEX(Îlots!$E$8:$E$57,$Z8)) -> 13.1 | AC8: =IF($Z8="","",INDEX(Îlots!$G$8:$G$57,$Z8)&"") -> Oui | AD8: =IF($Z8="","",IF($F8=ApportCouvert,OccCouvert,INDEX(Îlots!$O$8:$O$57,$Z8)&"")) -> Couvert d'interculture (CINE, CIE) | AE8: =IF(OR($AD8="",$AC8="Non",ZoneVulnerable="Non"),"",IFERROR(MATCH($AD8,CalOccupations,0),"")) -> 5 | AF8: =IF($H8="","",IFERROR(MATCH($H8,CalTypes,0),"")) -> 3 | AG8: =IF(ISNUMBER($C8),MONTH($C8)*100+DAY($C8),"") -> 903 | AH8: =IF(OR($AE8="",$AF8=""),0,IF(N(INDEX(CalPrincipal,$AE8,$AF8+0))=0,0,MONTH(INDEX(CalPrincipal,$AE8,$AF8+0))*100+DAY(INDEX(CalPrincipal,$AE8,$AF8+0)))) -> 1115 | AI8: =IF(OR($AE8="",$AF8=""),0,IF(N(INDEX(CalPrincipal,$AE8,$AF8+1))=0,0,MONTH(INDEX(CalPrincipal,$AE8,$AF8+1))*100+DAY(INDEX(CalPrincipal,$AE8,$AF8+1)))) -> 115 | AJ8: =IF(OR($AE8="",$AF8=""),0,IF(N(INDEX(CalComplement,$AE8,$AF8+0))=0,0,MONTH(INDEX(CalComplement,$AE8,$AF8+0))*100+DAY(INDEX(CalComplement,$AE8,$AF8+0)))) -> 0 | AK8: =IF(OR($AE8="",$AF8=""),0,IF(N(INDEX(CalComplement,$AE8,$AF8+1))=0,0,MONTH(INDEX(CalComplement,$AE8,$AF8+1))*100+DAY(INDEX(CalComplement,$AE8,$AF8+1)))) -> 0 | AL8: =IF(OR($AE8="",$AF8="",$AG8=""),0,IF(OR(AND($AH8>0,IF($AH8<=$AI8,AND($AG8>=$AH8,$AG8<=$AI8),OR($AG8>=$AH8,$AG8<=$AI8))),AND($AJ8>0,IF($AJ8<=$AK8,AND($AG8>=$AJ8,$AG8<=$AK8),OR($AG8>=$AJ8,$AG8<=$AK8)))),1,0)) -> 0 | AM8: =IF($AA8="",0,IF(INDEX(Fertilisants!$C$8:$C$47,$AA8)="Effluent d'élevage",1,0)) -> 1 | AN8: =IF($AA8="","",IF(INDEX(Fertilisants!$C$8:$C$47,$AA8)="Engrais minéral","Minéral","Organique")) -> Organique | AO8: =IF(OR($I8="",$N8=""),"",$I8*$N8) -> 151.96 | AP8: =IF(OR($I8="",$O8=""),"",$I8*$O8) -> 681.2 | AQ8: =IF(OR($I8="",$P8=""),"",$I8*$P8) -> 2489 | AR8: =IF(AND($D8<>"",$D8=FicheIlot),COUNTIF($D$8:$D8,FicheIlot),"")
B9: =IF(C9="","",COUNT($C$8:C9)) -> 2 | C9: 46273 | D9: 03 – La Garenne | E9: =IF($Z9="","",IF($F9=ApportCouvert,INDEX(Îlots!$I$8:$I$57,$Z9)&"",INDEX(Îlots!$N$8:$N$57,$Z9)&"")) -> Colza d'hiver | F9: Culture en place | G9: Lisier de bovins | H9: =IF($AA9="","",INDEX(Fertilisants!$D$8:$D$47,$AA9)&"") -> Type II | I9: 9.6 | J9: 25 | K9: =IF($AA9="","",INDEX(Fertilisants!$E$8:$E$47,$AA9)&"") -> m³ | L9: =IF(OR($I9="",$J9=""),"",$I9*$J9) -> 240 | M9: =IF(OR($J9="",$AA9=""),"",$J9*N(INDEX(Fertilisants!$G$8:$G$47,$AA9))) -> 100 | N9: =IF(OR($J9="",$AA9=""),"",$J9*N(INDEX(Fertilisants!$I$8:$I$47,$AA9))) -> 50 | O9: =IF(OR($J9="",$AA9=""),"",$J9*N(INDEX(Fertilisants!$J$8:$J$47,$AA9))) -> 42.5 | P9: =IF(OR($J9="",$AA9=""),"",$J9*N(INDEX(Fertilisants!$K$8:$K$47,$AA9))) -> 115 | Q9: =IF(OR($I9="",$M9=""),"",$I9*$M9) -> 960 | R9: Ressuyé | S9: Tonne – rampe à pendillards | U9: Entreprise de travaux (ETA) | V9: 46274 | W9: =IF($C9="","",IF(OR($D9="",$G9="",$I9="",$J9=""),"Incomplet",IF(OR($R9="Enneigé",$R9="Détrempé",$R9="Inondé",AND($R9="Gelé",$H9<>"Type 0",$H9<>"Type Ia")),"Sol interdit",IF($AL9=1,"Période interdite",IF(AND(ISNUMBER($AB9),$I9>$AB9+0.001),"Surface > îlot",IF(OR($C9<DebutCampagne,$C9>FinCampagne),"Hors campagne",IF(AND(ISNUMBER($V9),$V9-$C9>DelaiSaisie),"Saisie tardive","Conforme"))))))) -> Conforme | Z9: =IF($D9="","",IFERROR(MATCH($D9,Îlots!$D$8:$D$57,0),"")) -> 3 | AA9: =IF($G9="","",IFERROR(MATCH($G9,Fertilisants!$B$8:$B$47,0),"")) -> 2 | AB9: =IF($Z9="","",INDEX(Îlots!$E$8:$E$57,$Z9)) -> 9.6 | AC9: =IF($Z9="","",INDEX(Îlots!$G$8:$G$57,$Z9)&"") -> Oui | AD9: =IF($Z9="","",IF($F9=ApportCouvert,OccCouvert,INDEX(Îlots!$O$8:$O$57,$Z9)&"")) -> Colza d'automne | AE9: =IF(OR($AD9="",$AC9="Non",ZoneVulnerable="Non"),"",IFERROR(MATCH($AD9,CalOccupations,0),"")) -> 2 | AF9: =IF($H9="","",IFERROR(MATCH($H9,CalTypes,0),"")) -> 7 | AG9: =IF(ISNUMBER($C9),MONTH($C9)*100+DAY($C9),"") -> 908 | AH9: =IF(OR($AE9="",$AF9=""),0,IF(N(INDEX(CalPrincipal,$AE9,$AF9+0))=0,0,MONTH(INDEX(CalPrincipal,$AE9,$AF9+0))*100+DAY(INDEX(CalPrincipal,$AE9,$AF9+0)))) -> 1015 | AI9: =IF(OR($AE9="",$AF9=""),0,IF(N(INDEX(CalPrincipal,$AE9,$AF9+1))=0,0,MONTH(INDEX(CalPrincipal,$AE9,$AF9+1))*100+DAY(INDEX(CalPrincipal,$AE9,$AF9+1)))) -> 131 | AJ9: =IF(OR($AE9="",$AF9=""),0,IF(N(INDEX(CalComplement,$AE9,$AF9+0))=0,0,MONTH(INDEX(CalComplement,$AE9,$AF9+0))*100+DAY(INDEX(CalComplement,$AE9,$AF9+0)))) -> 0 | AK9: =IF(OR($AE9="",$AF9=""),0,IF(N(INDEX(CalComplement,$AE9,$AF9+1))=0,0,MONTH(INDEX(CalComplement,$AE9,$AF9+1))*100+DAY(INDEX(CalComplement,$AE9,$AF9+1)))) -> 0 | AL9: =IF(OR($AE9="",$AF9="",$AG9=""),0,IF(OR(AND($AH9>0,IF($AH9<=$AI9,AND($AG9>=$AH9,$AG9<=$AI9),OR($AG9>=$AH9,$AG9<=$AI9))),AND($AJ9>0,IF($AJ9<=$AK9,AND($AG9>=$AJ9,$AG9<=$AK9),OR($AG9>=$AJ9,$AG9<=$AK9)))),1,0)) -> 0 | AM9: =IF($AA9="",0,IF(INDEX(Fertilisants!$C$8:$C$47,$AA9)="Effluent d'élevage",1,0)) -> 1 | AN9: =IF($AA9="","",IF(INDEX(Fertilisants!$C$8:$C$47,$AA9)="Engrais minéral","Minéral","Organique")) -> Organique | AO9: =IF(OR($I9="",$N9=""),"",$I9*$N9) -> 480 | AP9: =IF(OR($I9="",$O9=""),"",$I9*$O9) -> 408 | AQ9: =IF(OR($I9="",$P9=""),"",$I9*$P9) -> 1104 | AR9: =IF(AND($D9<>"",$D9=FicheIlot),COUNTIF($D$8:$D9,FicheIlot),"")
B10: =IF(C10="","",COUNT($C$8:C10)) -> 3 | C10: 46275 | D10: 01 – La Croix Blanche | E10: =IF($Z10="","",IF($F10=ApportCouvert,INDEX(Îlots!$I$8:$I$57,$Z10)&"",INDEX(Îlots!$N$8:$N$57,$Z10)&"")) -> CINE (non exporté) | F10: Couvert d'interculture | G10: Fumier de bovins (compact) | H10: =IF($AA10="","",INDEX(Fertilisants!$D$8:$D$47,$AA10)&"") -> Type Ia | I10: 14.8 | J10: 30 | K10: =IF($AA10="","",INDEX(Fertilisants!$E$8:$E$47,$AA10)&"") -> t | L10: =IF(OR($I10="",$J10=""),"",$I10*$J10) -> 444 | M10: =IF(OR($J10="",$AA10=""),"",$J10*N(INDEX(Fertilisants!$G$8:$G$47,$AA10))) -> 174 | N10: =IF(OR($J10="",$AA10=""),"",$J10*N(INDEX(Fertilisants!$I$8:$I$47,$AA10))) -> 17.4 | O10: =IF(OR($J10="",$AA10=""),"",$J10*N(INDEX(Fertilisants!$J$8:$J$47,$AA10))) -> 78 | P10: =IF(OR($J10="",$AA10=""),"",$J10*N(INDEX(Fertilisants!$K$8:$K$47,$AA10))) -> 285 | Q10: =IF(OR($I10="",$M10=""),"",$I10*$M10) -> 2575.2 | R10: Ressuyé | S10: Épandeur à hérissons verticaux | U10: Exploitant | V10: 46279 | W10: =IF($C10="","",IF(OR($D10="",$G10="",$I10="",$J10=""),"Incomplet",IF(OR($R10="Enneigé",$R10="Détrempé",$R10="Inondé",AND($R10="Gelé",$H10<>"Type 0",$H10<>"Type Ia")),"Sol interdit",IF($AL10=1,"Période interdite",IF(AND(ISNUMBER($AB10),$I10>$AB10+0.001),"Surface > îlot",IF(OR($C10<DebutCampagne,$C10>FinCampagne),"Hors campagne",IF(AND(ISNUMBER($V10),$V10-$C10>DelaiSaisie),"Saisie tardive","Conforme"))))))) -> Conforme | Z10: =IF($D10="","",IFERROR(MATCH($D10,Îlots!$D$8:$D$57,0),"")) -> 1 | AA10: =IF($G10="","",IFERROR(MATCH($G10,Fertilisants!$B$8:$B$47,0),"")) -> 1 | AB10: =IF($Z10="","",INDEX(Îlots!$E$8:$E$57,$Z10)) -> 14.8 | AC10: =IF($Z10="","",INDEX(Îlots!$G$8:$G$57,$Z10)&"") -> Oui | AD10: =IF($Z10="","",IF($F10=ApportCouvert,OccCouvert,INDEX(Îlots!$O$8:$O$57,$Z10)&"")) -> Couvert d'interculture (CINE, CIE) | AE10: =IF(OR($AD10="",$AC10="Non",ZoneVulnerable="Non"),"",IFERROR(MATCH($AD10,CalOccupations,0),"")) -> 5 | AF10: =IF($H10="","",IFERROR(MATCH($H10,CalTypes,0),"")) -> 3 | AG10: =IF(ISNUMBER($C10),MONTH($C10)*100+DAY($C10),"") -> 910 | AH10: =IF(OR($AE10="",$AF10=""),0,IF(N(INDEX(CalPrincipal,$AE10,$AF10+0))=0,0,MONTH(INDEX(CalPrincipal,$AE10,$AF10+0))*100+DAY(INDEX(CalPrincipal,$AE10,$AF10+0)))) -> 1115 | AI10: =IF(OR($AE10="",$AF10=""),0,IF(N(INDEX(CalPrincipal,$AE10,$AF10+1))=0,0,MONTH(INDEX(CalPrincipal,$AE10,$AF10+1))*100+DAY(INDEX(CalPrincipal,$AE10,$AF10+1)))) -> 115 | AJ10: =IF(OR($AE10="",$AF10=""),0,IF(N(INDEX(CalComplement,$AE10,$AF10+0))=0,0,MONTH(INDEX(CalComplement,$AE10,$AF10+0))*100+DAY(INDEX(CalComplement,$AE10,$AF10+0)))) -> 0 | AK10: =IF(OR($AE10="",$AF10=""),0,IF(N(INDEX(CalComplement,$AE10,$AF10+1))=0,0,MONTH(INDEX(CalComplement,$AE10,$AF10+1))*100+DAY(INDEX(CalComplement,$AE10,$AF10+1)))) -> 0 | AL10: =IF(OR($AE10="",$AF10="",$AG10=""),0,IF(OR(AND($AH10>0,IF($AH10<=$AI10,AND($AG10>=$AH10,$AG10<=$AI10),OR($AG10>=$AH10,$AG10<=$AI10))),AND($AJ10>0,IF($AJ10<=$AK10,AND($AG10>=$AJ10,$AG10<=$AK10),OR($AG10>=$AJ10,$AG10<=$AK10)))),1,0)) -> 0 | AM10: =IF($AA10="",0,IF(INDEX(Fertilisants!$C$8:$C$47,$AA10)="Effluent d'élevage",1,0)) -> 1 | AN10: =IF($AA10="","",IF(INDEX(Fertilisants!$C$8:$C$47,$AA10)="Engrais minéral","Minéral","Organique")) -> Organique | AO10: =IF(OR($I10="",$N10=""),"",$I10*$N10) -> 257.52 | AP10: =IF(OR($I10="",$O10=""),"",$I10*$O10) -> 1154.4 | AQ10: =IF(OR($I10="",$P10=""),"",$I10*$P10) -> 4218 | AR10: =IF(AND($D10<>"",$D10=FicheIlot),COUNTIF($D$8:$D10,FicheIlot),"")
B11: =IF(C11="","",COUNT($C$8:C11)) -> 4 | C11: 46280 | D11: 06 – Pré Long | E11: =IF($Z11="","",IF($F11=ApportCouvert,INDEX(Îlots!$I$8:$I$57,$Z11)&"",INDEX(Îlots!$N$8:$N$57,$Z11)&"")) -> Prairie permanente | F11: Culture en place | G11: Lisier de bovins | H11: =IF($AA11="","",INDEX(Fertilisants!$D$8:$D$47,$AA11)&"") -> Type II | I11: 8.9 | J11: 20 | K11: =IF($AA11="","",INDEX(Fertilisants!$E$8:$E$47,$AA11)&"") -> m³ | L11: =IF(OR($I11="",$J11=""),"",$I11*$J11) -> 178 | M11: =IF(OR($J11="",$AA11=""),"",$J11*N(INDEX(Fertilisants!$G$8:$G$47,$AA11))) -> 80 | N11: =IF(OR($J11="",$AA11=""),"",$J11*N(INDEX(Fertilisants!$I$8:$I$47,$AA11))) -> 40 | O11: =IF(OR($J11="",$AA11=""),"",$J11*N(INDEX(Fertilisants!$J$8:$J$47,$AA11))) -> 34 | P11: =IF(OR($J11="",$AA11=""),"",$J11*N(INDEX(Fertilisants!$K$8:$K$47,$AA11))) -> 92 | Q11: =IF(OR($I11="",$M11=""),"",$I11*$M11) -> 712 | R11: Ressuyé | S11: Tonne – rampe à pendillards | U11: Exploitant | V11: 46280 | W11: =IF($C11="","",IF(OR($D11="",$G11="",$I11="",$J11=""),"Incomplet",IF(OR($R11="Enneigé",$R11="Détrempé",$R11="Inondé",AND($R11="Gelé",$H11<>"Type 0",$H11<>"Type Ia")),"Sol interdit",IF($AL11=1,"Période interdite",IF(AND(ISNUMBER($AB11),$I11>$AB11+0.001),"Surface > îlot",IF(OR($C11<DebutCampagne,$C11>FinCampagne),"Hors campagne",IF(AND(ISNUMBER($V11),$V11-$C11>DelaiSaisie),"Saisie tardive","Conforme"))))))) -> Conforme | Z11: =IF($D11="","",IFERROR(MATCH($D11,Îlots!$D$8:$D$57,0),"")) -> 6 | AA11: =IF($G11="","",IFERROR(MATCH($G11,Fertilisants!$B$8:$B$47,0),"")) -> 2 | AB11: =IF($Z11="","",INDEX(Îlots!$E$8:$E$57,$Z11)) -> 8.9 | AC11: =IF($Z11="","",INDEX(Îlots!$G$8:$G$57,$Z11)&"") -> Oui | AD11: =IF($Z11="","",IF($F11=ApportCouvert,OccCouvert,INDEX(Îlots!$O$8:$O$57,$Z11)&"")) -> Prairie > 6 mois et luzerne | AE11: =IF(OR($AD11="",$AC11="Non",ZoneVulnerable="Non"),"",IFERROR(MATCH($AD11,CalOccupations,0),"")) -> 4 | AF11: =IF($H11="","",IFERROR(MATCH($H11,CalTypes,0),"")) -> 7 | AG11: =IF(ISNUMBER($C11),MONTH($C11)*100+DAY($C11),"") -> 915 | AH11: =IF(OR($AE11="",$AF11=""),0,IF(N(INDEX(CalPrincipal,$AE11,$AF11+0))=0,0,MONTH(INDEX(CalPrincipal,$AE11,$AF11+0))*100+DAY(INDEX(CalPrincipal,$AE11,$AF11+0)))) -> 1115 | AI11: =IF(OR($AE11="",$AF11=""),0,IF(N(INDEX(CalPrincipal,$AE11,$AF11+1))=0,0,MONTH(INDEX(CalPrincipal,$AE11,$AF11+1))*100+DAY(INDEX(CalPrincipal,$AE11,$AF11+1)))) -> 115 | AJ11: =IF(OR($AE11="",$AF11=""),0,IF(N(INDEX(CalComplement,$AE11,$AF11+0))=0,0,MONTH(INDEX(CalComplement,$AE11,$AF11+0))*100+DAY(INDEX(CalComplement,$AE11,$AF11+0)))) -> 0 | AK11: =IF(OR($AE11="",$AF11=""),0,IF(N(INDEX(CalComplement,$AE11,$AF11+1))=0,0,MONTH(INDEX(CalComplement,$AE11,$AF11+1))*100+DAY(INDEX(CalComplement,$AE11,$AF11+1)))) -> 0 | AL11: =IF(OR($AE11="",$AF11="",$AG11=""),0,IF(OR(AND($AH11>0,IF($AH11<=$AI11,AND($AG11>=$AH11,$AG11<=$AI11),OR($AG11>=$AH11,$AG11<=$AI11))),AND($AJ11>0,IF($AJ11<=$AK11,AND($AG11>=$AJ11,$AG11<=$AK11),OR($AG11>=$AJ11,$AG11<=$AK11)))),1,0)) -> 0 | AM11: =IF($AA11="",0,IF(INDEX(Fertilisants!$C$8:$C$47,$AA11)="Effluent d'élevage",1,0)) -> 1 | AN11: =IF($AA11="","",IF(INDEX(Fertilisants!$C$8:$C$47,$AA11)="Engrais minéral","Minéral","Organique")) -> Organique | AO11: =IF(OR($I11="",$N11=""),"",$I11*$N11) -> 356 | AP11: =IF(OR($I11="",$O11=""),"",$I11*$O11) -> 302.6 | AQ11: =IF(OR($I11="",$P11=""),"",$I11*$P11) -> 818.8 | AR11: =IF(AND($D11<>"",$D11=FicheIlot),COUNTIF($D$8:$D11,FicheIlot),"")
B12: =IF(C12="","",COUNT($C$8:C12)) -> 5 | C12: 46287 | D12: 02 – Les Noues | E12: =IF($Z12="","",IF($F12=ApportCouvert,INDEX(Îlots!$I$8:$I$57,$Z12)&"",INDEX(Îlots!$N$8:$N$57,$Z12)&"")) -> Blé tendre d'hiver | F12: Sol nu avant semis | G12: Fumier de bovins (compact) | H12: =IF($AA12="","",INDEX(Fertilisants!$D$8:$D$47,$AA12)&"") -> Type Ia | I12: 11.35 | J12: 25 | K12: =IF($AA12="","",INDEX(Fertilisants!$E$8:$E$47,$AA12)&"") -> t | L12: =IF(OR($I12="",$J12=""),"",$I12*$J12) -> 283.75 | M12: =IF(OR($J12="",$AA12=""),"",$J12*N(INDEX(Fertilisants!$G$8:$G$47,$AA12))) -> 145 | N12: =IF(OR($J12="",$AA12=""),"",$J12*N(INDEX(Fertilisants!$I$8:$I$47,$AA12))) -> 14.5 | O12: =IF(OR($J12="",$AA12=""),"",$J12*N(INDEX(Fertilisants!$J$8:$J$47,$AA12))) -> 65 | P12: =IF(OR($J12="",$AA12=""),"",$J12*N(INDEX(Fertilisants!$K$8:$K$47,$AA12))) -> 237.5 | Q12: =IF(OR($I12="",$M12=""),"",$I12*$M12) -> 1645.75 | R12: Ressuyé | S12: Épandeur à table | T12: 12 | U12: Exploitant | V12: 46289 | W12: =IF($C12="","",IF(OR($D12="",$G12="",$I12="",$J12=""),"Incomplet",IF(OR($R12="Enneigé",$R12="Détrempé",$R12="Inondé",AND($R12="Gelé",$H12<>"Type 0",$H12<>"Type Ia")),"Sol interdit",IF($AL12=1,"Période interdite",IF(AND(ISNUMBER($AB12),$I12>$AB12+0.001),"Surface > îlot",IF(OR($C12<DebutCampagne,$C12>FinCampagne),"Hors campagne",IF(AND(ISNUMBER($V12),$V12-$C12>DelaiSaisie),"Saisie tardive","Conforme"))))))) -> Conforme | X12: Enfoui par labour | Z12: =IF($D12="","",IFERROR(MATCH($D12,Îlots!$D$8:$D$57,0),"")) -> 2 | AA12: =IF($G12="","",IFERROR(MATCH($G12,Fertilisants!$B$8:$B$47,0),"")) -> 1 | AB12: =IF($Z12="","",INDEX(Îlots!$E$8:$E$57,$Z12)) -> 11.35 | AC12: =IF($Z12="","",INDEX(Îlots!$G$8:$G$57,$Z12)&"") -> Oui | AD12: =IF($Z12="","",IF($F12=ApportCouvert,OccCouvert,INDEX(Îlots!$O$8:$O$57,$Z12)&"")) -> Culture d'automne (hors colza) | AE12: =IF(OR($AD12="",$AC12="Non",ZoneVulnerable="Non"),"",IFERROR(MATCH($AD12,CalOccupations,0),"")) -> 1 | AF12: =IF($H12="","",IFERROR(MATCH($H12,CalTypes,0),"")) -> 3 | AG12: =IF(ISNUMBER($C12),MONTH($C12)*100+DAY($C12),"") -> 922 | AH12: =IF(OR($AE12="",$AF12=""),0,IF(N(INDEX(CalPrincipal,$AE12,$AF12+0))=0,0,MONTH(INDEX(CalPrincipal,$AE12,$AF12+0))*100+DAY(INDEX(CalPrincipal,$AE12,$AF12+0)))) -> 1115 | AI12: =IF(OR($AE12="",$AF12=""),0,IF(N(INDEX(CalPrincipal,$AE12,$AF12+1))=0,0,MONTH(INDEX(CalPrincipal,$AE12,$AF12+1))*100+DAY(INDEX(CalPrincipal,$AE12,$AF12+1)))) -> 115 | AJ12: =IF(OR($AE12="",$AF12=""),0,IF(N(INDEX(CalComplement,$AE12,$AF12+0))=0,0,MONTH(INDEX(CalComplement,$AE12,$AF12+0))*100+DAY(INDEX(CalComplement,$AE12,$AF12+0)))) -> 0 | AK12: =IF(OR($AE12="",$AF12=""),0,IF(N(INDEX(CalComplement,$AE12,$AF12+1))=0,0,MONTH(INDEX(CalComplement,$AE12,$AF12+1))*100+DAY(INDEX(CalComplement,$AE12,$AF12+1)))) -> 0 | AL12: =IF(OR($AE12="",$AF12="",$AG12=""),0,IF(OR(AND($AH12>0,IF($AH12<=$AI12,AND($AG12>=$AH12,$AG12<=$AI12),OR($AG12>=$AH12,$AG12<=$AI12))),AND($AJ12>0,IF($AJ12<=$AK12,AND($AG12>=$AJ12,$AG12<=$AK12),OR($AG12>=$AJ12,$AG12<=$AK12)))),1,0)) -> 0 | AM12: =IF($AA12="",0,IF(INDEX(Fertilisants!$C$8:$C$47,$AA12)="Effluent d'élevage",1,0)) -> 1 | AN12: =IF($AA12="","",IF(INDEX(Fertilisants!$C$8:$C$47,$AA12)="Engrais minéral","Minéral","Organique")) -> Organique | AO12: =IF(OR($I12="",$N12=""),"",$I12*$N12) -> 164.575 | AP12: =IF(OR($I12="",$O12=""),"",$I12*$O12) -> 737.75 | AQ12: =IF(OR($I12="",$P12=""),"",$I12*$P12) -> 2695.625 | AR12: =IF(AND($D12<>"",$D12=FicheIlot),COUNTIF($D$8:$D12,FicheIlot),"")
B13: =IF(C13="","",COUNT($C$8:C13)) -> 6 | C13: 46300 | D13: 07 – La Fosse aux Loups | E13: =IF($Z13="","",IF($F13=ApportCouvert,INDEX(Îlots!$I$8:$I$57,$Z13)&"",INDEX(Îlots!$N$8:$N$57,$Z13)&"")) -> Prairie temporaire | F13: Culture en place | G13: Compost de fumier | H13: =IF($AA13="","",INDEX(Fertilisants!$D$8:$D$47,$AA13)&"") -> Type Ia | I13: 7.45 | J13: 15 | K13: =IF($AA13="","",INDEX(Fertilisants!$E$8:$E$47,$AA13)&"") -> t | L13: =IF(OR($I13="",$J13=""),"",$I13*$J13) -> 111.75 | M13: =IF(OR($J13="",$AA13=""),"",$J13*N(INDEX(Fertilisants!$G$8:$G$47,$AA13))) -> 108 | N13: =IF(OR($J13="",$AA13=""),"",$J13*N(INDEX(Fertilisants!$I$8:$I$47,$AA13))) -> 8.64 | O13: =IF(OR($J13="",$AA13=""),"",$J13*N(INDEX(Fertilisants!$J$8:$J$47,$AA13))) -> 67.5 | P13: =IF(OR($J13="",$AA13=""),"",$J13*N(INDEX(Fertilisants!$K$8:$K$47,$AA13))) -> 165 | Q13: =IF(OR($I13="",$M13=""),"",$I13*$M13) -> 804.6 | R13: Ressuyé | S13: Épandeur à table | U13: CUMA | V13: 46302 | W13: =IF($C13="","",IF(OR($D13="",$G13="",$I13="",$J13=""),"Incomplet",IF(OR($R13="Enneigé",$R13="Détrempé",$R13="Inondé",AND($R13="Gelé",$H13<>"Type 0",$H13<>"Type Ia")),"Sol interdit",IF($AL13=1,"Période interdite",IF(AND(ISNUMBER($AB13),$I13>$AB13+0.001),"Surface > îlot",IF(OR($C13<DebutCampagne,$C13>FinCampagne),"Hors campagne",IF(AND(ISNUMBER($V13),$V13-$C13>DelaiSaisie),"Saisie tardive","Conforme"))))))) -> Conforme | X13: Îlot hors zone vulnérable | Z13: =IF($D13="","",IFERROR(MATCH($D13,Îlots!$D$8:$D$57,0),"")) -> 7 | AA13: =IF($G13="","",IFERROR(MATCH($G13,Fertilisants!$B$8:$B$47,0),"")) -> 4 | AB13: =IF($Z13="","",INDEX(Îlots!$E$8:$E$57,$Z13)) -> 7.45 | AC13: =IF($Z13="","",INDEX(Îlots!$G$8:$G$57,$Z13)&"") -> Non | AD13: =IF($Z13="","",IF($F13=ApportCouvert,OccCouvert,INDEX(Îlots!$O$8:$O$57,$Z13)&"")) -> Prairie > 6 mois et luzerne | AE13: =IF(OR($AD13="",$AC13="Non",ZoneVulnerable="Non"),"",IFERROR(MATCH($AD13,CalOccupations,0),"")) | AF13: =IF($H13="","",IFERROR(MATCH($H13,CalTypes,0),"")) -> 3 | AG13: =IF(ISNUMBER($C13),MONTH($C13)*100+DAY($C13),"") -> 1005 | AH13: =IF(OR($AE13="",$AF13=""),0,IF(N(INDEX(CalPrincipal,$AE13,$AF13+0))=0,0,MONTH(INDEX(CalPrincipal,$AE13,$AF13+0))*100+DAY(INDEX(CalPrincipal,$AE13,$AF13+0)))) -> 0 | AI13: =IF(OR($AE13="",$AF13=""),0,IF(N(INDEX(CalPrincipal,$AE13,$AF13+1))=0,0,MONTH(INDEX(CalPrincipal,$AE13,$AF13+1))*100+DAY(INDEX(CalPrincipal,$AE13,$AF13+1)))) -> 0 | AJ13: =IF(OR($AE13="",$AF13=""),0,IF(N(INDEX(CalComplement,$AE13,$AF13+0))=0,0,MONTH(INDEX(CalComplement,$AE13,$AF13+0))*100+DAY(INDEX(CalComplement,$AE13,$AF13+0)))) -> 0 | AK13: =IF(OR($AE13="",$AF13=""),0,IF(N(INDEX(CalComplement,$AE13,$AF13+1))=0,0,MONTH(INDEX(CalComplement,$AE13,$AF13+1))*100+DAY(INDEX(CalComplement,$AE13,$AF13+1)))) -> 0 | AL13: =IF(OR($AE13="",$AF13="",$AG13=""),0,IF(OR(AND($AH13>0,IF($AH13<=$AI13,AND($AG13>=$AH13,$AG13<=$AI13),OR($AG13>=$AH13,$AG13<=$AI13))),AND($AJ13>0,IF($AJ13<=$AK13,AND($AG13>=$AJ13,$AG13<=$AK13),OR($AG13>=$AJ13,$AG13<=$AK13)))),1,0)) -> 0 | AM13: =IF($AA13="",0,IF(INDEX(Fertilisants!$C$8:$C$47,$AA13)="Effluent d'élevage",1,0)) -> 1 | AN13: =IF($AA13="","",IF(INDEX(Fertilisants!$C$8:$C$47,$AA13)="Engrais minéral","Minéral","Organique")) -> Organique | AO13: =IF(OR($I13="",$N13=""),"",$I13*$N13) -> 64.368 | AP13: =IF(OR($I13="",$O13=""),"",$I13*$O13) -> 502.875 | AQ13: =IF(OR($I13="",$P13=""),"",$I13*$P13) -> 1229.25 | AR13: =IF(AND($D13<>"",$D13=FicheIlot),COUNTIF($D$8:$D13,FicheIlot),"")
B14: =IF(C14="","",COUNT($C$8:C14)) -> 7 | C14: 46350 | D14: 04 – Le Paradis | E14: =IF($Z14="","",IF($F14=ApportCouvert,INDEX(Îlots!$I$8:$I$57,$Z14)&"",INDEX(Îlots!$N$8:$N$57,$Z14)&"")) -> CIE (dérobée exportée) | F14: Couvert d'interculture | G14: Lisier de bovins | H14: =IF($AA14="","",INDEX(Fertilisants!$D$8:$D$47,$AA14)&"") -> Type II | I14: 16.2 | J14: 30 | K14: =IF($AA14="","",INDEX(Fertilisants!$E$8:$E$47,$AA14)&"") -> m³ | L14: =IF(OR($I14="",$J14=""),"",$I14*$J14) -> 486 | M14: =IF(OR($J14="",$AA14=""),"",$J14*N(INDEX(Fertilisants!$G$8:$G$47,$AA14))) -> 120 | N14: =IF(OR($J14="",$AA14=""),"",$J14*N(INDEX(Fertilisants!$I$8:$I$47,$AA14))) -> 60 | O14: =IF(OR($J14="",$AA14=""),"",$J14*N(INDEX(Fertilisants!$J$8:$J$47,$AA14))) -> 51 | P14: =IF(OR($J14="",$AA14=""),"",$J14*N(INDEX(Fertilisants!$K$8:$K$47,$AA14))) -> 138 | Q14: =IF(OR($I14="",$M14=""),"",$I14*$M14) -> 1944 | R14: Humide | S14: Tonne – buse palette | U14: Exploitant | V14: 46352 | W14: =IF($C14="","",IF(OR($D14="",$G14="",$I14="",$J14=""),"Incomplet",IF(OR($R14="Enneigé",$R14="Détrempé",$R14="Inondé",AND($R14="Gelé",$H14<>"Type 0",$H14<>"Type Ia")),"Sol interdit",IF($AL14=1,"Période interdite",IF(AND(ISNUMBER($AB14),$I14>$AB14+0.001),"Surface > îlot",IF(OR($C14<DebutCampagne,$C14>FinCampagne),"Hors campagne",IF(AND(ISNUMBER($V14),$V14-$C14>DelaiSaisie),"Saisie tardive","Conforme"))))))) -> Période interdite | X14: Fosse à saturation – situation à régulariser | Z14: =IF($D14="","",IFERROR(MATCH($D14,Îlots!$D$8:$D$57,0),"")) -> 4 | AA14: =IF($G14="","",IFERROR(MATCH($G14,Fertilisants!$B$8:$B$47,0),"")) -> 2 | AB14: =IF($Z14="","",INDEX(Îlots!$E$8:$E$57,$Z14)) -> 16.2 | AC14: =IF($Z14="","",INDEX(Îlots!$G$8:$G$57,$Z14)&"") -> Oui | AD14: =IF($Z14="","",IF($F14=ApportCouvert,OccCouvert,INDEX(Îlots!$O$8:$O$57,$Z14)&"")) -> Couvert d'interculture (CINE, CIE) | AE14: =IF(OR($AD14="",$AC14="Non",ZoneVulnerable="Non"),"",IFERROR(MATCH($AD14,CalOccupations,0),"")) -> 5 | AF14: =IF($H14="","",IFERROR(MATCH($H14,CalTypes,0),"")) -> 7 | AG14: =IF(ISNUMBER($C14),MONTH($C14)*100+DAY($C14),"") -> 1124 | AH14: =IF(OR($AE14="",$AF14=""),0,IF(N(INDEX(CalPrincipal,$AE14,$AF14+0))=0,0,MONTH(INDEX(CalPrincipal,$AE14,$AF14+0))*100+DAY(INDEX(CalPrincipal,$AE14,$AF14+0)))) -> 1015 | AI14: =IF(OR($AE14="",$AF14=""),0,IF(N(INDEX(CalPrincipal,$AE14,$AF14+1))=0,0,MONTH(INDEX(CalPrincipal,$AE14,$AF14+1))*100+DAY(INDEX(CalPrincipal,$AE14,$AF14+1)))) -> 131 | AJ14: =IF(OR($AE14="",$AF14=""),0,IF(N(INDEX(CalComplement,$AE14,$AF14+0))=0,0,MONTH(INDEX(CalComplement,$AE14,$AF14+0))*100+DAY(INDEX(CalComplement,$AE14,$AF14+0)))) -> 0 | AK14: =IF(OR($AE14="",$AF14=""),0,IF(N(INDEX(CalComplement,$AE14,$AF14+1))=0,0,MONTH(INDEX(CalComplement,$AE14,$AF14+1))*100+DAY(INDEX(CalComplement,$AE14,$AF14+1)))) -> 0 | AL14: =IF(OR($AE14="",$AF14="",$AG14=""),0,IF(OR(AND($AH14>0,IF($AH14<=$AI14,AND($AG14>=$AH14,$AG14<=$AI14),OR($AG14>=$AH14,$AG14<=$AI14))),AND($AJ14>0,IF($AJ14<=$AK14,AND($AG14>=$AJ14,$AG14<=$AK14),OR($AG14>=$AJ14,$AG14<=$AK14)))),1,0)) -> 1 | AM14: =IF($AA14="",0,IF(INDEX(Fertilisants!$C$8:$C$47,$AA14)="Effluent d'élevage",1,0)) -> 1 | AN14: =IF($AA14="","",IF(INDEX(Fertilisants!$C$8:$C$47,$AA14)="Engrais minéral","Minéral","Organique")) -> Organique | AO14: =IF(OR($I14="",$N14=""),"",$I14*$N14) -> 972 | AP14: =IF(OR($I14="",$O14=""),"",$I14*$O14) -> 826.2 | AQ14: =IF(OR($I14="",$P14=""),"",$I14*$P14) -> 2235.6 | AR14: =IF(AND($D14<>"",$D14=FicheIlot),COUNTIF($D$8:$D14,FicheIlot),"") -> 1
B15: =IF(C15="","",COUNT($C$8:C15)) -> 8 | C15: 46426 | D15: 03 – La Garenne | E15: =IF($Z15="","",IF($F15=ApportCouvert,INDEX(Îlots!$I$8:$I$57,$Z15)&"",INDEX(Îlots!$N$8:$N$57,$Z15)&"")) -> Colza d'hiver | F15: Culture en place | G15: Sulfate d'ammoniaque 21 % | H15: =IF($AA15="","",INDEX(Fertilisants!$D$8:$D$47,$AA15)&"") -> Type III | I15: 9.6 | J15: 200 | K15: =IF($AA15="","",INDEX(Fertilisants!$E$8:$E$47,$AA15)&"") -> kg | L15: =IF(OR($I15="",$J15=""),"",$I15*$J15) -> 1920 | M15: =IF(OR($J15="",$AA15=""),"",$J15*N(INDEX(Fertilisants!$G$8:$G$47,$AA15))) -> 42 | N15: =IF(OR($J15="",$AA15=""),"",$J15*N(INDEX(Fertilisants!$I$8:$I$47,$AA15))) -> 42 | O15: =IF(OR($J15="",$AA15=""),"",$J15*N(INDEX(Fertilisants!$J$8:$J$47,$AA15))) -> 0 | P15: =IF(OR($J15="",$AA15=""),"",$J15*N(INDEX(Fertilisants!$K$8:$K$47,$AA15))) -> 0 | Q15: =IF(OR($I15="",$M15=""),"",$I15*$M15) -> 403.2 | R15: Ressuyé | S15: Distributeur centrifuge | U15: Exploitant | V15: 46426 | W15: =IF($C15="","",IF(OR($D15="",$G15="",$I15="",$J15=""),"Incomplet",IF(OR($R15="Enneigé",$R15="Détrempé",$R15="Inondé",AND($R15="Gelé",$H15<>"Type 0",$H15<>"Type Ia")),"Sol interdit",IF($AL15=1,"Période interdite",IF(AND(ISNUMBER($AB15),$I15>$AB15+0.001),"Surface > îlot",IF(OR($C15<DebutCampagne,$C15>FinCampagne),"Hors campagne",IF(AND(ISNUMBER($V15),$V15-$C15>DelaiSaisie),"Saisie tardive","Conforme"))))))) -> Conforme | X15: Reprise de végétation | Z15: =IF($D15="","",IFERROR(MATCH($D15,Îlots!$D$8:$D$57,0),"")) -> 3 | AA15: =IF($G15="","",IFERROR(MATCH($G15,Fertilisants!$B$8:$B$47,0),"")) -> 9 | AB15: =IF($Z15="","",INDEX(Îlots!$E$8:$E$57,$Z15)) -> 9.6 | AC15: =IF($Z15="","",INDEX(Îlots!$G$8:$G$57,$Z15)&"") -> Oui | AD15: =IF($Z15="","",IF($F15=ApportCouvert,OccCouvert,INDEX(Îlots!$O$8:$O$57,$Z15)&"")) -> Colza d'automne | AE15: =IF(OR($AD15="",$AC15="Non",ZoneVulnerable="Non"),"",IFERROR(MATCH($AD15,CalOccupations,0),"")) -> 2 | AF15: =IF($H15="","",IFERROR(MATCH($H15,CalTypes,0),"")) -> 9 | AG15: =IF(ISNUMBER($C15),MONTH($C15)*100+DAY($C15),"") -> 208 | AH15: =IF(OR($AE15="",$AF15=""),0,IF(N(INDEX(CalPrincipal,$AE15,$AF15+0))=0,0,MONTH(INDEX(CalPrincipal,$AE15,$AF15+0))*100+DAY(INDEX(CalPrincipal,$AE15,$AF15+0)))) -> 901 | AI15: =IF(OR($AE15="",$AF15=""),0,IF(N(INDEX(CalPrincipal,$AE15,$AF15+1))=0,0,MONTH(INDEX(CalPrincipal,$AE15,$AF15+1))*100+DAY(INDEX(CalPrincipal,$AE15,$AF15+1)))) -> 131 | AJ15: =IF(OR($AE15="",$AF15=""),0,IF(N(INDEX(CalComplement,$AE15,$AF15+0))=0,0,MONTH(INDEX(CalComplement,$AE15,$AF15+0))*100+DAY(INDEX(CalComplement,$AE15,$AF15+0)))) -> 0 | AK15: =IF(OR($AE15="",$AF15=""),0,IF(N(INDEX(CalComplement,$AE15,$AF15+1))=0,0,MONTH(INDEX(CalComplement,$AE15,$AF15+1))*100+DAY(INDEX(CalComplement,$AE15,$AF15+1)))) -> 0 | AL15: =IF(OR($AE15="",$AF15="",$AG15=""),0,IF(OR(AND($AH15>0,IF($AH15<=$AI15,AND($AG15>=$AH15,$AG15<=$AI15),OR($AG15>=$AH15,$AG15<=$AI15))),AND($AJ15>0,IF($AJ15<=$AK15,AND($AG15>=$AJ15,$AG15<=$AK15),OR($AG15>=$AJ15,$AG15<=$AK15)))),1,0)) -> 0 | AM15: =IF($AA15="",0,IF(INDEX(Fertilisants!$C$8:$C$47,$AA15)="Effluent d'élevage",1,0)) -> 0 | AN15: =IF($AA15="","",IF(INDEX(Fertilisants!$C$8:$C$47,$AA15)="Engrais minéral","Minéral","Organique")) -> Minéral | AO15: =IF(OR($I15="",$N15=""),"",$I15*$N15) -> 403.2 | AP15: =IF(OR($I15="",$O15=""),"",$I15*$O15) -> 0 | AQ15: =IF(OR($I15="",$P15=""),"",$I15*$P15) -> 0 | AR15: =IF(AND($D15<>"",$D15=FicheIlot),COUNTIF($D$8:$D15,FicheIlot),"")
B16: =IF(C16="","",COUNT($C$8:C16)) -> 9 | C16: 46430 | D16: 02 – Les Noues | E16: =IF($Z16="","",IF($F16=ApportCouvert,INDEX(Îlots!$I$8:$I$57,$Z16)&"",INDEX(Îlots!$N$8:$N$57,$Z16)&"")) -> Blé tendre d'hiver | F16: Culture en place | G16: Ammonitrate 33,5 % | H16: =IF($AA16="","",INDEX(Fertilisants!$D$8:$D$47,$AA16)&"") -> Type III | I16: 11.35 | J16: 150 | K16: =IF($AA16="","",INDEX(Fertilisants!$E$8:$E$47,$AA16)&"") -> kg | L16: =IF(OR($I16="",$J16=""),"",$I16*$J16) -> 1702.5 | M16: =IF(OR($J16="",$AA16=""),"",$J16*N(INDEX(Fertilisants!$G$8:$G$47,$AA16))) -> 50.25 | N16: =IF(OR($J16="",$AA16=""),"",$J16*N(INDEX(Fertilisants!$I$8:$I$47,$AA16))) -> 50.25 | O16: =IF(OR($J16="",$AA16=""),"",$J16*N(INDEX(Fertilisants!$J$8:$J$47,$AA16))) -> 0 | P16: =IF(OR($J16="",$AA16=""),"",$J16*N(INDEX(Fertilisants!$K$8:$K$47,$AA16))) -> 0 | Q16: =IF(OR($I16="",$M16=""),"",$I16*$M16) -> 570.3375 | R16: Ressuyé | S16: Distributeur centrifuge | U16: Exploitant | V16: 46431 | W16: =IF($C16="","",IF(OR($D16="",$G16="",$I16="",$J16=""),"Incomplet",IF(OR($R16="Enneigé",$R16="Détrempé",$R16="Inondé",AND($R16="Gelé",$H16<>"Type 0",$H16<>"Type Ia")),"Sol interdit",IF($AL16=1,"Période interdite",IF(AND(ISNUMBER($AB16),$I16>$AB16+0.001),"Surface > îlot",IF(OR($C16<DebutCampagne,$C16>FinCampagne),"Hors campagne",IF(AND(ISNUMBER($V16),$V16-$C16>DelaiSaisie),"Saisie tardive","Conforme"))))))) -> Conforme | X16: 1er apport – tallage | Z16: =IF($D16="","",IFERROR(MATCH($D16,Îlots!$D$8:$D$57,0),"")) -> 2 | AA16: =IF($G16="","",IFERROR(MATCH($G16,Fertilisants!$B$8:$B$47,0),"")) -> 6 | AB16: =IF($Z16="","",INDEX(Îlots!$E$8:$E$57,$Z16)) -> 11.35 | AC16: =IF($Z16="","",INDEX(Îlots!$G$8:$G$57,$Z16)&"") -> Oui | AD16: =IF($Z16="","",IF($F16=ApportCouvert,OccCouvert,INDEX(Îlots!$O$8:$O$57,$Z16)&"")) -> Culture d'automne (hors colza) | AE16: =IF(OR($AD16="",$AC16="Non",ZoneVulnerable="Non"),"",IFERROR(MATCH($AD16,CalOccupations,0),"")) -> 1 | AF16: =IF($H16="","",IFERROR(MATCH($H16,CalTypes,0),"")) -> 9 | AG16: =IF(ISNUMBER($C16),MONTH($C16)*100+DAY($C16),"") -> 212 | AH16: =IF(OR($AE16="",$AF16=""),0,IF(N(INDEX(CalPrincipal,$AE16,$AF16+0))=0,0,MONTH(INDEX(CalPrincipal,$AE16,$AF16+0))*100+DAY(INDEX(CalPrincipal,$AE16,$AF16+0)))) -> 901 | AI16: =IF(OR($AE16="",$AF16=""),0,IF(N(INDEX(CalPrincipal,$AE16,$AF16+1))=0,0,MONTH(INDEX(CalPrincipal,$AE16,$AF16+1))*100+DAY(INDEX(CalPrincipal,$AE16,$AF16+1)))) -> 131 | AJ16: =IF(OR($AE16="",$AF16=""),0,IF(N(INDEX(CalComplement,$AE16,$AF16+0))=0,0,MONTH(INDEX(CalComplement,$AE16,$AF16+0))*100+DAY(INDEX(CalComplement,$AE16,$AF16+0)))) -> 0 | AK16: =IF(OR($AE16="",$AF16=""),0,IF(N(INDEX(CalComplement,$AE16,$AF16+1))=0,0,MONTH(INDEX(CalComplement,$AE16,$AF16+1))*100+DAY(INDEX(CalComplement,$AE16,$AF16+1)))) -> 0 | AL16: =IF(OR($AE16="",$AF16="",$AG16=""),0,IF(OR(AND($AH16>0,IF($AH16<=$AI16,AND($AG16>=$AH16,$AG16<=$AI16),OR($AG16>=$AH16,$AG16<=$AI16))),AND($AJ16>0,IF($AJ16<=$AK16,AND($AG16>=$AJ16,$AG16<=$AK16),OR($AG16>=$AJ16,$AG16<=$AK16)))),1,0)) -> 0 | AM16: =IF($AA16="",0,IF(INDEX(Fertilisants!$C$8:$C$47,$AA16)="Effluent d'élevage",1,0)) -> 0 | AN16: =IF($AA16="","",IF(INDEX(Fertilisants!$C$8:$C$47,$AA16)="Engrais minéral","Minéral","Organique")) -> Minéral | AO16: =IF(OR($I16="",$N16=""),"",$I16*$N16) -> 570.3375 | AP16: =IF(OR($I16="",$O16=""),"",$I16*$O16) -> 0 | AQ16: =IF(OR($I16="",$P16=""),"",$I16*$P16) -> 0 | AR16: =IF(AND($D16<>"",$D16=FicheIlot),COUNTIF($D$8:$D16,FicheIlot),"")
B17: =IF(C17="","",COUNT($C$8:C17)) -> 10 | C17: 46436 | D17: 09 – Les Sablons | E17: =IF($Z17="","",IF($F17=ApportCouvert,INDEX(Îlots!$I$8:$I$57,$Z17)&"",INDEX(Îlots!$N$8:$N$57,$Z17)&"")) -> Triticale | F17: Culture en place | G17: Ammonitrate 33,5 % | H17: =IF($AA17="","",INDEX(Fertilisants!$D$8:$D$47,$AA17)&"") -> Type III | I17: 10.05 | J17: 120 | K17: =IF($AA17="","",INDEX(Fertilisants!$E$8:$E$47,$AA17)&"") -> kg | L17: =IF(OR($I17="",$J17=""),"",$I17*$J17) -> 1206 | M17: =IF(OR($J17="",$AA17=""),"",$J17*N(INDEX(Fertilisants!$G$8:$G$47,$AA17))) -> 40.2 | N17: =IF(OR($J17="",$AA17=""),"",$J17*N(INDEX(Fertilisants!$I$8:$I$47,$AA17))) -> 40.2 | O17: =IF(OR($J17="",$AA17=""),"",$J17*N(INDEX(Fertilisants!$J$8:$J$47,$AA17))) -> 0 | P17: =IF(OR($J17="",$AA17=""),"",$J17*N(INDEX(Fertilisants!$K$8:$K$47,$AA17))) -> 0 | Q17: =IF(OR($I17="",$M17=""),"",$I17*$M17) -> 404.01 | R17: Ressuyé | S17: Distributeur centrifuge | U17: Salarié de l'exploitation | V17: 46437 | W17: =IF($C17="","",IF(OR($D17="",$G17="",$I17="",$J17=""),"Incomplet",IF(OR($R17="Enneigé",$R17="Détrempé",$R17="Inondé",AND($R17="Gelé",$H17<>"Type 0",$H17<>"Type Ia")),"Sol interdit",IF($AL17=1,"Période interdite",IF(AND(ISNUMBER($AB17),$I17>$AB17+0.001),"Surface > îlot",IF(OR($C17<DebutCampagne,$C17>FinCampagne),"Hors campagne",IF(AND(ISNUMBER($V17),$V17-$C17>DelaiSaisie),"Saisie tardive","Conforme"))))))) -> Conforme | Z17: =IF($D17="","",IFERROR(MATCH($D17,Îlots!$D$8:$D$57,0),"")) -> 9 | AA17: =IF($G17="","",IFERROR(MATCH($G17,Fertilisants!$B$8:$B$47,0),"")) -> 6 | AB17: =IF($Z17="","",INDEX(Îlots!$E$8:$E$57,$Z17)) -> 10.05 | AC17: =IF($Z17="","",INDEX(Îlots!$G$8:$G$57,$Z17)&"") -> Oui | AD17: =IF($Z17="","",IF($F17=ApportCouvert,OccCouvert,INDEX(Îlots!$O$8:$O$57,$Z17)&"")) -> Culture d'automne (hors colza) | AE17: =IF(OR($AD17="",$AC17="Non",ZoneVulnerable="Non"),"",IFERROR(MATCH($AD17,CalOccupations,0),"")) -> 1 | AF17: =IF($H17="","",IFERROR(MATCH($H17,CalTypes,0),"")) -> 9 | AG17: =IF(ISNUMBER($C17),MONTH($C17)*100+DAY($C17),"") -> 218 | AH17: =IF(OR($AE17="",$AF17=""),0,IF(N(INDEX(CalPrincipal,$AE17,$AF17+0))=0,0,MONTH(INDEX(CalPrincipal,$AE17,$AF17+0))*100+DAY(INDEX(CalPrincipal,$AE17,$AF17+0)))) -> 901 | AI17: =IF(OR($AE17="",$AF17=""),0,IF(N(INDEX(CalPrincipal,$AE17,$AF17+1))=0,0,MONTH(INDEX(CalPrincipal,$AE17,$AF17+1))*100+DAY(INDEX(CalPrincipal,$AE17,$AF17+1)))) -> 131 | AJ17: =IF(OR($AE17="",$AF17=""),0,IF(N(INDEX(CalComplement,$AE17,$AF17+0))=0,0,MONTH(INDEX(CalComplement,$AE17,$AF17+0))*100+DAY(INDEX(CalComplement,$AE17,$AF17+0)))) -> 0 | AK17: =IF(OR($AE17="",$AF17=""),0,IF(N(INDEX(CalComplement,$AE17,$AF17+1))=0,0,MONTH(INDEX(CalComplement,$AE17,$AF17+1))*100+DAY(INDEX(CalComplement,$AE17,$AF17+1)))) -> 0 | AL17: =IF(OR($AE17="",$AF17="",$AG17=""),0,IF(OR(AND($AH17>0,IF($AH17<=$AI17,AND($AG17>=$AH17,$AG17<=$AI17),OR($AG17>=$AH17,$AG17<=$AI17))),AND($AJ17>0,IF($AJ17<=$AK17,AND($AG17>=$AJ17,$AG17<=$AK17),OR($AG17>=$AJ17,$AG17<=$AK17)))),1,0)) -> 0 | AM17: =IF($AA17="",0,IF(INDEX(Fertilisants!$C$8:$C$47,$AA17)="Effluent d'élevage",1,0)) -> 0 | AN17: =IF($AA17="","",IF(INDEX(Fertilisants!$C$8:$C$47,$AA17)="Engrais minéral","Minéral","Organique")) -> Minéral | AO17: =IF(OR($I17="",$N17=""),"",$I17*$N17) -> 404.01 | AP17: =IF(OR($I17="",$O17=""),"",$I17*$O17) -> 0 | AQ17: =IF(OR($I17="",$P17=""),"",$I17*$P17) -> 0 | AR17: =IF(AND($D17<>"",$D17=FicheIlot),COUNTIF($D$8:$D17,FicheIlot),"")
