Workbook
Name AlerteJours: Paramètres!$I$24
Name AlerteKm: Paramètres!$I$25
Name AnneeSynth: Synthèse!$Q$2
Name BaremeCV: Paramètres!$B$37:$B$41
Name BaremeF2: Paramètres!$E$37:$E$41
Name BaremeT1: Paramètres!$C$37:$C$41
Name BaremeT2: Paramètres!$D$37:$D$41
Name BaremeT3: Paramètres!$F$37:$F$41
Name Capacite: Paramètres!$C$17
Name CatGroupe: Paramètres!$J$37:$J$50
Name CatNoms: Paramètres!$H$37:$H$50
Name CatTVA: Paramètres!$I$37:$I$50
Name Centres: Paramètres!$B$46:$B$53
Name CondActif: Paramètres!$F$23:$F$32
Name CondNoms: Paramètres!$B$23:$B$32
Name CondService: Paramètres!$C$23:$C$32
Name ConsoRef: Paramètres!$I$31
Name DateMEC: Paramètres!$C$15
Name DateOuverture: Paramètres!$I$15
Name DateSituation: Paramètres!$I$18
Name Energie: Paramètres!$C$13
Name Gestionnaire: Paramètres!$I$12
Name Immatriculation: Paramètres!$C$10
Name InclureDT: Paramètres!$I$28
Name KmActuel: Paramètres!$I$17
Name KmOuverture: Paramètres!$I$16
Name ListeCategories: OFFSET(Paramètres!$H$37,0,0,MAX(1,COUNTIF(Paramètres!$H$37:$H$50,"?*")),1)
Name ListeCentres: OFFSET(Paramètres!$B$46,0,0,MAX(1,COUNTIF(Paramètres!$B$46:$B$53,"?*")),1)
Name ListeConducteurs: OFFSET(Paramètres!$B$23,0,0,MAX(1,COUNTIF(Paramètres!$B$23:$B$32,"?*")),1)
Name ListeEnergies: OFFSET(Paramètres!$O$11,0,0,MAX(1,COUNTIF(Paramètres!$O$11:$O$27,"?*")),1)
Name ListeEnergiesPlage: Paramètres!$O$11:$O$27
Name ListeMois: OFFSET(Paramètres!$U$11,0,0,MAX(1,COUNTIF(Paramètres!$U$11:$U$27,"?*")),1)
Name ListeMoisPlage: Paramètres!$U$11:$U$27
Name ListeNature: OFFSET(Paramètres!$N$11,0,0,MAX(1,COUNTIF(Paramètres!$N$11:$N$27,"?*")),1)
Name ListeNaturePlage: Paramètres!$N$11:$N$27
Name ListeOperations: OFFSET(Paramètres!$R$11,0,0,MAX(1,COUNTIF(Paramètres!$R$11:$R$27,"?*")),1)
Name ListeOperationsPlage: Paramètres!$R$11:$R$27
Name ListePeriodes: OFFSET(Paramètres!$V$11,0,0,MAX(1,COUNTIF(Paramètres!$V$11:$V$27,"?*")),1)
Name ListePeriodesPlage: Paramètres!$V$11:$V$27
Name ListeReglements: OFFSET(Paramètres!$Q$11,0,0,MAX(1,COUNTIF(Paramètres!$Q$11:$Q$27,"?*")),1)
Name ListeReglementsPlage: Paramètres!$Q$11:$Q$27
Name ListeRegroupements: OFFSET(Paramètres!$S$11,0,0,MAX(1,COUNTIF(Paramètres!$S$11:$S$27,"?*")),1)
Name ListeRegroupementsPlage: Paramètres!$S$11:$S$27
Name ListeStatuts: OFFSET(Paramètres!$P$11,0,0,MAX(1,COUNTIF(Paramètres!$P$11:$P$27,"?*")),1)
Name ListeStatutsPlage: Paramètres!$P$11:$P$27
Name ListeTVA: OFFSET(Paramètres!$T$11,0,0,MAX(1,COUNTIF(Paramètres!$T$11:$T$27,">-1")),1)
Name ListeTVAPlage: Paramètres!$T$11:$T$27
Name MajorationElec: Paramètres!$I$29
Name Marque: Paramètres!$C$11
Name Modele: Paramètres!$C$12
Name PerDebut: Synthèse!$V$6
Name PerFin: Synthèse!$V$7
Name Periode: Synthèse!$Q$3
Name PuissanceCV: Paramètres!$C$14
Name RelAnnee: 'Relevé mensuel'!$F$6
Name RelConducteur: 'Relevé mensuel'!$B$6
Name RelDebut: 'Relevé mensuel'!$J$6
Name RelFin: 'Relevé mensuel'!$J$7
Name RelMois: 'Relevé mensuel'!$E$6
Name SeuilConso: Paramètres!$I$27

Sheet Synthèse
C2: CARNET DE BORD DU VÉHICULE | G2: Synthèse de l'activité | P2: ANNÉE | Q2: 2027 | U2: Calculs intermédiaires (ne pas modifier)
C3: =TRIM(Marque&" "&Modele) -> Norvane Fourgonnette L1 1.5 diesel | G3: ="Indicateurs : "&LOWER(Periode)&" "&AnneeSynth&" · graphiques : année "&AnneeSynth -> Indicateurs : année complète 2027 · graphiques : année 2027 | P3: PÉRIODE | Q3: Année complète | U3: Rang de la période | V3: =IFERROR(MATCH(Periode,ListePeriodesPlage,0),1) -> 1 | W3: Mois | X3: Professionnel | Y3: Domicile – travail | Z3: Personnel | AA3: Énergie | AB3: Entretien et réparations | AC3: Frais fixes et divers | AD3: Total TTC | AE3: Km | AF3: Coût au km
U4: Premier mois | V4: =IF(V3=1,1,IF(V3<=5,(V3-2)*3+1,V3-5)) -> 1 | W4: janv. | X4: =SUMIFS(Déplacements!$M$9:$M$808,Déplacements!$J$9:$J$808,"Professionnel",Déplacements!$C$9:$C$808,">="&DATE(AnneeSynth,1,1),Déplacements!$C$9:$C$808,"<"&DATE(AnneeSynth,2,1)) -> 1906 | Y4: =SUMIFS(Déplacements!$M$9:$M$808,Déplacements!$J$9:$J$808,"Domicile – travail",Déplacements!$C$9:$C$808,">="&DATE(AnneeSynth,1,1),Déplacements!$C$9:$C$808,"<"&DATE(AnneeSynth,2,1)) -> 96 | Z4: =SUMIFS(Déplacements!$M$9:$M$808,Déplacements!$J$9:$J$808,"Personnel",Déplacements!$C$9:$C$808,">="&DATE(AnneeSynth,1,1),Déplacements!$C$9:$C$808,"<"&DATE(AnneeSynth,2,1)) -> 0 | AA4: =SUMIFS(Dépenses!$L$9:$L$508,Dépenses!$X$9:$X$508,"Énergie",Dépenses!$C$9:$C$508,">="&DATE(AnneeSynth,1,1),Dépenses!$C$9:$C$508,"<"&DATE(AnneeSynth,2,1)) -> 209.07 | AB4: =SUMIFS(Dépenses!$L$9:$L$508,Dépenses!$X$9:$X$508,"Entretien et réparations",Dépenses!$C$9:$C$508,">="&DATE(AnneeSynth,1,1),Dépenses!$C$9:$C$508,"<"&DATE(AnneeSynth,2,1)) -> 0 | AC4: =SUMIFS(Dépenses!$L$9:$L$508,Dépenses!$X$9:$X$508,"Frais fixes et divers",Dépenses!$C$9:$C$508,">="&DATE(AnneeSynth,1,1),Dépenses!$C$9:$C$508,"<"&DATE(AnneeSynth,2,1)) -> 1283.7 | AD4: =SUMIFS(Dépenses!$L$9:$L$508,Dépenses!$C$9:$C$508,">="&DATE(AnneeSynth,1,1),Dépenses!$C$9:$C$508,"<"&DATE(AnneeSynth,2,1)) -> 1492.77 | AE4: =SUMIFS(Déplacements!$M$9:$M$808,Déplacements!$C$9:$C$808,">="&DATE(AnneeSynth,1,1),Déplacements!$C$9:$C$808,"<"&DATE(AnneeSynth,2,1)) -> 2002 | AF4: =IFERROR(AD4/AE4,0) -> 0.74563936
U5: Dernier mois | V5: =IF(V3=1,12,IF(V3<=5,(V3-2)*3+3,V3-5)) -> 12 | W5: févr. | X5: =SUMIFS(Déplacements!$M$9:$M$808,Déplacements!$J$9:$J$808,"Professionnel",Déplacements!$C$9:$C$808,">="&DATE(AnneeSynth,2,1),Déplacements!$C$9:$C$808,"<"&DATE(AnneeSynth,3,1)) -> 1546 | Y5: =SUMIFS(Déplacements!$M$9:$M$808,Déplacements!$J$9:$J$808,"Domicile – travail",Déplacements!$C$9:$C$808,">="&DATE(AnneeSynth,2,1),Déplacements!$C$9:$C$808,"<"&DATE(AnneeSynth,3,1)) -> 96 | Z5: =SUMIFS(Déplacements!$M$9:$M$808,Déplacements!$J$9:$J$808,"Personnel",Déplacements!$C$9:$C$808,">="&DATE(AnneeSynth,2,1),Déplacements!$C$9:$C$808,"<"&DATE(AnneeSynth,3,1)) -> 0 | AA5: =SUMIFS(Dépenses!$L$9:$L$508,Dépenses!$X$9:$X$508,"Énergie",Dépenses!$C$9:$C$508,">="&DATE(AnneeSynth,2,1),Dépenses!$C$9:$C$508,"<"&DATE(AnneeSynth,3,1)) -> 190.92 | AB5: =SUMIFS(Dépenses!$L$9:$L$508,Dépenses!$X$9:$X$508,"Entretien et réparations",Dépenses!$C$9:$C$508,">="&DATE(AnneeSynth,2,1),Dépenses!$C$9:$C$508,"<"&DATE(AnneeSynth,3,1)) -> 0 | AC5: =SUMIFS(Dépenses!$L$9:$L$508,Dépenses!$X$9:$X$508,"Frais fixes et divers",Dépenses!$C$9:$C$508,">="&DATE(AnneeSynth,2,1),Dépenses!$C$9:$C$508,"<"&DATE(AnneeSynth,3,1)) -> 78.4 | AD5: =SUMIFS(Dépenses!$L$9:$L$508,Dépenses!$C$9:$C$508,">="&DATE(AnneeSynth,2,1),Dépenses!$C$9:$C$508,"<"&DATE(AnneeSynth,3,1)) -> 269.32 | AE5: =SUMIFS(Déplacements!$M$9:$M$808,Déplacements!$C$9:$C$808,">="&DATE(AnneeSynth,2,1),Déplacements!$C$9:$C$808,"<"&DATE(AnneeSynth,3,1)) -> 1642 | AF5: =IFERROR(AD5/AE5,0) -> 0.16401949
C6: =Immatriculation -> FT-317-KV | G6: DISTANCE PARCOURUE | J6: PART PROFESSIONNELLE | M6: DÉPENSES TTC | P6: COÛT AU KILOMÈTRE | U6: Début de période | V6: =DATE(AnneeSynth,V4,1) -> 46388 | W6: mars | X6: =SUMIFS(Déplacements!$M$9:$M$808,Déplacements!$J$9:$J$808,"Professionnel",Déplacements!$C$9:$C$808,">="&DATE(AnneeSynth,3,1),Déplacements!$C$9:$C$808,"<"&DATE(AnneeSynth,4,1)) -> 2051 | Y6: =SUMIFS(Déplacements!$M$9:$M$808,Déplacements!$J$9:$J$808,"Domicile – travail",Déplacements!$C$9:$C$808,">="&DATE(AnneeSynth,3,1),Déplacements!$C$9:$C$808,"<"&DATE(AnneeSynth,4,1)) -> 96 | Z6: =SUMIFS(Déplacements!$M$9:$M$808,Déplacements!$J$9:$J$808,"Personnel",Déplacements!$C$9:$C$808,">="&DATE(AnneeSynth,3,1),Déplacements!$C$9:$C$808,"<"&DATE(AnneeSynth,4,1)) -> 0 | AA6: =SUMIFS(Dépenses!$L$9:$L$508,Dépenses!$X$9:$X$508,"Énergie",Dépenses!$C$9:$C$508,">="&DATE(AnneeSynth,3,1),Dépenses!$C$9:$C$508,"<"&DATE(AnneeSynth,4,1)) -> 259.44 | AB6: =SUMIFS(Dépenses!$L$9:$L$508,Dépenses!$X$9:$X$508,"Entretien et réparations",Dépenses!$C$9:$C$508,">="&DATE(AnneeSynth,3,1),Dépenses!$C$9:$C$508,"<"&DATE(AnneeSynth,4,1)) -> 89 | AC6: =SUMIFS(Dépenses!$L$9:$L$508,Dépenses!$X$9:$X$508,"Frais fixes et divers",Dépenses!$C$9:$C$508,">="&DATE(AnneeSynth,3,1),Dépenses!$C$9:$C$508,"<"&DATE(AnneeSynth,4,1)) -> 95.6 | AD6: =SUMIFS(Dépenses!$L$9:$L$508,Dépenses!$C$9:$C$508,">="&DATE(AnneeSynth,3,1),Dépenses!$C$9:$C$508,"<"&DATE(AnneeSynth,4,1)) -> 444.04 | AE6: =SUMIFS(Déplacements!$M$9:$M$808,Déplacements!$C$9:$C$808,">="&DATE(AnneeSynth,3,1),Déplacements!$C$9:$C$808,"<"&DATE(AnneeSynth,4,1)) -> 2147 | AF6: =IFERROR(AD6/AE6,0) -> 0.20681882
G7: =$V$8 -> 21596 | J7: =IFERROR($V$10/$V$8,0) -> 0.94165586 | M7: =$V$13 -> 6437.89 | P7: =IFERROR($V$13/$V$8,0) -> 0.29810567 | U7: Fin de période | V7: =DATE(AnneeSynth,V5+1,1)-1 -> 46752 | W7: avr. | X7: =SUMIFS(Déplacements!$M$9:$M$808,Déplacements!$J$9:$J$808,"Professionnel",Déplacements!$C$9:$C$808,">="&DATE(AnneeSynth,4,1),Déplacements!$C$9:$C$808,"<"&DATE(AnneeSynth,5,1)) -> 1918 | Y7: =SUMIFS(Déplacements!$M$9:$M$808,Déplacements!$J$9:$J$808,"Domicile – travail",Déplacements!$C$9:$C$808,">="&DATE(AnneeSynth,4,1),Déplacements!$C$9:$C$808,"<"&DATE(AnneeSynth,5,1)) -> 96 | Z7: =SUMIFS(Déplacements!$M$9:$M$808,Déplacements!$J$9:$J$808,"Personnel",Déplacements!$C$9:$C$808,">="&DATE(AnneeSynth,4,1),Déplacements!$C$9:$C$808,"<"&DATE(AnneeSynth,5,1)) -> 0 | AA7: =SUMIFS(Dépenses!$L$9:$L$508,Dépenses!$X$9:$X$508,"Énergie",Dépenses!$C$9:$C$508,">="&DATE(AnneeSynth,4,1),Dépenses!$C$9:$C$508,"<"&DATE(AnneeSynth,5,1)) -> 291.04 | AB7: =SUMIFS(Dépenses!$L$9:$L$508,Dépenses!$X$9:$X$508,"Entretien et réparations",Dépenses!$C$9:$C$508,">="&DATE(AnneeSynth,4,1),Dépenses!$C$9:$C$508,"<"&DATE(AnneeSynth,5,1)) -> 0 | AC7: =SUMIFS(Dépenses!$L$9:$L$508,Dépenses!$X$9:$X$508,"Frais fixes et divers",Dépenses!$C$9:$C$508,">="&DATE(AnneeSynth,4,1),Dépenses!$C$9:$C$508,"<"&DATE(AnneeSynth,5,1)) -> 150.6 | AD7: =SUMIFS(Dépenses!$L$9:$L$508,Dépenses!$C$9:$C$508,">="&DATE(AnneeSynth,4,1),Dépenses!$C$9:$C$508,"<"&DATE(AnneeSynth,5,1)) -> 441.64 | AE7: =SUMIFS(Déplacements!$M$9:$M$808,Déplacements!$C$9:$C$808,">="&DATE(AnneeSynth,4,1),Déplacements!$C$9:$C$808,"<"&DATE(AnneeSynth,5,1)) -> 2014 | AF7: =IFERROR(AD7/AE7,0) -> 0.219285
C8: =Energie&" · "&PuissanceCV&" CV" -> Gazole · 6 CV | G8: ="sur "&$V$9&" déplacements" -> sur 375 déplacements | J8: ="soit "&FIXED($V$10,0)&" km professionnels" -> soit 20.336 km professionnels | M8: ="soit "&FIXED($V$14,0)&" € HT" -> soit 5.556 € HT | P8: ="coût complet, toutes dépenses TTC" -> coût complet, toutes dépenses TTC | U8: Km de la période | V8: =SUMIFS(Déplacements!$M$9:$M$808,Déplacements!$C$9:$C$808,">="&PerDebut,Déplacements!$C$9:$C$808,"<="&PerFin) -> 21596 | W8: mai | X8: =SUMIFS(Déplacements!$M$9:$M$808,Déplacements!$J$9:$J$808,"Professionnel",Déplacements!$C$9:$C$808,">="&DATE(AnneeSynth,5,1),Déplacements!$C$9:$C$808,"<"&DATE(AnneeSynth,6,1)) -> 1697 | Y8: =SUMIFS(Déplacements!$M$9:$M$808,Déplacements!$J$9:$J$808,"Domicile – travail",Déplacements!$C$9:$C$808,">="&DATE(AnneeSynth,5,1),Déplacements!$C$9:$C$808,"<"&DATE(AnneeSynth,6,1)) -> 96 | Z8: =SUMIFS(Déplacements!$M$9:$M$808,Déplacements!$J$9:$J$808,"Personnel",Déplacements!$C$9:$C$808,">="&DATE(AnneeSynth,5,1),Déplacements!$C$9:$C$808,"<"&DATE(AnneeSynth,6,1)) -> 0 | AA8: =SUMIFS(Dépenses!$L$9:$L$508,Dépenses!$X$9:$X$508,"Énergie",Dépenses!$C$9:$C$508,">="&DATE(AnneeSynth,5,1),Dépenses!$C$9:$C$508,"<"&DATE(AnneeSynth,6,1)) -> 185.72 | AB8: =SUMIFS(Dépenses!$L$9:$L$508,Dépenses!$X$9:$X$508,"Entretien et réparations",Dépenses!$C$9:$C$508,">="&DATE(AnneeSynth,5,1),Dépenses!$C$9:$C$508,"<"&DATE(AnneeSynth,6,1)) -> 312.6 | AC8: =SUMIFS(Dépenses!$L$9:$L$508,Dépenses!$X$9:$X$508,"Frais fixes et divers",Dépenses!$C$9:$C$508,">="&DATE(AnneeSynth,5,1),Dépenses!$C$9:$C$508,"<"&DATE(AnneeSynth,6,1)) -> 110.3 | AD8: =SUMIFS(Dépenses!$L$9:$L$508,Dépenses!$C$9:$C$508,">="&DATE(AnneeSynth,5,1),Dépenses!$C$9:$C$508,"<"&DATE(AnneeSynth,6,1)) -> 608.62 | AE8: =SUMIFS(Déplacements!$M$9:$M$808,Déplacements!$C$9:$C$808,">="&DATE(AnneeSynth,5,1),Déplacements!$C$9:$C$808,"<"&DATE(AnneeSynth,6,1)) -> 1793 | AF8: =IFERROR(AD8/AE8,0) -> 0.33944228
U9: Déplacements | V9: =COUNTIFS(Déplacements!$C$9:$C$808,">="&PerDebut,Déplacements!$C$9:$C$808,"<="&PerFin) -> 375 | W9: juin | X9: =SUMIFS(Déplacements!$M$9:$M$808,Déplacements!$J$9:$J$808,"Professionnel",Déplacements!$C$9:$C$808,">="&DATE(AnneeSynth,6,1),Déplacements!$C$9:$C$808,"<"&DATE(AnneeSynth,7,1)) -> 2163 | Y9: =SUMIFS(Déplacements!$M$9:$M$808,Déplacements!$J$9:$J$808,"Domicile – travail",Déplacements!$C$9:$C$808,">="&DATE(AnneeSynth,6,1),Déplacements!$C$9:$C$808,"<"&DATE(AnneeSynth,7,1)) -> 96 | Z9: =SUMIFS(Déplacements!$M$9:$M$808,Déplacements!$J$9:$J$808,"Personnel",Déplacements!$C$9:$C$808,">="&DATE(AnneeSynth,6,1),Déplacements!$C$9:$C$808,"<"&DATE(AnneeSynth,7,1)) -> 36 | AA9: =SUMIFS(Dépenses!$L$9:$L$508,Dépenses!$X$9:$X$508,"Énergie",Dépenses!$C$9:$C$508,">="&DATE(AnneeSynth,6,1),Dépenses!$C$9:$C$508,"<"&DATE(AnneeSynth,7,1)) -> 328.84 | AB9: =SUMIFS(Dépenses!$L$9:$L$508,Dépenses!$X$9:$X$508,"Entretien et réparations",Dépenses!$C$9:$C$508,">="&DATE(AnneeSynth,6,1),Dépenses!$C$9:$C$508,"<"&DATE(AnneeSynth,7,1)) -> 186 | AC9: =SUMIFS(Dépenses!$L$9:$L$508,Dépenses!$X$9:$X$508,"Frais fixes et divers",Dépenses!$C$9:$C$508,">="&DATE(AnneeSynth,6,1),Dépenses!$C$9:$C$508,"<"&DATE(AnneeSynth,7,1)) -> 150.1 | AD9: =SUMIFS(Dépenses!$L$9:$L$508,Dépenses!$C$9:$C$508,">="&DATE(AnneeSynth,6,1),Dépenses!$C$9:$C$508,"<"&DATE(AnneeSynth,7,1)) -> 664.94 | AE9: =SUMIFS(Déplacements!$M$9:$M$808,Déplacements!$C$9:$C$808,">="&DATE(AnneeSynth,6,1),Déplacements!$C$9:$C$808,"<"&DATE(AnneeSynth,7,1)) -> 2295 | AF9: =IFERROR(AD9/AE9,0) -> 0.2897342
C10: STATUT | G10: CONSOMMATION MOYENNE | J10: ÉNERGIE AUX 100 KM | M10: =IF(Statut="Véhicule personnel","INDEMNITÉS KILOMÉTRIQUES","KILOMÈTRES PRIVÉS") -> KILOMÈTRES PRIVÉS | P10: AVANCES À REMBOURSER | U10: Km professionnels | V10: =SUMIFS(Déplacements!$M$9:$M$808,Déplacements!$J$9:$J$808,"Professionnel",Déplacements!$C$9:$C$808,">="&PerDebut,Déplacements!$C$9:$C$808,"<="&PerFin) -> 20336 | W10: juil. | X10: =SUMIFS(Déplacements!$M$9:$M$808,Déplacements!$J$9:$J$808,"Professionnel",Déplacements!$C$9:$C$808,">="&DATE(AnneeSynth,7,1),Déplacements!$C$9:$C$808,"<"&DATE(AnneeSynth,8,1)) -> 1626 | Y10: =SUMIFS(Déplacements!$M$9:$M$808,Déplacements!$J$9:$J$808,"Domicile – travail",Déplacements!$C$9:$C$808,">="&DATE(AnneeSynth,7,1),Déplacements!$C$9:$C$808,"<"&DATE(AnneeSynth,8,1)) -> 96 | Z10: =SUMIFS(Déplacements!$M$9:$M$808,Déplacements!$J$9:$J$808,"Personnel",Déplacements!$C$9:$C$808,">="&DATE(AnneeSynth,7,1),Déplacements!$C$9:$C$808,"<"&DATE(AnneeSynth,8,1)) -> 0 | AA10: =SUMIFS(Dépenses!$L$9:$L$508,Dépenses!$X$9:$X$508,"Énergie",Dépenses!$C$9:$C$508,">="&DATE(AnneeSynth,7,1),Dépenses!$C$9:$C$508,"<"&DATE(AnneeSynth,8,1)) -> 206.63 | AB10: =SUMIFS(Dépenses!$L$9:$L$508,Dépenses!$X$9:$X$508,"Entretien et réparations",Dépenses!$C$9:$C$508,">="&DATE(AnneeSynth,7,1),Dépenses!$C$9:$C$508,"<"&DATE(AnneeSynth,8,1)) -> 0 | AC10: =SUMIFS(Dépenses!$L$9:$L$508,Dépenses!$X$9:$X$508,"Frais fixes et divers",Dépenses!$C$9:$C$508,">="&DATE(AnneeSynth,7,1),Dépenses!$C$9:$C$508,"<"&DATE(AnneeSynth,8,1)) -> 121.4 | AD10: =SUMIFS(Dépenses!$L$9:$L$508,Dépenses!$C$9:$C$508,">="&DATE(AnneeSynth,7,1),Dépenses!$C$9:$C$508,"<"&DATE(AnneeSynth,8,1)) -> 328.03 | AE10: =SUMIFS(Déplacements!$M$9:$M$808,Déplacements!$C$9:$C$808,">="&DATE(AnneeSynth,7,1),Déplacements!$C$9:$C$808,"<"&DATE(AnneeSynth,8,1)) -> 1722 | AF10: =IFERROR(AD10/AE10,0) -> 0.19049361
C11: =Statut -> Véhicule de service | G11: =IFERROR($V$19/$V$18*100,0) -> 6.9664007 | J11: =IFERROR($V$15/$V$8*100,0) -> 11.988285 | M11: =IF(Statut="Véhicule personnel",FIXED($V$27,0)&" €",FIXED($V$28,0)&" km") -> 36 km | P11: =$V$21 -> 945.3 | U11: Km domicile – travail | V11: =SUMIFS(Déplacements!$M$9:$M$808,Déplacements!$J$9:$J$808,"Domicile – travail",Déplacements!$C$9:$C$808,">="&PerDebut,Déplacements!$C$9:$C$808,"<="&PerFin) -> 1224 | W11: août | X11: =SUMIFS(Déplacements!$M$9:$M$808,Déplacements!$J$9:$J$808,"Professionnel",Déplacements!$C$9:$C$808,">="&DATE(AnneeSynth,8,1),Déplacements!$C$9:$C$808,"<"&DATE(AnneeSynth,9,1)) -> 872 | Y11: =SUMIFS(Déplacements!$M$9:$M$808,Déplacements!$J$9:$J$808,"Domicile – travail",Déplacements!$C$9:$C$808,">="&DATE(AnneeSynth,8,1),Déplacements!$C$9:$C$808,"<"&DATE(AnneeSynth,9,1)) -> 144 | Z11: =SUMIFS(Déplacements!$M$9:$M$808,Déplacements!$J$9:$J$808,"Personnel",Déplacements!$C$9:$C$808,">="&DATE(AnneeSynth,8,1),Déplacements!$C$9:$C$808,"<"&DATE(AnneeSynth,9,1)) -> 0 | AA11: =SUMIFS(Dépenses!$L$9:$L$508,Dépenses!$X$9:$X$508,"Énergie",Dépenses!$C$9:$C$508,">="&DATE(AnneeSynth,8,1),Dépenses!$C$9:$C$508,"<"&DATE(AnneeSynth,9,1)) -> 65.09 | AB11: =SUMIFS(Dépenses!$L$9:$L$508,Dépenses!$X$9:$X$508,"Entretien et réparations",Dépenses!$C$9:$C$508,">="&DATE(AnneeSynth,8,1),Dépenses!$C$9:$C$508,"<"&DATE(AnneeSynth,9,1)) -> 0 | AC11: =SUMIFS(Dépenses!$L$9:$L$508,Dépenses!$X$9:$X$508,"Frais fixes et divers",Dépenses!$C$9:$C$508,">="&DATE(AnneeSynth,8,1),Dépenses!$C$9:$C$508,"<"&DATE(AnneeSynth,9,1)) -> 77.2 | AD11: =SUMIFS(Dépenses!$L$9:$L$508,Dépenses!$C$9:$C$508,">="&DATE(AnneeSynth,8,1),Dépenses!$C$9:$C$508,"<"&DATE(AnneeSynth,9,1)) -> 142.29 | AE11: =SUMIFS(Déplacements!$M$9:$M$808,Déplacements!$C$9:$C$808,">="&DATE(AnneeSynth,8,1),Déplacements!$C$9:$C$808,"<"&DATE(AnneeSynth,9,1)) -> 1016 | AF11: =IFERROR(AD11/AE11,0) -> 0.14004921
C12: TITULAIRE | G12: =UniteQte&"/100 km · "&$V$20&" pleins complets" -> L/100 km · 40 pleins complets | J12: ="prix moyen : "&FIXED(IFERROR($V$15/$V$16,0),3)&" €/"&UniteQte -> prix moyen : 1,747 €/L | M12: =IF(Statut="Véhicule personnel","année "&AnneeSynth&" · barème "&PuissanceCV&" CV",IF(UsagePrive="Non","usage privé non autorisé","sur la période")) -> usage privé non autorisé | P12: ="sur "&$V$22&" dépenses avancées" -> sur 66 dépenses avancées | U12: Km personnels | V12: =SUMIFS(Déplacements!$M$9:$M$808,Déplacements!$J$9:$J$808,"Personnel",Déplacements!$C$9:$C$808,">="&PerDebut,Déplacements!$C$9:$C$808,"<="&PerFin) -> 36 | W12: sept. | X12: =SUMIFS(Déplacements!$M$9:$M$808,Déplacements!$J$9:$J$808,"Professionnel",Déplacements!$C$9:$C$808,">="&DATE(AnneeSynth,9,1),Déplacements!$C$9:$C$808,"<"&DATE(AnneeSynth,10,1)) -> 2159 | Y12: =SUMIFS(Déplacements!$M$9:$M$808,Déplacements!$J$9:$J$808,"Domicile – travail",Déplacements!$C$9:$C$808,">="&DATE(AnneeSynth,9,1),Déplacements!$C$9:$C$808,"<"&DATE(AnneeSynth,10,1)) -> 144 | Z12: =SUMIFS(Déplacements!$M$9:$M$808,Déplacements!$J$9:$J$808,"Personnel",Déplacements!$C$9:$C$808,">="&DATE(AnneeSynth,9,1),Déplacements!$C$9:$C$808,"<"&DATE(AnneeSynth,10,1)) -> 0 | AA12: =SUMIFS(Dépenses!$L$9:$L$508,Dépenses!$X$9:$X$508,"Énergie",Dépenses!$C$9:$C$508,">="&DATE(AnneeSynth,9,1),Dépenses!$C$9:$C$508,"<"&DATE(AnneeSynth,10,1)) -> 308.05 | AB12: =SUMIFS(Dépenses!$L$9:$L$508,Dépenses!$X$9:$X$508,"Entretien et réparations",Dépenses!$C$9:$C$508,">="&DATE(AnneeSynth,9,1),Dépenses!$C$9:$C$508,"<"&DATE(AnneeSynth,10,1)) -> 248.9 | AC12: =SUMIFS(Dépenses!$L$9:$L$508,Dépenses!$X$9:$X$508,"Frais fixes et divers",Dépenses!$C$9:$C$508,">="&DATE(AnneeSynth,9,1),Dépenses!$C$9:$C$508,"<"&DATE(AnneeSynth,10,1)) -> 107.2 | AD12: =SUMIFS(Dépenses!$L$9:$L$508,Dépenses!$C$9:$C$508,">="&DATE(AnneeSynth,9,1),Dépenses!$C$9:$C$508,"<"&DATE(AnneeSynth,10,1)) -> 664.15 | AE12: =SUMIFS(Déplacements!$M$9:$M$808,Déplacements!$C$9:$C$808,">="&DATE(AnneeSynth,9,1),Déplacements!$C$9:$C$808,"<"&DATE(AnneeSynth,10,1)) -> 2303 | AF12: =IFERROR(AD12/AE12,0) -> 0.28838472
C13: =TitulaireVehicule -> Altéis Maintenance SAS | U13: Dépenses TTC | V13: =SUMIFS(Dépenses!$L$9:$L$508,Dépenses!$C$9:$C$508,">="&PerDebut,Dépenses!$C$9:$C$508,"<="&PerFin) -> 6437.89 | W13: oct. | X13: =SUMIFS(Déplacements!$M$9:$M$808,Déplacements!$J$9:$J$808,"Professionnel",Déplacements!$C$9:$C$808,">="&DATE(AnneeSynth,10,1),Déplacements!$C$9:$C$808,"<"&DATE(AnneeSynth,11,1)) -> 2194 | Y13: =SUMIFS(Déplacements!$M$9:$M$808,Déplacements!$J$9:$J$808,"Domicile – travail",Déplacements!$C$9:$C$808,">="&DATE(AnneeSynth,10,1),Déplacements!$C$9:$C$808,"<"&DATE(AnneeSynth,11,1)) -> 96 | Z13: =SUMIFS(Déplacements!$M$9:$M$808,Déplacements!$J$9:$J$808,"Personnel",Déplacements!$C$9:$C$808,">="&DATE(AnneeSynth,10,1),Déplacements!$C$9:$C$808,"<"&DATE(AnneeSynth,11,1)) -> 0 | AA13: =SUMIFS(Dépenses!$L$9:$L$508,Dépenses!$X$9:$X$508,"Énergie",Dépenses!$C$9:$C$508,">="&DATE(AnneeSynth,10,1),Dépenses!$C$9:$C$508,"<"&DATE(AnneeSynth,11,1)) -> 299.84 | AB13: =SUMIFS(Dépenses!$L$9:$L$508,Dépenses!$X$9:$X$508,"Entretien et réparations",Dépenses!$C$9:$C$508,">="&DATE(AnneeSynth,10,1),Dépenses!$C$9:$C$508,"<"&DATE(AnneeSynth,11,1)) -> 0 | AC13: =SUMIFS(Dépenses!$L$9:$L$508,Dépenses!$X$9:$X$508,"Frais fixes et divers",Dépenses!$C$9:$C$508,">="&DATE(AnneeSynth,10,1),Dépenses!$C$9:$C$508,"<"&DATE(AnneeSynth,11,1)) -> 136.2 | AD13: =SUMIFS(Dépenses!$L$9:$L$508,Dépenses!$C$9:$C$508,">="&DATE(AnneeSynth,10,1),Dépenses!$C$9:$C$508,"<"&DATE(AnneeSynth,11,1)) -> 436.04 | AE13: =SUMIFS(Déplacements!$M$9:$M$808,Déplacements!$C$9:$C$808,">="&DATE(AnneeSynth,10,1),Déplacements!$C$9:$C$808,"<"&DATE(AnneeSynth,11,1)) -> 2290 | AF13: =IFERROR(AD13/AE13,0) -> 0.19041048
C14: GESTIONNAIRE | G14: Kilomètres parcourus par mois | M14: Dépenses TTC par mois et coût au kilomètre | U14: Dépenses HT | V14: =SUMIFS(Dépenses!$N$9:$N$508,Dépenses!$C$9:$C$508,">="&PerDebut,Dépenses!$C$9:$C$508,"<="&PerFin) -> 5556.2417 | W14: nov. | X14: =SUMIFS(Déplacements!$M$9:$M$808,Déplacements!$J$9:$J$808,"Professionnel",Déplacements!$C$9:$C$808,">="&DATE(AnneeSynth,11,1),Déplacements!$C$9:$C$808,"<"&DATE(AnneeSynth,12,1)) -> 1071 | Y14: =SUMIFS(Déplacements!$M$9:$M$808,Déplacements!$J$9:$J$808,"Domicile – travail",Déplacements!$C$9:$C$808,">="&DATE(AnneeSynth,11,1),Déplacements!$C$9:$C$808,"<"&DATE(AnneeSynth,12,1)) -> 96 | Z14: =SUMIFS(Déplacements!$M$9:$M$808,Déplacements!$J$9:$J$808,"Personnel",Déplacements!$C$9:$C$808,">="&DATE(AnneeSynth,11,1),Déplacements!$C$9:$C$808,"<"&DATE(AnneeSynth,12,1)) -> 0 | AA14: =SUMIFS(Dépenses!$L$9:$L$508,Dépenses!$X$9:$X$508,"Énergie",Dépenses!$C$9:$C$508,">="&DATE(AnneeSynth,11,1),Dépenses!$C$9:$C$508,"<"&DATE(AnneeSynth,12,1)) -> 124.32 | AB14: =SUMIFS(Dépenses!$L$9:$L$508,Dépenses!$X$9:$X$508,"Entretien et réparations",Dépenses!$C$9:$C$508,">="&DATE(AnneeSynth,11,1),Dépenses!$C$9:$C$508,"<"&DATE(AnneeSynth,12,1)) -> 512 | AC14: =SUMIFS(Dépenses!$L$9:$L$508,Dépenses!$X$9:$X$508,"Frais fixes et divers",Dépenses!$C$9:$C$508,">="&DATE(AnneeSynth,11,1),Dépenses!$C$9:$C$508,"<"&DATE(AnneeSynth,12,1)) -> 152.1 | AD14: =SUMIFS(Dépenses!$L$9:$L$508,Dépenses!$C$9:$C$508,">="&DATE(AnneeSynth,11,1),Dépenses!$C$9:$C$508,"<"&DATE(AnneeSynth,12,1)) -> 788.42 | AE14: =SUMIFS(Déplacements!$M$9:$M$808,Déplacements!$C$9:$C$808,">="&DATE(AnneeSynth,11,1),Déplacements!$C$9:$C$808,"<"&DATE(AnneeSynth,12,1)) -> 1167 | AF14: =IFERROR(AD14/AE14,0) -> 0.67559554
C15: =Gestionnaire -> Élodie Faure | U15: Énergie TTC | V15: =SUMIFS(Dépenses!$L$9:$L$508,Dépenses!$X$9:$X$508,"Énergie",Dépenses!$C$9:$C$508,">="&PerDebut,Dépenses!$C$9:$C$508,"<="&PerFin) -> 2588.99 | W15: déc. | X15: =SUMIFS(Déplacements!$M$9:$M$808,Déplacements!$J$9:$J$808,"Professionnel",Déplacements!$C$9:$C$808,">="&DATE(AnneeSynth,12,1),Déplacements!$C$9:$C$808,"<"&DATE(AnneeSynth,13,1)) -> 1133 | Y15: =SUMIFS(Déplacements!$M$9:$M$808,Déplacements!$J$9:$J$808,"Domicile – travail",Déplacements!$C$9:$C$808,">="&DATE(AnneeSynth,12,1),Déplacements!$C$9:$C$808,"<"&DATE(AnneeSynth,13,1)) -> 72 | Z15: =SUMIFS(Déplacements!$M$9:$M$808,Déplacements!$J$9:$J$808,"Personnel",Déplacements!$C$9:$C$808,">="&DATE(AnneeSynth,12,1),Déplacements!$C$9:$C$808,"<"&DATE(AnneeSynth,13,1)) -> 0 | AA15: =SUMIFS(Dépenses!$L$9:$L$508,Dépenses!$X$9:$X$508,"Énergie",Dépenses!$C$9:$C$508,">="&DATE(AnneeSynth,12,1),Dépenses!$C$9:$C$508,"<"&DATE(AnneeSynth,13,1)) -> 120.03 | AB15: =SUMIFS(Dépenses!$L$9:$L$508,Dépenses!$X$9:$X$508,"Entretien et réparations",Dépenses!$C$9:$C$508,">="&DATE(AnneeSynth,12,1),Dépenses!$C$9:$C$508,"<"&DATE(AnneeSynth,13,1)) -> 0 | AC15: =SUMIFS(Dépenses!$L$9:$L$508,Dépenses!$X$9:$X$508,"Frais fixes et divers",Dépenses!$C$9:$C$508,">="&DATE(AnneeSynth,12,1),Dépenses!$C$9:$C$508,"<"&DATE(AnneeSynth,13,1)) -> 37.6 | AD15: =SUMIFS(Dépenses!$L$9:$L$508,Dépenses!$C$9:$C$508,">="&DATE(AnneeSynth,12,1),Dépenses!$C$9:$C$508,"<"&DATE(AnneeSynth,13,1)) -> 157.63 | AE15: =SUMIFS(Déplacements!$M$9:$M$808,Déplacements!$C$9:$C$808,">="&DATE(AnneeSynth,12,1),Déplacements!$C$9:$C$808,"<"&DATE(AnneeSynth,13,1)) -> 1205 | AF15: =IFERROR(AD15/AE15,0) -> 0.13081328
C16: 1RE MISE EN CIRCULATION | U16: Quantité d'énergie | V16: =SUMIFS(Dépenses!$J$9:$J$508,Dépenses!$X$9:$X$508,"Énergie",Dépenses!$C$9:$C$508,">="&PerDebut,Dépenses!$C$9:$C$508,"<="&PerFin) -> 1481.74
C17: =DateMEC -> 45006 | U17: Pleins et recharges | V17: =COUNTIFS(Dépenses!$X$9:$X$508,"Énergie",Dépenses!$C$9:$C$508,">="&PerDebut,Dépenses!$C$9:$C$508,"<="&PerFin) -> 43
C18: COMPTEUR ACTUEL | U18: Distance retenue (conso.) | V18: =SUMIFS(Dépenses!$AC$9:$AC$508,Dépenses!$Q$9:$Q$508,">0",Dépenses!$C$9:$C$508,">="&PerDebut,Dépenses!$C$9:$C$508,"<="&PerFin) -> 20804
C19: =KmActuel -> 60353 | U19: Quantité retenue (conso.) | V19: =SUMIFS(Dépenses!$AD$9:$AD$508,Dépenses!$Q$9:$Q$508,">0",Dépenses!$C$9:$C$508,">="&PerDebut,Dépenses!$C$9:$C$508,"<="&PerFin) -> 1449.29
C20: SITUATION AU | U20: Pleins complets retenus | V20: =COUNTIFS(Dépenses!$Q$9:$Q$508,">0",Dépenses!$C$9:$C$508,">="&PerDebut,Dépenses!$C$9:$C$508,"<="&PerFin) -> 40
C21: =DateSituation -> 46743 | U21: Avances à rembourser | V21: =SUMIFS(Dépenses!$L$9:$L$508,Dépenses!$S$9:$S$508,"Oui",Dépenses!$C$9:$C$508,">="&PerDebut,Dépenses!$C$9:$C$508,"<="&PerFin) -> 945.3
C22: ÉCHÉANCE LA PLUS URGENTE | U22: Nombre d'avances | V22: =COUNTIFS(Dépenses!$S$9:$S$508,"Oui",Dépenses!$C$9:$C$508,">="&PerDebut,Dépenses!$C$9:$C$508,"<="&PerFin) -> 66
C23: =$V$30 -> Recharge de climatisation | U23: Km professionnels de l'année | V23: =SUMIFS(Déplacements!$M$9:$M$808,Déplacements!$J$9:$J$808,"Professionnel",Déplacements!$C$9:$C$808,">="&DATE(AnneeSynth,1,1),Déplacements!$C$9:$C$808,"<="&DATE(AnneeSynth,12,31)) -> 20336
C24: =$V$29 -> 46552 | U24: Km domicile – travail de l'année | V24: =SUMIFS(Déplacements!$M$9:$M$808,Déplacements!$J$9:$J$808,"Domicile – travail",Déplacements!$C$9:$C$808,">="&DATE(AnneeSynth,1,1),Déplacements!$C$9:$C$808,"<="&DATE(AnneeSynth,12,31)) -> 1224
U25: Base des IK (km) | V25: =V23+IF(InclureDT="Oui",V24,0) -> 21560
C26: ASSUREUR | U26: Ligne du barème | V26: =MATCH(MIN(MAX(N(PuissanceCV),3),7),BaremeCV,0) -> 4
C27: =Paramètres!$I$13 -> Mutuelle Horizon Assurances | U27: Indemnités kilométriques (€) | V27: =IF(V25<=0,0,IF(V25<=5000,V25*INDEX(BaremeT1,V26),IF(V25<=20000,V25*INDEX(BaremeT2,V26)+INDEX(BaremeF2,V26),V25*INDEX(BaremeT3,V26)))*IF(Energie="Électrique",1+MajorationElec,1)) -> 9637.32
C28: N° DE CONTRAT | U28: Km privés | V28: =V12+IF(Statut="Véhicule de fonction",V11,0) -> 36
C29: =Paramètres!$I$14 -> FL-2027-00318 | U29: Prochaine date d'échéance | V29: =IF(COUNT(Entretien!$J$9:$J$22)=0,"",MIN(Entretien!$J$9:$J$22)) -> 46552
U30: Opération concernée | V30: =IF(V29="","–",INDEX(Entretien!$B$9:$B$22,MATCH(V29,Entretien!$J$9:$J$22,0))) -> Recharge de climatisation
C32: POINTS D'ATTENTION | G32: Coûts par catégorie | M32: Activité par centre de coût
G33: CATÉGORIE | I33: MONTANT TTC | J33: PART | K33: POIDS | M33: CENTRE DE COÛT | O33: DÉPLAC. | P33: KM | Q33: PART KM | R33: DÉPENSES
C34: Échéances en retard | D34: =COUNTIF(Entretien!$O$9:$O$22,"En retard") -> 1 | G34: =IF(Paramètres!$H$37="","",Paramètres!$H$37) -> Carburant | I34: =IF(G34="","",SUMIFS(Dépenses!$L$9:$L$508,Dépenses!$F$9:$F$508,G34,Dépenses!$C$9:$C$508,">="&PerDebut,Dépenses!$C$9:$C$508,"<="&PerFin)) -> 2588.99 | J34: =IF(G34="","",IFERROR(I34/$I$46,0)) -> 0.40214884 | K34: =IF(G34="","",IFERROR(I34/MAX($I$34:$I$45),0)) -> 1 | M34: =IF(Paramètres!$B$46="","",Paramètres!$B$46) -> Service technique | O34: =IF($M34="","",COUNTIFS(Déplacements!$F$9:$F$808,$M34,Déplacements!$C$9:$C$808,">="&PerDebut,Déplacements!$C$9:$C$808,"<="&PerFin)) -> 301 | P34: =IF($M34="","",SUMIFS(Déplacements!$M$9:$M$808,Déplacements!$F$9:$F$808,$M34,Déplacements!$C$9:$C$808,">="&PerDebut,Déplacements!$C$9:$C$808,"<="&PerFin)) -> 12006 | Q34: =IF(OR($M34="",N($P$40)=0),"",P34/$P$40) -> 0.55593628 | R34: =IF($M34="","",SUMIFS(Dépenses!$L$9:$L$508,Dépenses!$T$9:$T$508,$M34,Dépenses!$C$9:$C$508,">="&PerDebut,Dépenses!$C$9:$C$508,"<="&PerFin)) -> 3129.54
C35: Échéances à prévoir | D35: =COUNTIF(Entretien!$O$9:$O$22,"À prévoir") -> 1 | G35: =IF(Paramètres!$H$38="","",Paramètres!$H$38) -> Recharge électrique | I35: =IF(G35="","",SUMIFS(Dépenses!$L$9:$L$508,Dépenses!$F$9:$F$508,G35,Dépenses!$C$9:$C$508,">="&PerDebut,Dépenses!$C$9:$C$508,"<="&PerFin)) -> 0 | J35: =IF(G35="","",IFERROR(I35/$I$46,0)) -> 0 | K35: =IF(G35="","",IFERROR(I35/MAX($I$34:$I$45),0)) -> 0 | M35: =IF(Paramètres!$B$47="","",Paramètres!$B$47) -> Service commercial | O35: =IF($M35="","",COUNTIFS(Déplacements!$F$9:$F$808,$M35,Déplacements!$C$9:$C$808,">="&PerDebut,Déplacements!$C$9:$C$808,"<="&PerFin)) -> 69 | P35: =IF($M35="","",SUMIFS(Déplacements!$M$9:$M$808,Déplacements!$F$9:$F$808,$M35,Déplacements!$C$9:$C$808,">="&PerDebut,Déplacements!$C$9:$C$808,"<="&PerFin)) -> 9489 | Q35: =IF(OR($M35="",N($P$40)=0),"",P35/$P$40) -> 0.43938692 | R35: =IF($M35="","",SUMIFS(Dépenses!$L$9:$L$508,Dépenses!$T$9:$T$508,$M35,Dépenses!$C$9:$C$508,">="&PerDebut,Dépenses!$C$9:$C$508,"<="&PerFin)) -> 1969.93
C36: Déplacements à vérifier | D36: =COUNTIF(Déplacements!$O$9:$O$808,"?*")-COUNTIF(Déplacements!$O$9:$O$808,"Conforme") -> 2 | G36: =IF(Paramètres!$H$39="","",Paramètres!$H$39) -> Entretien | I36: =IF(G36="","",SUMIFS(Dépenses!$L$9:$L$508,Dépenses!$F$9:$F$508,G36,Dépenses!$C$9:$C$508,">="&PerDebut,Dépenses!$C$9:$C$508,"<="&PerFin)) -> 312.6 | J36: =IF(G36="","",IFERROR(I36/$I$46,0)) -> 0.048556282 | K36: =IF(G36="","",IFERROR(I36/MAX($I$34:$I$45),0)) -> 0.12074207 | M36: =IF(Paramètres!$B$48="","",Paramètres!$B$48) -> Direction | O36: =IF($M36="","",COUNTIFS(Déplacements!$F$9:$F$808,$M36,Déplacements!$C$9:$C$808,">="&PerDebut,Déplacements!$C$9:$C$808,"<="&PerFin)) -> 5 | P36: =IF($M36="","",SUMIFS(Déplacements!$M$9:$M$808,Déplacements!$F$9:$F$808,$M36,Déplacements!$C$9:$C$808,">="&PerDebut,Déplacements!$C$9:$C$808,"<="&PerFin)) -> 101 | Q36: =IF(OR($M36="",N($P$40)=0),"",P36/$P$40) -> 0.004676792 | R36: =IF($M36="","",SUMIFS(Dépenses!$L$9:$L$508,Dépenses!$T$9:$T$508,$M36,Dépenses!$C$9:$C$508,">="&PerDebut,Dépenses!$C$9:$C$508,"<="&PerFin)) -> 152.02
C37: Dépenses à vérifier | D37: =COUNTIF(Dépenses!$V$9:$V$508,"?*")-COUNTIF(Dépenses!$V$9:$V$508,"Conforme") -> 0 | G37: =IF(Paramètres!$H$40="","",Paramètres!$H$40) -> Réparation | I37: =IF(G37="","",SUMIFS(Dépenses!$L$9:$L$508,Dépenses!$F$9:$F$508,G37,Dépenses!$C$9:$C$508,">="&PerDebut,Dépenses!$C$9:$C$508,"<="&PerFin)) -> 434.9 | J37: =IF(G37="","",IFERROR(I37/$I$46,0)) -> 0.067553189 | K37: =IF(G37="","",IFERROR(I37/MAX($I$34:$I$45),0)) -> 0.16798056 | M37: =IF(Paramètres!$B$49="","",Paramètres!$B$49) -> Logistique | O37: =IF($M37="","",COUNTIFS(Déplacements!$F$9:$F$808,$M37,Déplacements!$C$9:$C$808,">="&PerDebut,Déplacements!$C$9:$C$808,"<="&PerFin)) -> 0 | P37: =IF($M37="","",SUMIFS(Déplacements!$M$9:$M$808,Déplacements!$F$9:$F$808,$M37,Déplacements!$C$9:$C$808,">="&PerDebut,Déplacements!$C$9:$C$808,"<="&PerFin)) -> 0 | Q37: =IF(OR($M37="",N($P$40)=0),"",P37/$P$40) -> 0 | R37: =IF($M37="","",SUMIFS(Dépenses!$L$9:$L$508,Dépenses!$T$9:$T$508,$M37,Dépenses!$C$9:$C$508,">="&PerDebut,Dépenses!$C$9:$C$508,"<="&PerFin)) -> 0
C38: Usage privé signalé | D38: =COUNTIF(Déplacements!$O$9:$O$808,"Usage privé non autorisé") -> 1 | G38: =IF(Paramètres!$H$41="","",Paramètres!$H$41) -> Pneumatiques | I38: =IF(G38="","",SUMIFS(Dépenses!$L$9:$L$508,Dépenses!$F$9:$F$508,G38,Dépenses!$C$9:$C$508,">="&PerDebut,Dépenses!$C$9:$C$508,"<="&PerFin)) -> 512 | J38: =IF(G38="","",IFERROR(I38/$I$46,0)) -> 0.079529163 | K38: =IF(G38="","",IFERROR(I38/MAX($I$34:$I$45),0)) -> 0.19776052 | M38: =IF(Paramètres!$B$50="","",Paramètres!$B$50) | O38: =IF($M38="","",COUNTIFS(Déplacements!$F$9:$F$808,$M38,Déplacements!$C$9:$C$808,">="&PerDebut,Déplacements!$C$9:$C$808,"<="&PerFin)) | P38: =IF($M38="","",SUMIFS(Déplacements!$M$9:$M$808,Déplacements!$F$9:$F$808,$M38,Déplacements!$C$9:$C$808,">="&PerDebut,Déplacements!$C$9:$C$808,"<="&PerFin)) | Q38: =IF(OR($M38="",N($P$40)=0),"",P38/$P$40) | R38: =IF($M38="","",SUMIFS(Dépenses!$L$9:$L$508,Dépenses!$T$9:$T$508,$M38,Dépenses!$C$9:$C$508,">="&PerDebut,Dépenses!$C$9:$C$508,"<="&PerFin))
C39: Avances à rembourser | D39: =SUMIFS(Dépenses!$L$9:$L$508,Dépenses!$S$9:$S$508,"Oui") -> 945.3 | G39: =IF(Paramètres!$H$42="","",Paramètres!$H$42) -> Contrôle technique | I39: =IF(G39="","",SUMIFS(Dépenses!$L$9:$L$508,Dépenses!$F$9:$F$508,G39,Dépenses!$C$9:$C$508,">="&PerDebut,Dépenses!$C$9:$C$508,"<="&PerFin)) -> 89 | J39: =IF(G39="","",IFERROR(I39/$I$46,0)) -> 0.013824405 | K39: =IF(G39="","",IFERROR(I39/MAX($I$34:$I$45),0)) -> 0.03437634 | M39: Non affecté | O39: =IF($M39="","",COUNTIFS(Déplacements!$F$9:$F$808,$M39,Déplacements!$C$9:$C$808,">="&PerDebut,Déplacements!$C$9:$C$808,"<="&PerFin)) -> 0 | P39: =IF($M39="","",SUMIFS(Déplacements!$M$9:$M$808,Déplacements!$F$9:$F$808,$M39,Déplacements!$C$9:$C$808,">="&PerDebut,Déplacements!$C$9:$C$808,"<="&PerFin)) -> 0 | Q39: =IF(OR($M39="",N($P$40)=0),"",P39/$P$40) -> 0 | R39: =IF($M39="","",SUMIFS(Dépenses!$L$9:$L$508,Dépenses!$T$9:$T$508,$M39,Dépenses!$C$9:$C$508,">="&PerDebut,Dépenses!$C$9:$C$508,"<="&PerFin)) -> 1186.4
G40: =IF(Paramètres!$H$43="","",Paramètres!$H$43) -> Assurance | I40: =IF(G40="","",SUMIFS(Dépenses!$L$9:$L$508,Dépenses!$F$9:$F$508,G40,Dépenses!$C$9:$C$508,">="&PerDebut,Dépenses!$C$9:$C$508,"<="&PerFin)) -> 1148 | J40: =IF(G40="","",IFERROR(I40/$I$46,0)) -> 0.17831929 | K40: =IF(G40="","",IFERROR(I40/MAX($I$34:$I$45),0)) -> 0.44341616 | M40: Total | O40: =SUM(O34:O39) -> 375 | P40: =SUM(P34:P39) -> 21596 | Q40: =IF(P40>0,1,"") -> 1 | R40: =SUM(R34:R39) -> 6437.89
C41: ACCÈS RAPIDE | G41: =IF(Paramètres!$H$44="","",Paramètres!$H$44) -> Péage | I41: =IF(G41="","",SUMIFS(Dépenses!$L$9:$L$508,Dépenses!$F$9:$F$508,G41,Dépenses!$C$9:$C$508,">="&PerDebut,Dépenses!$C$9:$C$508,"<="&PerFin)) -> 822 | J41: =IF(G41="","",IFERROR(I41/$I$46,0)) -> 0.12768159 | K41: =IF(G41="","",IFERROR(I41/MAX($I$34:$I$45),0)) -> 0.31749833
C42: › Déplacements | G42: =IF(Paramètres!$H$45="","",Paramètres!$H$45) -> Stationnement | I42: =IF(G42="","",SUMIFS(Dépenses!$L$9:$L$508,Dépenses!$F$9:$F$508,G42,Dépenses!$C$9:$C$508,">="&PerDebut,Dépenses!$C$9:$C$508,"<="&PerFin)) -> 248.1 | J42: =IF(G42="","",IFERROR(I42/$I$46,0)) -> 0.038537471 | K42: =IF(G42="","",IFERROR(I42/MAX($I$34:$I$45),0)) -> 0.095828875 | M42: Activité par conducteur
...

Sheet Déplacements
B1: ="CARNET DE BORD DU VÉHICULE · "&Immatriculation -> CARNET DE BORD DU VÉHICULE · FT-317-KV
B2: JOURNAL DES DÉPLACEMENTS | P2: =TRIM(Marque&" "&Modele)&" · "&TitulaireVehicule -> Norvane Fourgonnette L1 1.5 diesel · Altéis Maintenance SAS
B4: DÉPLACEMENTS | E4: DISTANCE TOTALE | G4: PART PROFESSIONNELLE | I4: LIGNES À VÉRIFIER | J4: DERNIER RELEVÉ DU COMPTEUR
B5: =COUNT(Déplacements!$C$9:$C$808) -> 375 | E5: =SUM(Déplacements!$M$9:$M$808) -> 21596 | G5: =IFERROR(SUMIFS(Déplacements!$M$9:$M$808,Déplacements!$J$9:$J$808,"Professionnel")/SUM(Déplacements!$M$9:$M$808),0) -> 0.94165586 | I5: =COUNTIF(Déplacements!$O$9:$O$808,"?*")-COUNTIF(Déplacements!$O$9:$O$808,"Conforme") -> 2 | J5: =MAX(Déplacements!$L$9:$L$808) -> 60353
B7: Une ligne par déplacement, dans l'ordre chronologique : la distance, l'imputation et la continuité du compteur se calculent seules. | O7: Saisie | P7: Calcul automatique
B8: N° | C8: Date | D8: Heure | E8: Conducteur | F8: Centre de coût | G8: Lieu de départ | H8: Destination | I8: Motif du déplacement / client | J8: Nature du trajet | K8: Compteur départ | L8: Compteur arrivée | M8: Distance (km) | N8: Écart de compteur | O8: Contrôle | P8: Observations | R8: Rang relevé
B9: =IF(C9="","",COUNT($C$9:C9)) -> 1 | C9: 46392 | D9: 0.58333333 | E9: Thomas Girard | F9: =IF(OR(C9="",E9=""),"",IFERROR(INDEX(CondService,MATCH(E9,CondNoms,0))&"","Conducteur inconnu")) -> Service technique | G9: Siège – ZA des Tanneurs | H9: Bourgoin-Jallieu | I9: Intervention – Polyclinique des Alpes | J9: Professionnel | K9: 38740 | L9: 38831 | M9: =IF(OR(K9="",L9=""),"",L9-K9) -> 91 | N9: =IF(OR(C9="",K9=""),"",K9-N(KmOuverture)) -> 0 | O9: =IF(C9="","",IF(OR(E9="",G9="",H9="",J9="",K9="",L9="",AND(J9="Professionnel",I9="")),"Incomplet",IF(FALSE,"",IF(L9<K9,"Compteur incohérent",IF(AND(ISNUMBER(N9),N9>ToleranceKm),"Km non enregistrés",IF(AND(ISNUMBER(N9),N9<-ToleranceKm),"Chevauchement",IF(AND(J9="Personnel",UsagePrive="Non"),"Usage privé non autorisé","Conforme"))))))) -> Conforme | R9: =IF(AND($E9=RelConducteur,$J9="Professionnel",ISNUMBER($C9),$C9>=RelDebut,$C9<=RelFin),COUNTIFS($E$9:$E9,RelConducteur,$J$9:$J9,"Professionnel",$C$9:$C9,">="&RelDebut,$C$9:$C9,"<="&RelFin),"")
B10: =IF(C10="","",COUNT($C$9:C10)) -> 2 | C10: 46393 | D10: 0.3125 | E10: Thomas Girard | F10: =IF(OR(C10="",E10=""),"",IFERROR(INDEX(CondService,MATCH(E10,CondNoms,0))&"","Conducteur inconnu")) -> Service technique | G10: Siège – ZA des Tanneurs | H10: Vienne | I10: Mise en service – Laboratoire Cérès | J10: Professionnel | K10: 38831 | L10: 38898 | M10: =IF(OR(K10="",L10=""),"",L10-K10) -> 67 | N10: =IF(OR(C10="",K10="",L9=""),"",K10-L9) -> 0 | O10: =IF(C10="","",IF(OR(E10="",G10="",H10="",J10="",K10="",L10="",AND(J10="Professionnel",I10="")),"Incomplet",IF(AND(ISNUMBER(C9),C10<C9),"Ordre des dates",IF(L10<K10,"Compteur incohérent",IF(AND(ISNUMBER(N10),N10>ToleranceKm),"Km non enregistrés",IF(AND(ISNUMBER(N10),N10<-ToleranceKm),"Chevauchement",IF(AND(J10="Personnel",UsagePrive="Non"),"Usage privé non autorisé","Conforme"))))))) -> Conforme | R10: =IF(AND($E10=RelConducteur,$J10="Professionnel",ISNUMBER($C10),$C10>=RelDebut,$C10<=RelFin),COUNTIFS($E$9:$E10,RelConducteur,$J$9:$J10,"Professionnel",$C$9:$C10,">="&RelDebut,$C$9:$C10,"<="&RelFin),"")
B11: =IF(C11="","",COUNT($C$9:C11)) -> 3 | C11: 46393 | D11: 0.58333333 | E11: Karim Benali | F11: =IF(OR(C11="",E11=""),"",IFERROR(INDEX(CondService,MATCH(E11,CondNoms,0))&"","Conducteur inconnu")) -> Service technique | G11: Siège – ZA des Tanneurs | H11: Villeurbanne | I11: Intervention – Clinique du Parc | J11: Professionnel | K11: 38898 | L11: 38923 | M11: =IF(OR(K11="",L11=""),"",L11-K11) -> 25 | N11: =IF(OR(C11="",K11="",L10=""),"",K11-L10) -> 0 | O11: =IF(C11="","",IF(OR(E11="",G11="",H11="",J11="",K11="",L11="",AND(J11="Professionnel",I11="")),"Incomplet",IF(AND(ISNUMBER(C10),C11<C10),"Ordre des dates",IF(L11<K11,"Compteur incohérent",IF(AND(ISNUMBER(N11),N11>ToleranceKm),"Km non enregistrés",IF(AND(ISNUMBER(N11),N11<-ToleranceKm),"Chevauchement",IF(AND(J11="Personnel",UsagePrive="Non"),"Usage privé non autorisé","Conforme"))))))) -> Conforme | R11: =IF(AND($E11=RelConducteur,$J11="Professionnel",ISNUMBER($C11),$C11>=RelDebut,$C11<=RelFin),COUNTIFS($E$9:$E11,RelConducteur,$J$9:$J11,"Professionnel",$C$9:$C11,">="&RelDebut,$C$9:$C11,"<="&RelFin),"")
B12: =IF(C12="","",COUNT($C$9:C12)) -> 4 | C12: 46394 | D12: 0.35416667 | E12: Karim Benali | F12: =IF(OR(C12="",E12=""),"",IFERROR(INDEX(CondService,MATCH(E12,CondNoms,0))&"","Conducteur inconnu")) -> Service technique | G12: Siège – ZA des Tanneurs | H12: Villeurbanne | I12: Intervention – Clinique du Parc | J12: Professionnel | K12: 38923 | L12: 38944 | M12: =IF(OR(K12="",L12=""),"",L12-K12) -> 21 | N12: =IF(OR(C12="",K12="",L11=""),"",K12-L11) -> 0 | O12: =IF(C12="","",IF(OR(E12="",G12="",H12="",J12="",K12="",L12="",AND(J12="Professionnel",I12="")),"Incomplet",IF(AND(ISNUMBER(C11),C12<C11),"Ordre des dates",IF(L12<K12,"Compteur incohérent",IF(AND(ISNUMBER(N12),N12>ToleranceKm),"Km non enregistrés",IF(AND(ISNUMBER(N12),N12<-ToleranceKm),"Chevauchement",IF(AND(J12="Personnel",UsagePrive="Non"),"Usage privé non autorisé","Conforme"))))))) -> Conforme | R12: =IF(AND($E12=RelConducteur,$J12="Professionnel",ISNUMBER($C12),$C12>=RelDebut,$C12<=RelFin),COUNTIFS($E$9:$E12,RelConducteur,$J$9:$J12,"Professionnel",$C$9:$C12,">="&RelDebut,$C$9:$C12,"<="&RelFin),"")
B13: =IF(C13="","",COUNT($C$9:C13)) -> 5 | C13: 46395 | D13: 0.33333333 | E13: Thomas Girard | F13: =IF(OR(C13="",E13=""),"",IFERROR(INDEX(CondService,MATCH(E13,CondNoms,0))&"","Conducteur inconnu")) -> Service technique | G13: Siège – ZA des Tanneurs | H13: Bourgoin-Jallieu | I13: Intervention – Polyclinique des Alpes | J13: Professionnel | K13: 38944 | L13: 39036 | M13: =IF(OR(K13="",L13=""),"",L13-K13) -> 92 | N13: =IF(OR(C13="",K13="",L12=""),"",K13-L12) -> 0 | O13: =IF(C13="","",IF(OR(E13="",G13="",H13="",J13="",K13="",L13="",AND(J13="Professionnel",I13="")),"Incomplet",IF(AND(ISNUMBER(C12),C13<C12),"Ordre des dates",IF(L13<K13,"Compteur incohérent",IF(AND(ISNUMBER(N13),N13>ToleranceKm),"Km non enregistrés",IF(AND(ISNUMBER(N13),N13<-ToleranceKm),"Chevauchement",IF(AND(J13="Personnel",UsagePrive="Non"),"Usage privé non autorisé","Conforme"))))))) -> Conforme | R13: =IF(AND($E13=RelConducteur,$J13="Professionnel",ISNUMBER($C13),$C13>=RelDebut,$C13<=RelFin),COUNTIFS($E$9:$E13,RelConducteur,$J$9:$J13,"Professionnel",$C$9:$C13,">="&RelDebut,$C$9:$C13,"<="&RelFin),"")
B14: =IF(C14="","",COUNT($C$9:C14)) -> 6 | C14: 46398 | D14: 0.33333333 | E14: Karim Benali | F14: =IF(OR(C14="",E14=""),"",IFERROR(INDEX(CondService,MATCH(E14,CondNoms,0))&"","Conducteur inconnu")) -> Service technique | G14: Siège – ZA des Tanneurs | H14: Vienne | I14: Mise en service – Laboratoire Cérès | J14: Professionnel | K14: 39036 | L14: 39102 | M14: =IF(OR(K14="",L14=""),"",L14-K14) -> 66 | N14: =IF(OR(C14="",K14="",L13=""),"",K14-L13) -> 0 | O14: =IF(C14="","",IF(OR(E14="",G14="",H14="",J14="",K14="",L14="",AND(J14="Professionnel",I14="")),"Incomplet",IF(AND(ISNUMBER(C13),C14<C13),"Ordre des dates",IF(L14<K14,"Compteur incohérent",IF(AND(ISNUMBER(N14),N14>ToleranceKm),"Km non enregistrés",IF(AND(ISNUMBER(N14),N14<-ToleranceKm),"Chevauchement",IF(AND(J14="Personnel",UsagePrive="Non"),"Usage privé non autorisé","Conforme"))))))) -> Conforme | R14: =IF(AND($E14=RelConducteur,$J14="Professionnel",ISNUMBER($C14),$C14>=RelDebut,$C14<=RelFin),COUNTIFS($E$9:$E14,RelConducteur,$J$9:$J14,"Professionnel",$C$9:$C14,">="&RelDebut,$C$9:$C14,"<="&RelFin),"")
B15: =IF(C15="","",COUNT($C$9:C15)) -> 7 | C15: 46399 | D15: 0.3125 | E15: Thomas Girard | F15: =IF(OR(C15="",E15=""),"",IFERROR(INDEX(CondService,MATCH(E15,CondNoms,0))&"","Conducteur inconnu")) -> Service technique | G15: Siège – ZA des Tanneurs | H15: Bron | I15: Dépannage – Résidence Les Tilleuls | J15: Professionnel | K15: 39102 | L15: 39122 | M15: =IF(OR(K15="",L15=""),"",L15-K15) -> 20 | N15: =IF(OR(C15="",K15="",L14=""),"",K15-L14) -> 0 | O15: =IF(C15="","",IF(OR(E15="",G15="",H15="",J15="",K15="",L15="",AND(J15="Professionnel",I15="")),"Incomplet",IF(AND(ISNUMBER(C14),C15<C14),"Ordre des dates",IF(L15<K15,"Compteur incohérent",IF(AND(ISNUMBER(N15),N15>ToleranceKm),"Km non enregistrés",IF(AND(ISNUMBER(N15),N15<-ToleranceKm),"Chevauchement",IF(AND(J15="Personnel",UsagePrive="Non"),"Usage privé non autorisé","Conforme"))))))) -> Conforme | R15: =IF(AND($E15=RelConducteur,$J15="Professionnel",ISNUMBER($C15),$C15>=RelDebut,$C15<=RelFin),COUNTIFS($E$9:$E15,RelConducteur,$J$9:$J15,"Professionnel",$C$9:$C15,">="&RelDebut,$C$9:$C15,"<="&RelFin),"")
B16: =IF(C16="","",COUNT($C$9:C16)) -> 8 | C16: 46399 | D16: 0.58333333 | E16: Karim Benali | F16: =IF(OR(C16="",E16=""),"",IFERROR(INDEX(CondService,MATCH(E16,CondNoms,0))&"","Conducteur inconnu")) -> Service technique | G16: Siège – ZA des Tanneurs | H16: Vénissieux | I16: Maintenance – Imprimerie Morand | J16: Professionnel | K16: 39122 | L16: 39150 | M16: =IF(OR(K16="",L16=""),"",L16-K16) -> 28 | N16: =IF(OR(C16="",K16="",L15=""),"",K16-L15) -> 0 | O16: =IF(C16="","",IF(OR(E16="",G16="",H16="",J16="",K16="",L16="",AND(J16="Professionnel",I16="")),"Incomplet",IF(AND(ISNUMBER(C15),C16<C15),"Ordre des dates",IF(L16<K16,"Compteur incohérent",IF(AND(ISNUMBER(N16),N16>ToleranceKm),"Km non enregistrés",IF(AND(ISNUMBER(N16),N16<-ToleranceKm),"Chevauchement",IF(AND(J16="Personnel",UsagePrive="Non"),"Usage privé non autorisé","Conforme"))))))) -> Conforme | R16: =IF(AND($E16=RelConducteur,$J16="Professionnel",ISNUMBER($C16),$C16>=RelDebut,$C16<=RelFin),COUNTIFS($E$9:$E16,RelConducteur,$J$9:$J16,"Professionnel",$C$9:$C16,">="&RelDebut,$C$9:$C16,"<="&RelFin),"")
B17: =IF(C17="","",COUNT($C$9:C17)) -> 9 | C17: 46400 | D17: 0.35416667 | E17: Karim Benali | F17: =IF(OR(C17="",E17=""),"",IFERROR(INDEX(CondService,MATCH(E17,CondNoms,0))&"","Conducteur inconnu")) -> Service technique | G17: Siège – ZA des Tanneurs | H17: Meyzieu | I17: Maintenance préventive – Groupe Solvéo | J17: Professionnel | K17: 39150 | L17: 39186 | M17: =IF(OR(K17="",L17=""),"",L17-K17) -> 36 | N17: =IF(OR(C17="",K17="",L16=""),"",K17-L16) -> 0 | O17: =IF(C17="","",IF(OR(E17="",G17="",H17="",J17="",K17="",L17="",AND(J17="Professionnel",I17="")),"Incomplet",IF(AND(ISNUMBER(C16),C17<C16),"Ordre des dates",IF(L17<K17,"Compteur incohérent",IF(AND(ISNUMBER(N17),N17>ToleranceKm),"Km non enregistrés",IF(AND(ISNUMBER(N17),N17<-ToleranceKm),"Chevauchement",IF(AND(J17="Personnel",UsagePrive="Non"),"Usage privé non autorisé","Conforme"))))))) -> Conforme | R17: =IF(AND($E17=RelConducteur,$J17="Professionnel",ISNUMBER($C17),$C17>=RelDebut,$C17<=RelFin),COUNTIFS($E$9:$E17,RelConducteur,$J$9:$J17,"Professionnel",$C$9:$C17,">="&RelDebut,$C$9:$C17,"<="&RelFin),"")
B18: =IF(C18="","",COUNT($C$9:C18)) -> 10 | C18: 46400 | D18: 0.4375 | E18: Sophie Lemaire | F18: =IF(OR(C18="",E18=""),"",IFERROR(INDEX(CondService,MATCH(E18,CondNoms,0))&"","Conducteur inconnu")) -> Service commercial | G18: Siège – ZA des Tanneurs | H18: Annecy | I18: Rendez-vous prospect – Lacustra | J18: Professionnel | K18: 39186 | L18: 39462 | M18: =IF(OR(K18="",L18=""),"",L18-K18) -> 276 | N18: =IF(OR(C18="",K18="",L17=""),"",K18-L17) -> 0 | O18: =IF(C18="","",IF(OR(E18="",G18="",H18="",J18="",K18="",L18="",AND(J18="Professionnel",I18="")),"Incomplet",IF(AND(ISNUMBER(C17),C18<C17),"Ordre des dates",IF(L18<K18,"Compteur incohérent",IF(AND(ISNUMBER(N18),N18>ToleranceKm),"Km non enregistrés",IF(AND(ISNUMBER(N18),N18<-ToleranceKm),"Chevauchement",IF(AND(J18="Personnel",UsagePrive="Non"),"Usage privé non autorisé","Conforme"))))))) -> Conforme | R18: =IF(AND($E18=RelConducteur,$J18="Professionnel",ISNUMBER($C18),$C18>=RelDebut,$C18<=RelFin),COUNTIFS($E$9:$E18,RelConducteur,$J$9:$J18,"Professionnel",$C$9:$C18,">="&RelDebut,$C$9:$C18,"<="&RelFin),"")
B19: =IF(C19="","",COUNT($C$9:C19)) -> 11 | C19: 46401 | D19: 0.35416667 | E19: Thomas Girard | F19: =IF(OR(C19="",E19=""),"",IFERROR(INDEX(CondService,MATCH(E19,CondNoms,0))&"","Conducteur inconnu")) -> Service technique | G19: Siège – ZA des Tanneurs | H19: Givors | I19: Dépannage – Collège Les Platanes | J19: Professionnel | K19: 39462 | L19: 39515 | M19: =IF(OR(K19="",L19=""),"",L19-K19) -> 53 | N19: =IF(OR(C19="",K19="",L18=""),"",K19-L18) -> 0 | O19: =IF(C19="","",IF(OR(E19="",G19="",H19="",J19="",K19="",L19="",AND(J19="Professionnel",I19="")),"Incomplet",IF(AND(ISNUMBER(C18),C19<C18),"Ordre des dates",IF(L19<K19,"Compteur incohérent",IF(AND(ISNUMBER(N19),N19>ToleranceKm),"Km non enregistrés",IF(AND(ISNUMBER(N19),N19<-ToleranceKm),"Chevauchement",IF(AND(J19="Personnel",UsagePrive="Non"),"Usage privé non autorisé","Conforme"))))))) -> Conforme | R19: =IF(AND($E19=RelConducteur,$J19="Professionnel",ISNUMBER($C19),$C19>=RelDebut,$C19<=RelFin),COUNTIFS($E$9:$E19,RelConducteur,$J$9:$J19,"Professionnel",$C$9:$C19,">="&RelDebut,$C$9:$C19,"<="&RelFin),"")
B20: =IF(C20="","",COUNT($C$9:C20)) -> 12 | C20: 46402 | D20: 0.33333333 | E20: Karim Benali | F20: =IF(OR(C20="",E20=""),"",IFERROR(INDEX(CondService,MATCH(E20,CondNoms,0))&"","Conducteur inconnu")) -> Service technique | G20: Siège – ZA des Tanneurs | H20: Meyzieu | I20: Maintenance préventive – Groupe Solvéo | J20: Professionnel | K20: 39515 | L20: 39548 | M20: =IF(OR(K20="",L20=""),"",L20-K20) -> 33 | N20: =IF(OR(C20="",K20="",L19=""),"",K20-L19) -> 0 | O20: =IF(C20="","",IF(OR(E20="",G20="",H20="",J20="",K20="",L20="",AND(J20="Professionnel",I20="")),"Incomplet",IF(AND(ISNUMBER(C19),C20<C19),"Ordre des dates",IF(L20<K20,"Compteur incohérent",IF(AND(ISNUMBER(N20),N20>ToleranceKm),"Km non enregistrés",IF(AND(ISNUMBER(N20),N20<-ToleranceKm),"Chevauchement",IF(AND(J20="Personnel",UsagePrive="Non"),"Usage privé non autorisé","Conforme"))))))) -> Conforme | R20: =IF(AND($E20=RelConducteur,$J20="Professionnel",ISNUMBER($C20),$C20>=RelDebut,$C20<=RelFin),COUNTIFS($E$9:$E20,RelConducteur,$J$9:$J20,"Professionnel",$C$9:$C20,">="&RelDebut,$C$9:$C20,"<="&RelFin),"")
B21: =IF(C21="","",COUNT($C$9:C21)) -> 13 | C21: 46402 | D21: 0.58333333 | E21: Thomas Girard | F21: =IF(OR(C21="",E21=""),"",IFERROR(INDEX(CondService,MATCH(E21,CondNoms,0))&"","Conducteur inconnu")) -> Service technique | G21: Siège – ZA des Tanneurs | H21: Vienne | I21: Mise en service – Laboratoire Cérès | J21: Professionnel | K21: 39548 | L21: 39611 | M21: =IF(OR(K21="",L21=""),"",L21-K21) -> 63 | N21: =IF(OR(C21="",K21="",L20=""),"",K21-L20) -> 0 | O21: =IF(C21="","",IF(OR(E21="",G21="",H21="",J21="",K21="",L21="",AND(J21="Professionnel",I21="")),"Incomplet",IF(AND(ISNUMBER(C20),C21<C20),"Ordre des dates",IF(L21<K21,"Compteur incohérent",IF(AND(ISNUMBER(N21),N21>ToleranceKm),"Km non enregistrés",IF(AND(ISNUMBER(N21),N21<-ToleranceKm),"Chevauchement",IF(AND(J21="Personnel",UsagePrive="Non"),"Usage privé non autorisé","Conforme"))))))) -> Conforme | R21: =IF(AND($E21=RelConducteur,$J21="Professionnel",ISNUMBER($C21),$C21>=RelDebut,$C21<=RelFin),COUNTIFS($E$9:$E21,RelConducteur,$J$9:$J21,"Professionnel",$C$9:$C21,">="&RelDebut,$C$9:$C21,"<="&RelFin),"")
... B193: =IF(C193="","",COUNT($C$9:C193)) -> 185 | C193: 46556 | D193: 0.58333333 | E193: Thomas Girard | F193: =IF(OR(C193="",E193=""),"",IFERROR(INDEX(CondService,MATCH(E193,CondNoms,0))&"","Conducteur inconnu")) -> Service technique | G193: Siège – ZA des Tanneurs | H193: Givors | I193: Dépannage – Collège Les Platanes | J193: Professionnel | K193: 49694 | L193: 49747 | M193: =IF(OR(K193="",L193=""),"",L193-K193) -> 53 | N193: =IF(OR(C193="",K193="",L192=""),"",K193-L192) -> 0 | O193: =IF(C193="","",IF(OR(E193="",G193="",H193="",J193="",K193="",L193="",AND(J193="Professionnel",I193="")),"Incomplet",IF(AND(ISNUMBER(C192),C193<C192),"Ordre des dates",IF(L193<K193,"Compteur incohérent",IF(AND(ISNUMBER(N193),N193>ToleranceKm),"Km non enregistrés",IF(AND(ISNUMBER(N193),N193<-ToleranceKm),"Chevauchement",IF(AND(J193="Personnel",UsagePrive="Non"),"Usage privé non autorisé","Conforme"))))))) -> Conforme | R193: =IF(AND($E193=RelConducteur,$J193="Professionnel",ISNUMBER($C193),$C193>=RelDebut,$C193<=RelFin),COUNTIFS($E$9:$E193,RelConducteur,$J$9:$J193,"Professionnel",$C$9:$C193,">="&RelDebut,$C$9:$C193,"<="&RelFin),"")
B194: =IF(C194="","",COUNT($C$9:C194)) -> 186 | C194: 46556 | D194: 0.77083333 | E194: Thomas Girard | F194: =IF(OR(C194="",E194=""),"",IFERROR(INDEX(CondService,MATCH(E194,CondNoms,0))&"","Conducteur inconnu")) -> Service technique | G194: Siège – ZA des Tanneurs | H194: Villeurbanne | I194: Transport de cartons personnels | J194: Personnel | K194: 49747 | L194: 49783 | M194: =IF(OR(K194="",L194=""),"",L194-K194) -> 36 | N194: =IF(OR(C194="",K194="",L193=""),"",K194-L193) -> 0 | O194: =IF(C194="","",IF(OR(E194="",G194="",H194="",J194="",K194="",L194="",AND(J194="Professionnel",I194="")),"Incomplet",IF(AND(ISNUMBER(C193),C194<C193),"Ordre des dates",IF(L194<K194,"Compteur incohérent",IF(AND(ISNUMBER(N194),N194>ToleranceKm),"Km non enregistrés",IF(AND(ISNUMBER(N194),N194<-ToleranceKm),"Chevauchement",IF(AND(J194="Personnel",UsagePrive="Non"),"Usage privé non autorisé","Conforme"))))))) -> Usage privé non autorisé | P194: À régulariser avec le responsable | R194: =IF(AND($E194=RelConducteur,$J194="Professionnel",ISNUMBER($C194),$C194>=RelDebut,$C194<=RelFin),COUNTIFS($E$9:$E194,RelConducteur,$J$9:$J194,"Professionnel",$C$9:$C194,">="&RelDebut,$C$9:$C194,"<="&RelFin),"")
B195: =IF(C195="","",COUNT($C$9:C195)) -> 187 | C195: 46559 | D195: 0.35416667 | E195: Thomas Girard | F195: =IF(OR(C195="",E195=""),"",IFERROR(INDEX(CondService,MATCH(E195,CondNoms,0))&"","Conducteur inconnu")) -> Service technique | G195: Siège – ZA des Tanneurs | H195: Meyzieu | I195: Maintenance préventive – Groupe Solvéo | J195: Professionnel | K195: 49783 | L195: 49818 | M195: =IF(OR(K195="",L195=""),"",L195-K195) -> 35 | N195: =IF(OR(C195="",K195="",L194=""),"",K195-L194) -> 0 | O195: =IF(C195="","",IF(OR(E195="",G195="",H195="",J195="",K195="",L195="",AND(J195="Professionnel",I195="")),"Incomplet",IF(AND(ISNUMBER(C194),C195<C194),"Ordre des dates",IF(L195<K195,"Compteur incohérent",IF(AND(ISNUMBER(N195),N195>ToleranceKm),"Km non enregistrés",IF(AND(ISNUMBER(N195),N195<-ToleranceKm),"Chevauchement",IF(AND(J195="Personnel",UsagePrive="Non"),"Usage privé non autorisé","Conforme"))))))) -> Conforme | R195: =IF(AND($E195=RelConducteur,$J195="Professionnel",ISNUMBER($C195),$C195>=RelDebut,$C195<=RelFin),COUNTIFS($E$9:$E195,RelConducteur,$J$9:$J195,"Professionnel",$C$9:$C195,">="&RelDebut,$C$9:$C195,"<="&RelFin),"")
B196: =IF(C196="","",COUNT($C$9:C196)) -> 188 | C196: 46559 | D196: 0.41666667 | E196: Sophie Lemaire | F196: =IF(OR(C196="",E196=""),"",IFERROR(INDEX(CondService,MATCH(E196,CondNoms,0))&"","Conducteur inconnu")) -> Service commercial | G196: Siège – ZA des Tanneurs | H196: Mâcon | I196: Rendez-vous client – Cave des Coteaux | J196: Professionnel | K196: 49818 | L196: 49962 | M196: =IF(OR(K196="",L196=""),"",L196-K196) -> 144 | N196: =IF(OR(C196="",K196="",L195=""),"",K196-L195) -> 0 | O196: =IF(C196="","",IF(OR(E196="",G196="",H196="",J196="",K196="",L196="",AND(J196="Professionnel",I196="")),"Incomplet",IF(AND(ISNUMBER(C195),C196<C195),"Ordre des dates",IF(L196<K196,"Compteur incohérent",IF(AND(ISNUMBER(N196),N196>ToleranceKm),"Km non enregistrés",IF(AND(ISNUMBER(N196),N196<-ToleranceKm),"Chevauchement",IF(AND(J196="Personnel",UsagePrive="Non"),"Usage privé non autorisé","Conforme"))))))) -> Conforme | R196: =IF(AND($E196=RelConducteur,$J196="Professionnel",ISNUMBER($C196),$C196>=RelDebut,$C196<=RelFin),COUNTIFS($E$9:$E196,RelConducteur,$J$9:$J196,"Professionnel",$C$9:$C196,">="&RelDebut,$C$9:$C196,"<="&RelFin),"")
B197: =IF(C197="","",COUNT($C$9:C197)) -> 189 | C197: 46560 | D197: 0.3125 | E197: Karim Benali | F197: =IF(OR(C197="",E197=""),"",IFERROR(INDEX(CondService,MATCH(E197,CondNoms,0))&"","Conducteur inconnu")) -> Service technique | G197: Siège – ZA des Tanneurs | H197: Vénissieux | I197: Maintenance – Imprimerie Morand | J197: Professionnel | K197: 49962 | L197: 49988 | M197: =IF(OR(K197="",L197=""),"",L197-K197) -> 26 | N197: =IF(OR(C197="",K197="",L196=""),"",K197-L196) -> 0 | O197: =IF(C197="","",IF(OR(E197="",G197="",H197="",J197="",K197="",L197="",AND(J197="Professionnel",I197="")),"Incomplet",IF(AND(ISNUMBER(C196),C197<C196),"Ordre des dates",IF(L197<K197,"Compteur incohérent",IF(AND(ISNUMBER(N197),N197>ToleranceKm),"Km non enregistrés",IF(AND(ISNUMBER(N197),N197<-ToleranceKm),"Chevauchement",IF(AND(J197="Personnel",UsagePrive="Non"),"Usage privé non autorisé","Conforme"))))))) -> Conforme | R197: =IF(AND($E197=RelConducteur,$J197="Professionnel",ISNUMBER($C197),$C197>=RelDebut,$C197<=RelFin),COUNTIFS($E$9:$E197,RelConducteur,$J$9:$J197,"Professionnel",$C$9:$C197,">="&RelDebut,$C$9:$C197,"<="&RelFin),"")
B198: =IF(C198="","",COUNT($C$9:C198)) -> 190 | C198: 46560 | D198: 0.41666667 | E198: Sophie Lemaire | F198: =IF(OR(C198="",E198=""),"",IFERROR(INDEX(CondService,MATCH(E198,CondNoms,0))&"","Conducteur inconnu")) -> Service commercial | G198: Siège – ZA des Tanneurs | H198: Mâcon | I198: Rendez-vous client – Cave des Coteaux | J198: Professionnel | K198: 49988 | L198: 50133 | M198: =IF(OR(K198="",L198=""),"",L198-K198) -> 145 | N198: =IF(OR(C198="",K198="",L197=""),"",K198-L197) -> 0 | O198: =IF(C198="","",IF(OR(E198="",G198="",H198="",J198="",K198="",L198="",AND(J198="Professionnel",I198="")),"Incomplet",IF(AND(ISNUMBER(C197),C198<C197),"Ordre des dates",IF(L198<K198,"Compteur incohérent",IF(AND(ISNUMBER(N198),N198>ToleranceKm),"Km non enregistrés",IF(AND(ISNUMBER(N198),N198<-ToleranceKm),"Chevauchement",IF(AND(J198="Personnel",UsagePrive="Non"),"Usage privé non autorisé","Conforme"))))))) -> Conforme | R198: =IF(AND($E198=RelConducteur,$J198="Professionnel",ISNUMBER($C198),$C198>=RelDebut,$C198<=RelFin),COUNTIFS($E$9:$E198,RelConducteur,$J$9:$J198,"Professionnel",$C$9:$C198,">="&RelDebut,$C$9:$C198,"<="&RelFin),"")
B199: =IF(C199="","",COUNT($C$9:C199)) -> 191 | C199: 46561 | D199: 0.33333333 | E199: Thomas Girard | F199: =IF(OR(C199="",E199=""),"",IFERROR(INDEX(CondService,MATCH(E199,CondNoms,0))&"","Conducteur inconnu")) -> Service technique | G199: Siège – ZA des Tanneurs | H199: Villefranche-sur-Saône | I199: Maintenance – Hôtel du Beaujolais | J199: Professionnel | K199: 50133 | L199: 50201 | M199: =IF(OR(K199="",L199=""),"",L199-K199) -> 68 | N199: =IF(OR(C199="",K199="",L198=""),"",K199-L198) -> 0 | O199: =IF(C199="","",IF(OR(E199="",G199="",H199="",J199="",K199="",L199="",AND(J199="Professionnel",I199="")),"Incomplet",IF(AND(ISNUMBER(C198),C199<C198),"Ordre des dates",IF(L199<K199,"Compteur incohérent",IF(AND(ISNUMBER(N199),N199>ToleranceKm),"Km non enregistrés",IF(AND(ISNUMBER(N199),N199<-ToleranceKm),"Chevauchement",IF(AND(J199="Personnel",UsagePrive="Non"),"Usage privé non autorisé","Conforme"))))))) -> Conforme | R199: =IF(AND($E199=RelConducteur,$J199="Professionnel",ISNUMBER($C199),$C199>=RelDebut,$C199<=RelFin),COUNTIFS($E$9:$E199,RelConducteur,$J$9:$J199,"Professionnel",$C$9:$C199,">="&RelDebut,$C$9:$C199,"<="&RelFin),"")
B200: =IF(C200="","",COUNT($C$9:C200)) -> 192 | C200: 46562 | D200: 0.3125 | E200: Karim Benali | F200: =IF(OR(C200="",E200=""),"",IFERROR(INDEX(CondService,MATCH(E200,CondNoms,0))&"","Conducteur inconnu")) -> Service technique | G200: Siège – ZA des Tanneurs | H200: Villefranche-sur-Saône | I200: Maintenance – Hôtel du Beaujolais | J200: Professionnel | K200: 50201 | L200: 50271 | M200: =IF(OR(K200="",L200=""),"",L200-K200) -> 70 | N200: =IF(OR(C200="",K200="",L199=""),"",K200-L199) -> 0 | O200: =IF(C200="","",IF(OR(E200="",G200="",H200="",J200="",K200="",L200="",AND(J200="Professionnel",I200="")),"Incomplet",IF(AND(ISNUMBER(C199),C200<C199),"Ordre des dates",IF(L200<K200,"Compteur incohérent",IF(AND(ISNUMBER(N200),N200>ToleranceKm),"Km non enregistrés",IF(AND(ISNUMBER(N200),N200<-ToleranceKm),"Chevauchement",IF(AND(J200="Personnel",UsagePrive="Non"),"Usage privé non autorisé","Conforme"))))))) -> Conforme | R200: =IF(AND($E200=RelConducteur,$J200="Professionnel",ISNUMBER($C200),$C200>=RelDebut,$C200<=RelFin),COUNTIFS($E$9:$E200,RelConducteur,$J$9:$J200,"Professionnel",$C$9:$C200,">="&RelDebut,$C$9:$C200,"<="&RelFin),"")
B201: =IF(C201="","",COUNT($C$9:C201)) -> 193 | C201: 46562 | D201: 0.58333333 | E201: Thomas Girard | F201: =IF(OR(C201="",E201=""),"",IFERROR(INDEX(CondService,MATCH(E201,CondNoms,0))&"","Conducteur inconnu")) -> Service technique | G201: Siège – ZA des Tanneurs | H201: Bron | I201: Dépannage – Résidence Les Tilleuls | J201: Professionnel | K201: 50271 | L201: 50292 | M201: =IF(OR(K201="",L201=""),"",L201-K201) -> 21 | N201: =IF(OR(C201="",K201="",L200=""),"",K201-L200) -> 0 | O201: =IF(C201="","",IF(OR(E201="",G201="",H201="",J201="",K201="",L201="",AND(J201="Professionnel",I201="")),"Incomplet",IF(AND(ISNUMBER(C200),C201<C200),"Ordre des dates",IF(L201<K201,"Compteur incohérent",IF(AND(ISNUMBER(N201),N201>ToleranceKm),"Km non enregistrés",IF(AND(ISNUMBER(N201),N201<-ToleranceKm),"Chevauchement",IF(AND(J201="Personnel",UsagePrive="Non"),"Usage privé non autorisé","Conforme"))))))) -> Conforme | R201: =IF(AND($E201=RelConducteur,$J201="Professionnel",ISNUMBER($C201),$C201>=RelDebut,$C201<=RelFin),COUNTIFS($E$9:$E201,RelConducteur,$J$9:$J201,"Professionnel",$C$9:$C201,">="&RelDebut,$C$9:$C201,"<="&RelFin),"")
