Workbook
Name AlerteJours: Véhicule!$I$20
Name AlerteKm: Véhicule!$I$21
Name AnneeSuivi: 'Tableau de bord'!$C$5
Name BaremeCV: Véhicule!$B$32:$B$36
Name BaremeF2: Véhicule!$E$32:$E$36
Name BaremeT1: Véhicule!$C$32:$C$36
Name BaremeT2: Véhicule!$D$32:$D$36
Name BaremeT3: Véhicule!$F$32:$F$36
Name Capacite: Véhicule!$C$14
Name Conducteurs: Véhicule!$B$20:$B$27
Name ConsoMoyenne: Véhicule!$I$16
Name DateMEC: Véhicule!$C$12
Name DateOuverture: Véhicule!$I$9
Name DateSituation: Véhicule!$I$14
Name DebutAnnee: DATE(AnneeSuivi,1,1)
Name Energie: Véhicule!$C$10
Name FinAnnee: DATE(AnneeSuivi,12,31)
Name Immatriculation: Véhicule!$C$7
Name InclureDT: Véhicule!$I$23
Name KmActuel: Véhicule!$I$13
Name KmOuverture: Véhicule!$I$10
Name ListeConducteurs: OFFSET(Véhicule!$B$20,0,0,MAX(1,COUNTIF(Véhicule!$B$20:$B$27,"?*")),1)
Name ListeEnergies: OFFSET(Véhicule!$N$8,0,0,MAX(1,COUNTIF(Véhicule!$N$8:$N$19,"?*")),1)
Name ListeNaturesDepense: OFFSET(Véhicule!$H$32,0,0,MAX(1,COUNTIF(Véhicule!$H$32:$H$51,"?*")),1)
Name ListeNatureTrajet: OFFSET(Véhicule!$M$8,0,0,MAX(1,COUNTIF(Véhicule!$M$8:$M$19,"?*")),1)
Name ListePostes: OFFSET(Véhicule!$R$8,0,0,MAX(1,COUNTIF(Véhicule!$R$8:$R$19,"?*")),1)
Name ListeReglements: OFFSET(Véhicule!$P$8,0,0,MAX(1,COUNTIF(Véhicule!$P$8:$P$19,"?*")),1)
Name ListeRoles: OFFSET(Véhicule!$Q$8,0,0,MAX(1,COUNTIF(Véhicule!$Q$8:$Q$19,"?*")),1)
Name ListeStatuts: OFFSET(Véhicule!$O$8,0,0,MAX(1,COUNTIF(Véhicule!$O$8:$O$19,"?*")),1)
Name MajorationElec: Véhicule!$I$24
Name Marque: Véhicule!$C$8
Name Modele: Véhicule!$C$9
Name NaturesNoms: Véhicule!$H$32:$H$51
Name NaturesPoste: Véhicule!$I$32:$I$51
Name PuissanceCV: Véhicule!$C$11
Name SeuilConso: Véhicule!$I$25
Name Statut: Véhicule!$I$7
Name ToleranceKm: Véhicule!$I$22
Name UniteQte: Véhicule!$I$15

Sheet Tableau de bord
B2: CARNET DE BORD DU VÉHICULE | K2: =TRIM(Marque&" "&Modele) -> Voltéra Compacte 1.6 hybride | P2: F | Q2: =Immatriculation -> GH-482-TK
B3: ="Synthèse de l'année "&AnneeSuivi&" · "&Statut -> Synthèse de l'année 2027 · Véhicule personnel | K3: =Energie&" · "&PuissanceCV&" CV fiscaux" -> Hybride essence · 5 CV fiscaux
B5: ANNÉE DE SUIVI | C5: 2027 | E5: SITUATION AU | H5: =DateSituation -> 46737 | K5: Indicateurs calculés sur l'année choisie ; compteur et échéances à la date de situation.
B6: Trajets › | C6: Carburant › | F6: Frais & entretien › | I6: Échéances › | N6: Véhicule › | Q6: Mode d'emploi ›
U7: Calculs intermédiaires
B8: KILOMÈTRES PARCOURUS | E8: COMPTEUR ACTUEL | H8: CONSOMMATION MOYENNE | K8: DÉPENSES DE L'ANNÉE | N8: COÛT AU KILOMÈTRE | Q8: =IF(Statut="Véhicule personnel","INDEMNITÉS KILOMÉTRIQUES","KILOMÈTRES PRIVÉS") -> INDEMNITÉS KILOMÉTRIQUES | U8: Km de l'année | V8: =SUMIFS(Trajets!$K$7:$K$606,Trajets!$C$7:$C$606,">="&DebutAnnee,Trajets!$C$7:$C$606,"<="&FinAnnee) -> 19995
B9: =$V$8 -> 19995 | E9: =KmActuel -> 68387 | H9: =IFERROR($V$19/$V$20*100,0) -> 5.7271782 | K9: =$V$14 -> 4055.1 | N9: =IFERROR($V$14/$V$8,0) -> 0.2028057 | Q9: =IF(Statut="Véhicule personnel",FIXED($V$17,0)&" €",FIXED($V$22,0)&" km") -> 7.585 € | U9: Km professionnels | V9: =SUMIFS(Trajets!$K$7:$K$606,Trajets!$H$7:$H$606,"Professionnel",Trajets!$C$7:$C$606,">="&DebutAnnee,Trajets!$C$7:$C$606,"<="&FinAnnee) -> 15741
U10: Km domicile – travail | V10: =SUMIFS(Trajets!$K$7:$K$606,Trajets!$H$7:$H$606,"Domicile – travail",Trajets!$C$7:$C$606,">="&DebutAnnee,Trajets!$C$7:$C$606,"<="&FinAnnee) -> 1598
B11: ="dont "&ROUND(IFERROR($V$9/$V$8,0)*100,0)&" % professionnels" -> dont 79 % professionnels | E11: ="+ "&FIXED(KmActuel-N(KmOuverture),0)&" km au carnet" -> + 20.037 km au carnet | H11: =UniteQte&"/100 km · "&$V$21&" pleins" -> L/100 km · 28 pleins | K11: ="dont carburant : "&FIXED($V$12,0)&" €" -> dont carburant : 2.085 € | N11: ="carburant : "&FIXED(IFERROR($V$12/$V$8,0),2)&" €/km" -> carburant : 0,10 €/km | Q11: =IF(Statut="Véhicule personnel","base "&FIXED($V$15,0)&" km · "&PuissanceCV&" CV","sur l'année de suivi") -> base 17.339 km · 5 CV | U11: Km personnels | V11: =SUMIFS(Trajets!$K$7:$K$606,Trajets!$H$7:$H$606,"Personnel",Trajets!$C$7:$C$606,">="&DebutAnnee,Trajets!$C$7:$C$606,"<="&FinAnnee) -> 2656
U12: Carburant (€) | V12: =SUMIFS(Carburant!$H$7:$H$206,Carburant!$C$7:$C$206,">="&DebutAnnee,Carburant!$C$7:$C$206,"<="&FinAnnee) -> 2085.4
U13: Frais et entretien (€) | V13: =SUMIFS('Frais & entretien'!$I$7:$I$306,'Frais & entretien'!$C$7:$C$306,">="&DebutAnnee,'Frais & entretien'!$C$7:$C$306,"<="&FinAnnee) -> 1969.7
B14: Kilomètres parcourus par mois | K14: Prochaines échéances | U14: Dépenses totales (€) | V14: =V12+V13 -> 4055.1
K15: OPÉRATION | M15: ÉCHÉANCE | O15: JOURS | P15: KM RESTANTS | R15: STATUT | U15: Base des IK (km) | V15: =V9+IF(InclureDT="Oui",V10,0) -> 17339
K16: =IF(Échéances!$B$7="","",Échéances!$B$7) -> Vidange et filtres | M16: =IF($K16="","",IF(Échéances!$I$7="","",Échéances!$I$7)) -> 46913 | O16: =IF($K16="","",Échéances!$K$7) -> 176 | P16: =IF($K16="","",Échéances!$L$7) -> 4109 | R16: =IF($K16="","",Échéances!$M$7) -> À jour | U16: Ligne du barème | V16: =MATCH(MIN(MAX(N(PuissanceCV),3),7),BaremeCV,0) -> 3
K17: =IF(Échéances!$B$8="","",Échéances!$B$8) -> Révision constructeur | M17: =IF($K17="","",IF(Échéances!$I$8="","",Échéances!$I$8)) -> 46757 | O17: =IF($K17="","",Échéances!$K$8) -> 20 | P17: =IF($K17="","",Échéances!$L$8) -> 2113 | R17: =IF($K17="","",Échéances!$M$8) -> À prévoir | U17: Indemnités kilométriques (€) | V17: =IF(V15<=0,0,IF(V15<=5000,V15*INDEX(BaremeT1,V16),IF(V15<=20000,V15*INDEX(BaremeT2,V16)+INDEX(BaremeF2,V16),V15*INDEX(BaremeT3,V16)))*IF(Energie="Électrique",1+MajorationElec,1)) -> 7585.023
K18: =IF(Échéances!$B$9="","",Échéances!$B$9) -> Kit de distribution | M18: =IF($K18="","",IF(Échéances!$I$9="","",Échéances!$I$9)) -> 47528 | O18: =IF($K18="","",Échéances!$K$9) -> 791 | P18: =IF($K18="","",Échéances!$L$9) -> 81613 | R18: =IF($K18="","",Échéances!$M$9) -> À jour | U18: Frais pro à rembourser (€) | V18: =SUMIFS('Frais & entretien'!$I$7:$I$306,'Frais & entretien'!$K$7:$K$306,"Oui",'Frais & entretien'!$C$7:$C$306,">="&DebutAnnee,'Frais & entretien'!$C$7:$C$306,"<="&FinAnnee) -> 467.6
K19: =IF(Échéances!$B$10="","",Échéances!$B$10) -> Plaquettes et disques de frein | M19: =IF($K19="","",IF(Échéances!$I$10="","",Échéances!$I$10)) | O19: =IF($K19="","",Échéances!$K$10) | P19: =IF($K19="","",Échéances!$L$10) -> 10513 | R19: =IF($K19="","",Échéances!$M$10) -> À jour | U19: Quantité conso. (L/kWh) | V19: =SUMIFS(Carburant!$S$7:$S$206,Carburant!$M$7:$M$206,">0",Carburant!$C$7:$C$206,">="&DebutAnnee,Carburant!$C$7:$C$206,"<="&FinAnnee) -> 1101.68
K20: =IF(Échéances!$B$11="","",Échéances!$B$11) -> Pneumatiques (achat, montage) | M20: =IF($K20="","",IF(Échéances!$I$11="","",Échéances!$I$11)) -> 48513 | O20: =IF($K20="","",Échéances!$K$11) -> 1776 | P20: =IF($K20="","",Échéances!$L$11) -> 41885 | R20: =IF($K20="","",Échéances!$M$11) -> À jour | U20: Distance conso. (km) | V20: =SUMIFS(Carburant!$T$7:$T$206,Carburant!$M$7:$M$206,">0",Carburant!$C$7:$C$206,">="&DebutAnnee,Carburant!$C$7:$C$206,"<="&FinAnnee) -> 19236
K21: =IF(Échéances!$B$12="","",Échéances!$B$12) -> Recharge de climatisation | M21: =IF($K21="","",IF(Échéances!$I$12="","",Échéances!$I$12)) -> 46543 | O21: =IF($K21="","",Échéances!$K$12) -> -194 | P21: =IF($K21="","",Échéances!$L$12) | R21: =IF($K21="","",Échéances!$M$12) -> En retard | U21: Pleins complets retenus | V21: =COUNTIFS(Carburant!$M$7:$M$206,">0",Carburant!$C$7:$C$206,">="&DebutAnnee,Carburant!$C$7:$C$206,"<="&FinAnnee) -> 28
K22: =IF(Échéances!$B$13="","",Échéances!$B$13) -> Contrôle technique | M22: =IF($K22="","",IF(Échéances!$I$13="","",Échéances!$I$13)) -> 47143 | O22: =IF($K22="","",Échéances!$K$13) -> 406 | P22: =IF($K22="","",Échéances!$L$13) | R22: =IF($K22="","",Échéances!$M$13) -> À jour | U22: Km privés | V22: =V11+IF(Statut="Véhicule de fonction",V10,0) -> 2656
K23: =IF(Échéances!$B$14="","",Échéances!$B$14) -> Assurance | M23: =IF($K23="","",IF(Échéances!$I$14="","",Échéances!$I$14)) -> 46844 | O23: =IF($K23="","",Échéances!$K$14) -> 107 | P23: =IF($K23="","",Échéances!$L$14) | R23: =IF($K23="","",Échéances!$M$14) -> À jour
K24: =IF(Échéances!$B$15="","",Échéances!$B$15) | M24: =IF($K24="","",IF(Échéances!$I$15="","",Échéances!$I$15)) | O24: =IF($K24="","",Échéances!$K$15) | P24: =IF($K24="","",Échéances!$L$15) | R24: =IF($K24="","",Échéances!$M$15)
K26: ="« À prévoir » : moins de "&AlerteJours&" jours ou de "&FIXED(AlerteKm,0)&" km avant l'échéance. Périodicités modifiables dans l'onglet Échéances." -> « À prévoir » : moins de 30 jours ou de 1.000 km avant l'échéance. Périodicités modifiables dans l'onglet Échéances.
B30: Synthèse mensuelle
B31: MOIS | C31: PROFESSIONNEL (km) | D31: DOMICILE – TRAVAIL (km) | F31: PERSONNEL (km) | G31: TOTAL (km) | I31: TRAJETS | K31: CARBURANT | L31: FRAIS ET ENTRETIEN | M31: TOTAL DÉPENSES | O31: COÛT AU KM | P31: PART PROFESSIONNELLE | R31: PLEINS
B32: Janvier | C32: =SUMIFS(Trajets!$K$7:$K$606,Trajets!$H$7:$H$606,"Professionnel",Trajets!$C$7:$C$606,">="&DATE(AnneeSuivi,1,1),Trajets!$C$7:$C$606,"<"&DATE(AnneeSuivi,2,1)) -> 1139 | D32: =SUMIFS(Trajets!$K$7:$K$606,Trajets!$H$7:$H$606,"Domicile – travail",Trajets!$C$7:$C$606,">="&DATE(AnneeSuivi,1,1),Trajets!$C$7:$C$606,"<"&DATE(AnneeSuivi,2,1)) -> 136 | F32: =SUMIFS(Trajets!$K$7:$K$606,Trajets!$H$7:$H$606,"Personnel",Trajets!$C$7:$C$606,">="&DATE(AnneeSuivi,1,1),Trajets!$C$7:$C$606,"<"&DATE(AnneeSuivi,2,1)) -> 126 | G32: =SUMIFS(Trajets!$K$7:$K$606,Trajets!$C$7:$C$606,">="&DATE(AnneeSuivi,1,1),Trajets!$C$7:$C$606,"<"&DATE(AnneeSuivi,2,1)) -> 1401 | I32: =COUNTIFS(Trajets!$C$7:$C$606,">="&DATE(AnneeSuivi,1,1),Trajets!$C$7:$C$606,"<"&DATE(AnneeSuivi,2,1)) -> 17 | K32: =SUMIFS(Carburant!$H$7:$H$206,Carburant!$C$7:$C$206,">="&DATE(AnneeSuivi,1,1),Carburant!$C$7:$C$206,"<"&DATE(AnneeSuivi,2,1)) -> 153.89 | L32: =SUMIFS('Frais & entretien'!$I$7:$I$306,'Frais & entretien'!$C$7:$C$306,">="&DATE(AnneeSuivi,1,1),'Frais & entretien'!$C$7:$C$306,"<"&DATE(AnneeSuivi,2,1)) -> 108.8 | M32: =K32+L32 -> 262.69 | O32: =IFERROR(M32/G32,0) -> 0.18750178 | P32: =IF(N(G32)=0,"",C32/G32) -> 0.81299072 | R32: =COUNTIFS(Carburant!$C$7:$C$206,">="&DATE(AnneeSuivi,1,1),Carburant!$C$7:$C$206,"<"&DATE(AnneeSuivi,2,1)) -> 2 | U32: janv.
B33: Février | C33: =SUMIFS(Trajets!$K$7:$K$606,Trajets!$H$7:$H$606,"Professionnel",Trajets!$C$7:$C$606,">="&DATE(AnneeSuivi,2,1),Trajets!$C$7:$C$606,"<"&DATE(AnneeSuivi,3,1)) -> 1339 | D33: =SUMIFS(Trajets!$K$7:$K$606,Trajets!$H$7:$H$606,"Domicile – travail",Trajets!$C$7:$C$606,">="&DATE(AnneeSuivi,2,1),Trajets!$C$7:$C$606,"<"&DATE(AnneeSuivi,3,1)) -> 136 | F33: =SUMIFS(Trajets!$K$7:$K$606,Trajets!$H$7:$H$606,"Personnel",Trajets!$C$7:$C$606,">="&DATE(AnneeSuivi,2,1),Trajets!$C$7:$C$606,"<"&DATE(AnneeSuivi,3,1)) -> 245 | G33: =SUMIFS(Trajets!$K$7:$K$606,Trajets!$C$7:$C$606,">="&DATE(AnneeSuivi,2,1),Trajets!$C$7:$C$606,"<"&DATE(AnneeSuivi,3,1)) -> 1720 | I33: =COUNTIFS(Trajets!$C$7:$C$606,">="&DATE(AnneeSuivi,2,1),Trajets!$C$7:$C$606,"<"&DATE(AnneeSuivi,3,1)) -> 17 | K33: =SUMIFS(Carburant!$H$7:$H$206,Carburant!$C$7:$C$206,">="&DATE(AnneeSuivi,2,1),Carburant!$C$7:$C$206,"<"&DATE(AnneeSuivi,3,1)) -> 150.32 | L33: =SUMIFS('Frais & entretien'!$I$7:$I$306,'Frais & entretien'!$C$7:$C$306,">="&DATE(AnneeSuivi,2,1),'Frais & entretien'!$C$7:$C$306,"<"&DATE(AnneeSuivi,3,1)) -> 54.2 | M33: =K33+L33 -> 204.52 | O33: =IFERROR(M33/G33,0) -> 0.11890698 | P33: =IF(N(G33)=0,"",C33/G33) -> 0.77848837 | R33: =COUNTIFS(Carburant!$C$7:$C$206,">="&DATE(AnneeSuivi,2,1),Carburant!$C$7:$C$206,"<"&DATE(AnneeSuivi,3,1)) -> 2 | U33: févr.
B34: Mars | C34: =SUMIFS(Trajets!$K$7:$K$606,Trajets!$H$7:$H$606,"Professionnel",Trajets!$C$7:$C$606,">="&DATE(AnneeSuivi,3,1),Trajets!$C$7:$C$606,"<"&DATE(AnneeSuivi,4,1)) -> 1636 | D34: =SUMIFS(Trajets!$K$7:$K$606,Trajets!$H$7:$H$606,"Domicile – travail",Trajets!$C$7:$C$606,">="&DATE(AnneeSuivi,3,1),Trajets!$C$7:$C$606,"<"&DATE(AnneeSuivi,4,1)) -> 170 | F34: =SUMIFS(Trajets!$K$7:$K$606,Trajets!$H$7:$H$606,"Personnel",Trajets!$C$7:$C$606,">="&DATE(AnneeSuivi,3,1),Trajets!$C$7:$C$606,"<"&DATE(AnneeSuivi,4,1)) -> 77 | G34: =SUMIFS(Trajets!$K$7:$K$606,Trajets!$C$7:$C$606,">="&DATE(AnneeSuivi,3,1),Trajets!$C$7:$C$606,"<"&DATE(AnneeSuivi,4,1)) -> 1883 | I34: =COUNTIFS(Trajets!$C$7:$C$606,">="&DATE(AnneeSuivi,3,1),Trajets!$C$7:$C$606,"<"&DATE(AnneeSuivi,4,1)) -> 19 | K34: =SUMIFS(Carburant!$H$7:$H$206,Carburant!$C$7:$C$206,">="&DATE(AnneeSuivi,3,1),Carburant!$C$7:$C$206,"<"&DATE(AnneeSuivi,4,1)) -> 210.31 | L34: =SUMIFS('Frais & entretien'!$I$7:$I$306,'Frais & entretien'!$C$7:$C$306,">="&DATE(AnneeSuivi,3,1),'Frais & entretien'!$C$7:$C$306,"<"&DATE(AnneeSuivi,4,1)) -> 43.6 | M34: =K34+L34 -> 253.91 | O34: =IFERROR(M34/G34,0) -> 0.13484334 | P34: =IF(N(G34)=0,"",C34/G34) -> 0.86882634 | R34: =COUNTIFS(Carburant!$C$7:$C$206,">="&DATE(AnneeSuivi,3,1),Carburant!$C$7:$C$206,"<"&DATE(AnneeSuivi,4,1)) -> 3 | U34: mars
B35: Avril | C35: =SUMIFS(Trajets!$K$7:$K$606,Trajets!$H$7:$H$606,"Professionnel",Trajets!$C$7:$C$606,">="&DATE(AnneeSuivi,4,1),Trajets!$C$7:$C$606,"<"&DATE(AnneeSuivi,5,1)) -> 1400 | D35: =SUMIFS(Trajets!$K$7:$K$606,Trajets!$H$7:$H$606,"Domicile – travail",Trajets!$C$7:$C$606,">="&DATE(AnneeSuivi,4,1),Trajets!$C$7:$C$606,"<"&DATE(AnneeSuivi,5,1)) -> 136 | F35: =SUMIFS(Trajets!$K$7:$K$606,Trajets!$H$7:$H$606,"Personnel",Trajets!$C$7:$C$606,">="&DATE(AnneeSuivi,4,1),Trajets!$C$7:$C$606,"<"&DATE(AnneeSuivi,5,1)) -> 269 | G35: =SUMIFS(Trajets!$K$7:$K$606,Trajets!$C$7:$C$606,">="&DATE(AnneeSuivi,4,1),Trajets!$C$7:$C$606,"<"&DATE(AnneeSuivi,5,1)) -> 1805 | I35: =COUNTIFS(Trajets!$C$7:$C$606,">="&DATE(AnneeSuivi,4,1),Trajets!$C$7:$C$606,"<"&DATE(AnneeSuivi,5,1)) -> 19 | K35: =SUMIFS(Carburant!$H$7:$H$206,Carburant!$C$7:$C$206,">="&DATE(AnneeSuivi,4,1),Carburant!$C$7:$C$206,"<"&DATE(AnneeSuivi,5,1)) -> 214.31 | L35: =SUMIFS('Frais & entretien'!$I$7:$I$306,'Frais & entretien'!$C$7:$C$306,">="&DATE(AnneeSuivi,4,1),'Frais & entretien'!$C$7:$C$306,"<"&DATE(AnneeSuivi,5,1)) -> 682.8 | M35: =K35+L35 -> 897.11 | O35: =IFERROR(M35/G35,0) -> 0.49701385 | P35: =IF(N(G35)=0,"",C35/G35) -> 0.77562327 | R35: =COUNTIFS(Carburant!$C$7:$C$206,">="&DATE(AnneeSuivi,4,1),Carburant!$C$7:$C$206,"<"&DATE(AnneeSuivi,5,1)) -> 3 | U35: avr.
B36: Mai | C36: =SUMIFS(Trajets!$K$7:$K$606,Trajets!$H$7:$H$606,"Professionnel",Trajets!$C$7:$C$606,">="&DATE(AnneeSuivi,5,1),Trajets!$C$7:$C$606,"<"&DATE(AnneeSuivi,6,1)) -> 1533 | D36: =SUMIFS(Trajets!$K$7:$K$606,Trajets!$H$7:$H$606,"Domicile – travail",Trajets!$C$7:$C$606,">="&DATE(AnneeSuivi,5,1),Trajets!$C$7:$C$606,"<"&DATE(AnneeSuivi,6,1)) -> 170 | F36: =SUMIFS(Trajets!$K$7:$K$606,Trajets!$H$7:$H$606,"Personnel",Trajets!$C$7:$C$606,">="&DATE(AnneeSuivi,5,1),Trajets!$C$7:$C$606,"<"&DATE(AnneeSuivi,6,1)) -> 135 | G36: =SUMIFS(Trajets!$K$7:$K$606,Trajets!$C$7:$C$606,">="&DATE(AnneeSuivi,5,1),Trajets!$C$7:$C$606,"<"&DATE(AnneeSuivi,6,1)) -> 1838 | I36: =COUNTIFS(Trajets!$C$7:$C$606,">="&DATE(AnneeSuivi,5,1),Trajets!$C$7:$C$606,"<"&DATE(AnneeSuivi,6,1)) -> 20 | K36: =SUMIFS(Carburant!$H$7:$H$206,Carburant!$C$7:$C$206,">="&DATE(AnneeSuivi,5,1),Carburant!$C$7:$C$206,"<"&DATE(AnneeSuivi,6,1)) -> 150.33 | L36: =SUMIFS('Frais & entretien'!$I$7:$I$306,'Frais & entretien'!$C$7:$C$306,">="&DATE(AnneeSuivi,5,1),'Frais & entretien'!$C$7:$C$306,"<"&DATE(AnneeSuivi,6,1)) -> 35.2 | M36: =K36+L36 -> 185.53 | O36: =IFERROR(M36/G36,0) -> 0.10094124 | P36: =IF(N(G36)=0,"",C36/G36) -> 0.83405876 | R36: =COUNTIFS(Carburant!$C$7:$C$206,">="&DATE(AnneeSuivi,5,1),Carburant!$C$7:$C$206,"<"&DATE(AnneeSuivi,6,1)) -> 2 | U36: mai
B37: Juin | C37: =SUMIFS(Trajets!$K$7:$K$606,Trajets!$H$7:$H$606,"Professionnel",Trajets!$C$7:$C$606,">="&DATE(AnneeSuivi,6,1),Trajets!$C$7:$C$606,"<"&DATE(AnneeSuivi,7,1)) -> 1377 | D37: =SUMIFS(Trajets!$K$7:$K$606,Trajets!$H$7:$H$606,"Domicile – travail",Trajets!$C$7:$C$606,">="&DATE(AnneeSuivi,6,1),Trajets!$C$7:$C$606,"<"&DATE(AnneeSuivi,7,1)) -> 136 | F37: =SUMIFS(Trajets!$K$7:$K$606,Trajets!$H$7:$H$606,"Personnel",Trajets!$C$7:$C$606,">="&DATE(AnneeSuivi,6,1),Trajets!$C$7:$C$606,"<"&DATE(AnneeSuivi,7,1)) -> 224 | G37: =SUMIFS(Trajets!$K$7:$K$606,Trajets!$C$7:$C$606,">="&DATE(AnneeSuivi,6,1),Trajets!$C$7:$C$606,"<"&DATE(AnneeSuivi,7,1)) -> 1737 | I37: =COUNTIFS(Trajets!$C$7:$C$606,">="&DATE(AnneeSuivi,6,1),Trajets!$C$7:$C$606,"<"&DATE(AnneeSuivi,7,1)) -> 17 | K37: =SUMIFS(Carburant!$H$7:$H$206,Carburant!$C$7:$C$206,">="&DATE(AnneeSuivi,6,1),Carburant!$C$7:$C$206,"<"&DATE(AnneeSuivi,7,1)) -> 186.81 | L37: =SUMIFS('Frais & entretien'!$I$7:$I$306,'Frais & entretien'!$C$7:$C$306,">="&DATE(AnneeSuivi,6,1),'Frais & entretien'!$C$7:$C$306,"<"&DATE(AnneeSuivi,7,1)) -> 302.9 | M37: =K37+L37 -> 489.71 | O37: =IFERROR(M37/G37,0) -> 0.28192861 | P37: =IF(N(G37)=0,"",C37/G37) -> 0.79274611 | R37: =COUNTIFS(Carburant!$C$7:$C$206,">="&DATE(AnneeSuivi,6,1),Carburant!$C$7:$C$206,"<"&DATE(AnneeSuivi,7,1)) -> 3 | U37: juin
B38: Juillet | C38: =SUMIFS(Trajets!$K$7:$K$606,Trajets!$H$7:$H$606,"Professionnel",Trajets!$C$7:$C$606,">="&DATE(AnneeSuivi,7,1),Trajets!$C$7:$C$606,"<"&DATE(AnneeSuivi,8,1)) -> 1278 | D38: =SUMIFS(Trajets!$K$7:$K$606,Trajets!$H$7:$H$606,"Domicile – travail",Trajets!$C$7:$C$606,">="&DATE(AnneeSuivi,7,1),Trajets!$C$7:$C$606,"<"&DATE(AnneeSuivi,8,1)) -> 136 | F38: =SUMIFS(Trajets!$K$7:$K$606,Trajets!$H$7:$H$606,"Personnel",Trajets!$C$7:$C$606,">="&DATE(AnneeSuivi,7,1),Trajets!$C$7:$C$606,"<"&DATE(AnneeSuivi,8,1)) -> 88 | G38: =SUMIFS(Trajets!$K$7:$K$606,Trajets!$C$7:$C$606,">="&DATE(AnneeSuivi,7,1),Trajets!$C$7:$C$606,"<"&DATE(AnneeSuivi,8,1)) -> 1502 | I38: =COUNTIFS(Trajets!$C$7:$C$606,">="&DATE(AnneeSuivi,7,1),Trajets!$C$7:$C$606,"<"&DATE(AnneeSuivi,8,1)) -> 18 | K38: =SUMIFS(Carburant!$H$7:$H$206,Carburant!$C$7:$C$206,">="&DATE(AnneeSuivi,7,1),Carburant!$C$7:$C$206,"<"&DATE(AnneeSuivi,8,1)) -> 161.68 | L38: =SUMIFS('Frais & entretien'!$I$7:$I$306,'Frais & entretien'!$C$7:$C$306,">="&DATE(AnneeSuivi,7,1),'Frais & entretien'!$C$7:$C$306,"<"&DATE(AnneeSuivi,8,1)) -> 21.8 | M38: =K38+L38 -> 183.48 | O38: =IFERROR(M38/G38,0) -> 0.12215712 | P38: =IF(N(G38)=0,"",C38/G38) -> 0.85086551 | R38: =COUNTIFS(Carburant!$C$7:$C$206,">="&DATE(AnneeSuivi,7,1),Carburant!$C$7:$C$206,"<"&DATE(AnneeSuivi,8,1)) -> 2 | U38: juil.
B39: Août | C39: =SUMIFS(Trajets!$K$7:$K$606,Trajets!$H$7:$H$606,"Professionnel",Trajets!$C$7:$C$606,">="&DATE(AnneeSuivi,8,1),Trajets!$C$7:$C$606,"<"&DATE(AnneeSuivi,9,1)) -> 647 | D39: =SUMIFS(Trajets!$K$7:$K$606,Trajets!$H$7:$H$606,"Domicile – travail",Trajets!$C$7:$C$606,">="&DATE(AnneeSuivi,8,1),Trajets!$C$7:$C$606,"<"&DATE(AnneeSuivi,9,1)) -> 68 | F39: =SUMIFS(Trajets!$K$7:$K$606,Trajets!$H$7:$H$606,"Personnel",Trajets!$C$7:$C$606,">="&DATE(AnneeSuivi,8,1),Trajets!$C$7:$C$606,"<"&DATE(AnneeSuivi,9,1)) -> 787 | G39: =SUMIFS(Trajets!$K$7:$K$606,Trajets!$C$7:$C$606,">="&DATE(AnneeSuivi,8,1),Trajets!$C$7:$C$606,"<"&DATE(AnneeSuivi,9,1)) -> 1502 | I39: =COUNTIFS(Trajets!$C$7:$C$606,">="&DATE(AnneeSuivi,8,1),Trajets!$C$7:$C$606,"<"&DATE(AnneeSuivi,9,1)) -> 10 | K39: =SUMIFS(Carburant!$H$7:$H$206,Carburant!$C$7:$C$206,">="&DATE(AnneeSuivi,8,1),Carburant!$C$7:$C$206,"<"&DATE(AnneeSuivi,9,1)) -> 130.74 | L39: =SUMIFS('Frais & entretien'!$I$7:$I$306,'Frais & entretien'!$C$7:$C$306,">="&DATE(AnneeSuivi,8,1),'Frais & entretien'!$C$7:$C$306,"<"&DATE(AnneeSuivi,9,1)) -> 58 | M39: =K39+L39 -> 188.74 | O39: =IFERROR(M39/G39,0) -> 0.12565912 | P39: =IF(N(G39)=0,"",C39/G39) -> 0.43075899 | R39: =COUNTIFS(Carburant!$C$7:$C$206,">="&DATE(AnneeSuivi,8,1),Carburant!$C$7:$C$206,"<"&DATE(AnneeSuivi,9,1)) -> 2 | U39: août
B40: Septembre | C40: =SUMIFS(Trajets!$K$7:$K$606,Trajets!$H$7:$H$606,"Professionnel",Trajets!$C$7:$C$606,">="&DATE(AnneeSuivi,9,1),Trajets!$C$7:$C$606,"<"&DATE(AnneeSuivi,10,1)) -> 1386 | D40: =SUMIFS(Trajets!$K$7:$K$606,Trajets!$H$7:$H$606,"Domicile – travail",Trajets!$C$7:$C$606,">="&DATE(AnneeSuivi,9,1),Trajets!$C$7:$C$606,"<"&DATE(AnneeSuivi,10,1)) -> 136 | F40: =SUMIFS(Trajets!$K$7:$K$606,Trajets!$H$7:$H$606,"Personnel",Trajets!$C$7:$C$606,">="&DATE(AnneeSuivi,9,1),Trajets!$C$7:$C$606,"<"&DATE(AnneeSuivi,10,1)) -> 226 | G40: =SUMIFS(Trajets!$K$7:$K$606,Trajets!$C$7:$C$606,">="&DATE(AnneeSuivi,9,1),Trajets!$C$7:$C$606,"<"&DATE(AnneeSuivi,10,1)) -> 1748 | I40: =COUNTIFS(Trajets!$C$7:$C$606,">="&DATE(AnneeSuivi,9,1),Trajets!$C$7:$C$606,"<"&DATE(AnneeSuivi,10,1)) -> 17 | K40: =SUMIFS(Carburant!$H$7:$H$206,Carburant!$C$7:$C$206,">="&DATE(AnneeSuivi,9,1),Carburant!$C$7:$C$206,"<"&DATE(AnneeSuivi,10,1)) -> 202.79 | L40: =SUMIFS('Frais & entretien'!$I$7:$I$306,'Frais & entretien'!$C$7:$C$306,">="&DATE(AnneeSuivi,9,1),'Frais & entretien'!$C$7:$C$306,"<"&DATE(AnneeSuivi,10,1)) -> 75 | M40: =K40+L40 -> 277.79 | O40: =IFERROR(M40/G40,0) -> 0.15891876 | P40: =IF(N(G40)=0,"",C40/G40) -> 0.79290618 | R40: =COUNTIFS(Carburant!$C$7:$C$206,">="&DATE(AnneeSuivi,9,1),Carburant!$C$7:$C$206,"<"&DATE(AnneeSuivi,10,1)) -> 3 | U40: sept.
B41: Octobre | C41: =SUMIFS(Trajets!$K$7:$K$606,Trajets!$H$7:$H$606,"Professionnel",Trajets!$C$7:$C$606,">="&DATE(AnneeSuivi,10,1),Trajets!$C$7:$C$606,"<"&DATE(AnneeSuivi,11,1)) -> 1648 | D41: =SUMIFS(Trajets!$K$7:$K$606,Trajets!$H$7:$H$606,"Domicile – travail",Trajets!$C$7:$C$606,">="&DATE(AnneeSuivi,10,1),Trajets!$C$7:$C$606,"<"&DATE(AnneeSuivi,11,1)) -> 136 | F41: =SUMIFS(Trajets!$K$7:$K$606,Trajets!$H$7:$H$606,"Personnel",Trajets!$C$7:$C$606,">="&DATE(AnneeSuivi,10,1),Trajets!$C$7:$C$606,"<"&DATE(AnneeSuivi,11,1)) -> 147 | G41: =SUMIFS(Trajets!$K$7:$K$606,Trajets!$C$7:$C$606,">="&DATE(AnneeSuivi,10,1),Trajets!$C$7:$C$606,"<"&DATE(AnneeSuivi,11,1)) -> 1931 | I41: =COUNTIFS(Trajets!$C$7:$C$606,">="&DATE(AnneeSuivi,10,1),Trajets!$C$7:$C$606,"<"&DATE(AnneeSuivi,11,1)) -> 19 | K41: =SUMIFS(Carburant!$H$7:$H$206,Carburant!$C$7:$C$206,">="&DATE(AnneeSuivi,10,1),Carburant!$C$7:$C$206,"<"&DATE(AnneeSuivi,11,1)) -> 187.8 | L41: =SUMIFS('Frais & entretien'!$I$7:$I$306,'Frais & entretien'!$C$7:$C$306,">="&DATE(AnneeSuivi,10,1),'Frais & entretien'!$C$7:$C$306,"<"&DATE(AnneeSuivi,11,1)) -> 482.7 | M41: =K41+L41 -> 670.5 | O41: =IFERROR(M41/G41,0) -> 0.34722941 | P41: =IF(N(G41)=0,"",C41/G41) -> 0.85344381 | R41: =COUNTIFS(Carburant!$C$7:$C$206,">="&DATE(AnneeSuivi,10,1),Carburant!$C$7:$C$206,"<"&DATE(AnneeSuivi,11,1)) -> 3 | U41: oct.
B42: Novembre | C42: =SUMIFS(Trajets!$K$7:$K$606,Trajets!$H$7:$H$606,"Professionnel",Trajets!$C$7:$C$606,">="&DATE(AnneeSuivi,11,1),Trajets!$C$7:$C$606,"<"&DATE(AnneeSuivi,12,1)) -> 1580 | D42: =SUMIFS(Trajets!$K$7:$K$606,Trajets!$H$7:$H$606,"Domicile – travail",Trajets!$C$7:$C$606,">="&DATE(AnneeSuivi,11,1),Trajets!$C$7:$C$606,"<"&DATE(AnneeSuivi,12,1)) -> 170 | F42: =SUMIFS(Trajets!$K$7:$K$606,Trajets!$H$7:$H$606,"Personnel",Trajets!$C$7:$C$606,">="&DATE(AnneeSuivi,11,1),Trajets!$C$7:$C$606,"<"&DATE(AnneeSuivi,12,1)) -> 287 | G42: =SUMIFS(Trajets!$K$7:$K$606,Trajets!$C$7:$C$606,">="&DATE(AnneeSuivi,11,1),Trajets!$C$7:$C$606,"<"&DATE(AnneeSuivi,12,1)) -> 2037 | I42: =COUNTIFS(Trajets!$C$7:$C$606,">="&DATE(AnneeSuivi,11,1),Trajets!$C$7:$C$606,"<"&DATE(AnneeSuivi,12,1)) -> 19 | K42: =SUMIFS(Carburant!$H$7:$H$206,Carburant!$C$7:$C$206,">="&DATE(AnneeSuivi,11,1),Carburant!$C$7:$C$206,"<"&DATE(AnneeSuivi,12,1)) -> 194.61 | L42: =SUMIFS('Frais & entretien'!$I$7:$I$306,'Frais & entretien'!$C$7:$C$306,">="&DATE(AnneeSuivi,11,1),'Frais & entretien'!$C$7:$C$306,"<"&DATE(AnneeSuivi,12,1)) -> 72.5 | M42: =K42+L42 -> 267.11 | O42: =IFERROR(M42/G42,0) -> 0.13112911 | P42: =IF(N(G42)=0,"",C42/G42) -> 0.77565047 | R42: =COUNTIFS(Carburant!$C$7:$C$206,">="&DATE(AnneeSuivi,11,1),Carburant!$C$7:$C$206,"<"&DATE(AnneeSuivi,12,1)) -> 3 | U42: nov.
B43: Décembre | C43: =SUMIFS(Trajets!$K$7:$K$606,Trajets!$H$7:$H$606,"Professionnel",Trajets!$C$7:$C$606,">="&DATE(AnneeSuivi,12,1),Trajets!$C$7:$C$606,"<"&DATE(AnneeSuivi,13,1)) -> 778 | D43: =SUMIFS(Trajets!$K$7:$K$606,Trajets!$H$7:$H$606,"Domicile – travail",Trajets!$C$7:$C$606,">="&DATE(AnneeSuivi,12,1),Trajets!$C$7:$C$606,"<"&DATE(AnneeSuivi,13,1)) -> 68 | F43: =SUMIFS(Trajets!$K$7:$K$606,Trajets!$H$7:$H$606,"Personnel",Trajets!$C$7:$C$606,">="&DATE(AnneeSuivi,12,1),Trajets!$C$7:$C$606,"<"&DATE(AnneeSuivi,13,1)) -> 45 | G43: =SUMIFS(Trajets!$K$7:$K$606,Trajets!$C$7:$C$606,">="&DATE(AnneeSuivi,12,1),Trajets!$C$7:$C$606,"<"&DATE(AnneeSuivi,13,1)) -> 891 | I43: =COUNTIFS(Trajets!$C$7:$C$606,">="&DATE(AnneeSuivi,12,1),Trajets!$C$7:$C$606,"<"&DATE(AnneeSuivi,13,1)) -> 9 | K43: =SUMIFS(Carburant!$H$7:$H$206,Carburant!$C$7:$C$206,">="&DATE(AnneeSuivi,12,1),Carburant!$C$7:$C$206,"<"&DATE(AnneeSuivi,13,1)) -> 141.81 | L43: =SUMIFS('Frais & entretien'!$I$7:$I$306,'Frais & entretien'!$C$7:$C$306,">="&DATE(AnneeSuivi,12,1),'Frais & entretien'!$C$7:$C$306,"<"&DATE(AnneeSuivi,13,1)) -> 32.2 | M43: =K43+L43 -> 174.01 | O43: =IFERROR(M43/G43,0) -> 0.19529742 | P43: =IF(N(G43)=0,"",C43/G43) -> 0.87317621 | R43: =COUNTIFS(Carburant!$C$7:$C$206,">="&DATE(AnneeSuivi,12,1),Carburant!$C$7:$C$206,"<"&DATE(AnneeSuivi,13,1)) -> 2 | U43: déc.
B44: Total | C44: =SUM(C32:C43) -> 15741 | D44: =SUM(D32:D43) -> 1598 | F44: =SUM(F32:F43) -> 2656 | G44: =SUM(G32:G43) -> 19995 | I44: =SUM(I32:I43) -> 201 | K44: =SUM(K32:K43) -> 2085.4 | L44: =SUM(L32:L43) -> 1969.7 | M44: =SUM(M32:M43) -> 4055.1 | O44: =IFERROR(M44/G44,0) -> 0.2028057 | P44: =IF(N(G44)=0,"",C44/G44) -> 0.78724681 | R44: =SUM(R32:R43) -> 30
B47: Dépenses de l'année par poste | K47: Utilisation par conducteur
B48: POSTE | D48: MONTANT | F48: PART | G48: RÉPARTITION | K48: CONDUCTEUR | M48: TRAJETS | O48: KM | P48: DONT PRO (KM) | R48: PART PRO
...

Sheet Trajets
B1: JOURNAL DES TRAJETS | N1: =IF(Immatriculation="","",Immatriculation&" · "&TRIM(Marque&" "&Modele)) -> GH-482-TK · Voltéra Compacte 1.6 hybride
B2: Une ligne par déplacement : date, conducteur, itinéraire, motif et relevés du compteur | N2: ="Kilométrage au compteur : "&FIXED(KmActuel,0)&" km" -> Kilométrage au compteur : 68.387 km
B4: Saisissez les trajets dans l'ordre chronologique : la distance et la continuité du compteur sont contrôlées. | I4: Saisie | J4: Calcul automatique
B6: N° | C6: Date | D6: Conducteur | E6: Lieu de départ | F6: Lieu d'arrivée | G6: Motif du déplacement | H6: Nature du trajet | I6: Compteur au départ | J6: Compteur à l'arrivée | K6: Distance (km) | L6: Écart de compteur | M6: Contrôle | N6: Observations
B7: =IF(C7="","",COUNT($C$7:C7)) -> 1 | C7: 46391 | D7: Camille Morel | E7: Domicile | F7: Agence | G7: Journée à l'agence (aller-retour) | H7: Domicile – travail | I7: 48350 | J7: 48384 | K7: =IF(OR(I7="",J7=""),"",J7-I7) -> 34 | L7: =IF(OR(C7="",I7=""),"",I7-N(KmOuverture)) -> 0 | M7: =IF(C7="","",IF(OR(D7="",E7="",F7="",H7="",I7="",J7="",AND(H7="Professionnel",G7="")),"Incomplet",IF(FALSE,"",IF(J7<I7,"Compteur incohérent",IF(AND(ISNUMBER(L7),L7>ToleranceKm),"Km non enregistrés",IF(AND(ISNUMBER(L7),L7<-ToleranceKm),"Chevauchement","Conforme")))))) -> Conforme
B8: =IF(C8="","",COUNT($C$7:C8)) -> 2 | C8: 46392 | D8: Camille Morel | E8: Domicile | F8: Amboise | G8: Suivi de chantier – Résidence Les Ormes | H8: Professionnel | I8: 48384 | J8: 48481 | K8: =IF(OR(I8="",J8=""),"",J8-I8) -> 97 | L8: =IF(OR(C8="",I8="",J7=""),"",I8-J7) -> 0 | M8: =IF(C8="","",IF(OR(D8="",E8="",F8="",H8="",I8="",J8="",AND(H8="Professionnel",G8="")),"Incomplet",IF(AND(ISNUMBER(C7),C8<C7),"Ordre des dates",IF(J8<I8,"Compteur incohérent",IF(AND(ISNUMBER(L8),L8>ToleranceKm),"Km non enregistrés",IF(AND(ISNUMBER(L8),L8<-ToleranceKm),"Chevauchement","Conforme")))))) -> Conforme
B9: =IF(C9="","",COUNT($C$7:C9)) -> 3 | C9: 46394 | D9: Camille Morel | E9: Domicile | F9: Châteauroux | G9: Visite client – Sarl Pivert | H9: Professionnel | I9: 48481 | J9: 48688 | K9: =IF(OR(I9="",J9=""),"",J9-I9) -> 207 | L9: =IF(OR(C9="",I9="",J8=""),"",I9-J8) -> 0 | M9: =IF(C9="","",IF(OR(D9="",E9="",F9="",H9="",I9="",J9="",AND(H9="Professionnel",G9="")),"Incomplet",IF(AND(ISNUMBER(C8),C9<C8),"Ordre des dates",IF(J9<I9,"Compteur incohérent",IF(AND(ISNUMBER(L9),L9>ToleranceKm),"Km non enregistrés",IF(AND(ISNUMBER(L9),L9<-ToleranceKm),"Chevauchement","Conforme")))))) -> Conforme
B10: =IF(C10="","",COUNT($C$7:C10)) -> 4 | C10: 46396 | D10: Camille Morel | E10: Domicile | F10: Salle de sport | G10: Sport | H10: Personnel | I10: 48688 | J10: 48704 | K10: =IF(OR(I10="",J10=""),"",J10-I10) -> 16 | L10: =IF(OR(C10="",I10="",J9=""),"",I10-J9) -> 0 | M10: =IF(C10="","",IF(OR(D10="",E10="",F10="",H10="",I10="",J10="",AND(H10="Professionnel",G10="")),"Incomplet",IF(AND(ISNUMBER(C9),C10<C9),"Ordre des dates",IF(J10<I10,"Compteur incohérent",IF(AND(ISNUMBER(L10),L10>ToleranceKm),"Km non enregistrés",IF(AND(ISNUMBER(L10),L10<-ToleranceKm),"Chevauchement","Conforme")))))) -> Conforme
B11: =IF(C11="","",COUNT($C$7:C11)) -> 5 | C11: 46398 | D11: Camille Morel | E11: Domicile | F11: Agence | G11: Journée à l'agence (aller-retour) | H11: Domicile – travail | I11: 48704 | J11: 48738 | K11: =IF(OR(I11="",J11=""),"",J11-I11) -> 34 | L11: =IF(OR(C11="",I11="",J10=""),"",I11-J10) -> 0 | M11: =IF(C11="","",IF(OR(D11="",E11="",F11="",H11="",I11="",J11="",AND(H11="Professionnel",G11="")),"Incomplet",IF(AND(ISNUMBER(C10),C11<C10),"Ordre des dates",IF(J11<I11,"Compteur incohérent",IF(AND(ISNUMBER(L11),L11>ToleranceKm),"Km non enregistrés",IF(AND(ISNUMBER(L11),L11<-ToleranceKm),"Chevauchement","Conforme")))))) -> Conforme
B12: =IF(C12="","",COUNT($C$7:C12)) -> 6 | C12: 46399 | D12: Camille Morel | E12: Domicile | F12: Vierzon | G12: Livraison d'échantillons – Maison Clairet | H12: Professionnel | I12: 48738 | J12: 48885 | K12: =IF(OR(I12="",J12=""),"",J12-I12) -> 147 | L12: =IF(OR(C12="",I12="",J11=""),"",I12-J11) -> 0 | M12: =IF(C12="","",IF(OR(D12="",E12="",F12="",H12="",I12="",J12="",AND(H12="Professionnel",G12="")),"Incomplet",IF(AND(ISNUMBER(C11),C12<C11),"Ordre des dates",IF(J12<I12,"Compteur incohérent",IF(AND(ISNUMBER(L12),L12>ToleranceKm),"Km non enregistrés",IF(AND(ISNUMBER(L12),L12<-ToleranceKm),"Chevauchement","Conforme")))))) -> Conforme
B13: =IF(C13="","",COUNT($C$7:C13)) -> 7 | C13: 46400 | D13: Camille Morel | E13: Domicile | F13: Orléans | G13: Présentation produits – Groupe Arvel | H13: Professionnel | I13: 48885 | J13: 49056 | K13: =IF(OR(I13="",J13=""),"",J13-I13) -> 171 | L13: =IF(OR(C13="",I13="",J12=""),"",I13-J12) -> 0 | M13: =IF(C13="","",IF(OR(D13="",E13="",F13="",H13="",I13="",J13="",AND(H13="Professionnel",G13="")),"Incomplet",IF(AND(ISNUMBER(C12),C13<C12),"Ordre des dates",IF(J13<I13,"Compteur incohérent",IF(AND(ISNUMBER(L13),L13>ToleranceKm),"Km non enregistrés",IF(AND(ISNUMBER(L13),L13<-ToleranceKm),"Chevauchement","Conforme")))))) -> Conforme
B14: =IF(C14="","",COUNT($C$7:C14)) -> 8 | C14: 46402 | D14: Camille Morel | E14: Domicile | F14: Amboise | G14: Suivi de chantier – Résidence Les Ormes | H14: Professionnel | I14: 49056 | J14: 49153 | K14: =IF(OR(I14="",J14=""),"",J14-I14) -> 97 | L14: =IF(OR(C14="",I14="",J13=""),"",I14-J13) -> 0 | M14: =IF(C14="","",IF(OR(D14="",E14="",F14="",H14="",I14="",J14="",AND(H14="Professionnel",G14="")),"Incomplet",IF(AND(ISNUMBER(C13),C14<C13),"Ordre des dates",IF(J14<I14,"Compteur incohérent",IF(AND(ISNUMBER(L14),L14>ToleranceKm),"Km non enregistrés",IF(AND(ISNUMBER(L14),L14<-ToleranceKm),"Chevauchement","Conforme")))))) -> Conforme
B15: =IF(C15="","",COUNT($C$7:C15)) -> 9 | C15: 46403 | D15: Camille Morel | E15: Domicile | F15: Chenonceaux | G15: Sortie du week-end | H15: Personnel | I15: 49153 | J15: 49221 | K15: =IF(OR(I15="",J15=""),"",J15-I15) -> 68 | L15: =IF(OR(C15="",I15="",J14=""),"",I15-J14) -> 0 | M15: =IF(C15="","",IF(OR(D15="",E15="",F15="",H15="",I15="",J15="",AND(H15="Professionnel",G15="")),"Incomplet",IF(AND(ISNUMBER(C14),C15<C14),"Ordre des dates",IF(J15<I15,"Compteur incohérent",IF(AND(ISNUMBER(L15),L15>ToleranceKm),"Km non enregistrés",IF(AND(ISNUMBER(L15),L15<-ToleranceKm),"Chevauchement","Conforme")))))) -> Conforme
B16: =IF(C16="","",COUNT($C$7:C16)) -> 10 | C16: 46405 | D16: Camille Morel | E16: Domicile | F16: Agence | G16: Journée à l'agence (aller-retour) | H16: Domicile – travail | I16: 49221 | J16: 49255 | K16: =IF(OR(I16="",J16=""),"",J16-I16) -> 34 | L16: =IF(OR(C16="",I16="",J15=""),"",I16-J15) -> 0 | M16: =IF(C16="","",IF(OR(D16="",E16="",F16="",H16="",I16="",J16="",AND(H16="Professionnel",G16="")),"Incomplet",IF(AND(ISNUMBER(C15),C16<C15),"Ordre des dates",IF(J16<I16,"Compteur incohérent",IF(AND(ISNUMBER(L16),L16>ToleranceKm),"Km non enregistrés",IF(AND(ISNUMBER(L16),L16<-ToleranceKm),"Chevauchement","Conforme")))))) -> Conforme
B17: =IF(C17="","",COUNT($C$7:C17)) -> 11 | C17: 46406 | D17: Camille Morel | E17: Domicile | F17: Romorantin | G17: Rendez-vous client – Garage Beaulieu | H17: Professionnel | I17: 49255 | J17: 49369 | K17: =IF(OR(I17="",J17=""),"",J17-I17) -> 114 | L17: =IF(OR(C17="",I17="",J16=""),"",I17-J16) -> 0 | M17: =IF(C17="","",IF(OR(D17="",E17="",F17="",H17="",I17="",J17="",AND(H17="Professionnel",G17="")),"Incomplet",IF(AND(ISNUMBER(C16),C17<C16),"Ordre des dates",IF(J17<I17,"Compteur incohérent",IF(AND(ISNUMBER(L17),L17>ToleranceKm),"Km non enregistrés",IF(AND(ISNUMBER(L17),L17<-ToleranceKm),"Chevauchement","Conforme")))))) -> Conforme
B18: =IF(C18="","",COUNT($C$7:C18)) -> 12 | C18: 46408 | D18: Camille Morel | E18: Domicile | F18: Amboise | G18: Suivi de chantier – Résidence Les Ormes | H18: Professionnel | I18: 49369 | J18: 49473 | K18: =IF(OR(I18="",J18=""),"",J18-I18) -> 104 | L18: =IF(OR(C18="",I18="",J17=""),"",I18-J17) -> 0 | M18: =IF(C18="","",IF(OR(D18="",E18="",F18="",H18="",I18="",J18="",AND(H18="Professionnel",G18="")),"Incomplet",IF(AND(ISNUMBER(C17),C18<C17),"Ordre des dates",IF(J18<I18,"Compteur incohérent",IF(AND(ISNUMBER(L18),L18>ToleranceKm),"Km non enregistrés",IF(AND(ISNUMBER(L18),L18<-ToleranceKm),"Chevauchement","Conforme")))))) -> Conforme
B19: =IF(C19="","",COUNT($C$7:C19)) -> 13 | C19: 46410 | D19: Camille Morel | E19: Domicile | F19: Centre commercial | G19: Courses | H19: Personnel | I19: 49473 | J19: 49491 | K19: =IF(OR(I19="",J19=""),"",J19-I19) -> 18 | L19: =IF(OR(C19="",I19="",J18=""),"",I19-J18) -> 0 | M19: =IF(C19="","",IF(OR(D19="",E19="",F19="",H19="",I19="",J19="",AND(H19="Professionnel",G19="")),"Incomplet",IF(AND(ISNUMBER(C18),C19<C18),"Ordre des dates",IF(J19<I19,"Compteur incohérent",IF(AND(ISNUMBER(L19),L19>ToleranceKm),"Km non enregistrés",IF(AND(ISNUMBER(L19),L19<-ToleranceKm),"Chevauchement","Conforme")))))) -> Conforme
... B207: =IF(C207="","",COUNT($C$7:C207)) -> 201 | C207: 46737 | D207: Camille Morel | E207: Domicile | F207: Amboise | G207: Suivi de chantier – Résidence Les Ormes | H207: Professionnel | I207: 68292 | J207: 68387 | K207: =IF(OR(I207="",J207=""),"",J207-I207) -> 95 | L207: =IF(OR(C207="",I207="",J206=""),"",I207-J206) -> 0 | M207: =IF(C207="","",IF(OR(D207="",E207="",F207="",H207="",I207="",J207="",AND(H207="Professionnel",G207="")),"Incomplet",IF(AND(ISNUMBER(C206),C207<C206),"Ordre des dates",IF(J207<I207,"Compteur incohérent",IF(AND(ISNUMBER(L207),L207>ToleranceKm),"Km non enregistrés",IF(AND(ISNUMBER(L207),L207<-ToleranceKm),"Chevauchement","Conforme")))))) -> Conforme
B208: =IF(C208="","",COUNT($C$7:C208)) | K208: =IF(OR(I208="",J208=""),"",J208-I208) | L208: =IF(OR(C208="",I208="",J207=""),"",I208-J207) | M208: =IF(C208="","",IF(OR(D208="",E208="",F208="",H208="",I208="",J208="",AND(H208="Professionnel",G208="")),"Incomplet",IF(AND(ISNUMBER(C207),C208<C207),"Ordre des dates",IF(J208<I208,"Compteur incohérent",IF(AND(ISNUMBER(L208),L208>ToleranceKm),"Km non enregistrés",IF(AND(ISNUMBER(L208),L208<-ToleranceKm),"Chevauchement","Conforme"))))))
B209: =IF(C209="","",COUNT($C$7:C209)) | K209: =IF(OR(I209="",J209=""),"",J209-I209) | L209: =IF(OR(C209="",I209="",J208=""),"",I209-J208) | M209: =IF(C209="","",IF(OR(D209="",E209="",F209="",H209="",I209="",J209="",AND(H209="Professionnel",G209="")),"Incomplet",IF(AND(ISNUMBER(C208),C209<C208),"Ordre des dates",IF(J209<I209,"Compteur incohérent",IF(AND(ISNUMBER(L209),L209>ToleranceKm),"Km non enregistrés",IF(AND(ISNUMBER(L209),L209<-ToleranceKm),"Chevauchement","Conforme"))))))
B210: =IF(C210="","",COUNT($C$7:C210)) | K210: =IF(OR(I210="",J210=""),"",J210-I210) | L210: =IF(OR(C210="",I210="",J209=""),"",I210-J209) | M210: =IF(C210="","",IF(OR(D210="",E210="",F210="",H210="",I210="",J210="",AND(H210="Professionnel",G210="")),"Incomplet",IF(AND(ISNUMBER(C209),C210<C209),"Ordre des dates",IF(J210<I210,"Compteur incohérent",IF(AND(ISNUMBER(L210),L210>ToleranceKm),"Km non enregistrés",IF(AND(ISNUMBER(L210),L210<-ToleranceKm),"Chevauchement","Conforme"))))))
B211: =IF(C211="","",COUNT($C$7:C211)) | K211: =IF(OR(I211="",J211=""),"",J211-I211) | L211: =IF(OR(C211="",I211="",J210=""),"",I211-J210) | M211: =IF(C211="","",IF(OR(D211="",E211="",F211="",H211="",I211="",J211="",AND(H211="Professionnel",G211="")),"Incomplet",IF(AND(ISNUMBER(C210),C211<C210),"Ordre des dates",IF(J211<I211,"Compteur incohérent",IF(AND(ISNUMBER(L211),L211>ToleranceKm),"Km non enregistrés",IF(AND(ISNUMBER(L211),L211<-ToleranceKm),"Chevauchement","Conforme"))))))
B212: =IF(C212="","",COUNT($C$7:C212)) | K212: =IF(OR(I212="",J212=""),"",J212-I212) | L212: =IF(OR(C212="",I212="",J211=""),"",I212-J211) | M212: =IF(C212="","",IF(OR(D212="",E212="",F212="",H212="",I212="",J212="",AND(H212="Professionnel",G212="")),"Incomplet",IF(AND(ISNUMBER(C211),C212<C211),"Ordre des dates",IF(J212<I212,"Compteur incohérent",IF(AND(ISNUMBER(L212),L212>ToleranceKm),"Km non enregistrés",IF(AND(ISNUMBER(L212),L212<-ToleranceKm),"Chevauchement","Conforme"))))))
B213: =IF(C213="","",COUNT($C$7:C213)) | K213: =IF(OR(I213="",J213=""),"",J213-I213) | L213: =IF(OR(C213="",I213="",J212=""),"",I213-J212) | M213: =IF(C213="","",IF(OR(D213="",E213="",F213="",H213="",I213="",J213="",AND(H213="Professionnel",G213="")),"Incomplet",IF(AND(ISNUMBER(C212),C213<C212),"Ordre des dates",IF(J213<I213,"Compteur incohérent",IF(AND(ISNUMBER(L213),L213>ToleranceKm),"Km non enregistrés",IF(AND(ISNUMBER(L213),L213<-ToleranceKm),"Chevauchement","Conforme"))))))
B214: =IF(C214="","",COUNT($C$7:C214)) | K214: =IF(OR(I214="",J214=""),"",J214-I214) | L214: =IF(OR(C214="",I214="",J213=""),"",I214-J213) | M214: =IF(C214="","",IF(OR(D214="",E214="",F214="",H214="",I214="",J214="",AND(H214="Professionnel",G214="")),"Incomplet",IF(AND(ISNUMBER(C213),C214<C213),"Ordre des dates",IF(J214<I214,"Compteur incohérent",IF(AND(ISNUMBER(L214),L214>ToleranceKm),"Km non enregistrés",IF(AND(ISNUMBER(L214),L214<-ToleranceKm),"Chevauchement","Conforme"))))))
B215: =IF(C215="","",COUNT($C$7:C215)) | K215: =IF(OR(I215="",J215=""),"",J215-I215) | L215: =IF(OR(C215="",I215="",J214=""),"",I215-J214) | M215: =IF(C215="","",IF(OR(D215="",E215="",F215="",H215="",I215="",J215="",AND(H215="Professionnel",G215="")),"Incomplet",IF(AND(ISNUMBER(C214),C215<C214),"Ordre des dates",IF(J215<I215,"Compteur incohérent",IF(AND(ISNUMBER(L215),L215>ToleranceKm),"Km non enregistrés",IF(AND(ISNUMBER(L215),L215<-ToleranceKm),"Chevauchement","Conforme"))))))
B216: =IF(C216="","",COUNT($C$7:C216)) | K216: =IF(OR(I216="",J216=""),"",J216-I216) | L216: =IF(OR(C216="",I216="",J215=""),"",I216-J215) | M216: =IF(C216="","",IF(OR(D216="",E216="",F216="",H216="",I216="",J216="",AND(H216="Professionnel",G216="")),"Incomplet",IF(AND(ISNUMBER(C215),C216<C215),"Ordre des dates",IF(J216<I216,"Compteur incohérent",IF(AND(ISNUMBER(L216),L216>ToleranceKm),"Km non enregistrés",IF(AND(ISNUMBER(L216),L216<-ToleranceKm),"Chevauchement","Conforme"))))))
B217: =IF(C217="","",COUNT($C$7:C217)) | K217: =IF(OR(I217="",J217=""),"",J217-I217) | L217: =IF(OR(C217="",I217="",J216=""),"",I217-J216) | M217: =IF(C217="","",IF(OR(D217="",E217="",F217="",H217="",I217="",J217="",AND(H217="Professionnel",G217="")),"Incomplet",IF(AND(ISNUMBER(C216),C217<C216),"Ordre des dates",IF(J217<I217,"Compteur incohérent",IF(AND(ISNUMBER(L217),L217>ToleranceKm),"Km non enregistrés",IF(AND(ISNUMBER(L217),L217<-ToleranceKm),"Chevauchement","Conforme"))))))
B218: =IF(C218="","",COUNT($C$7:C218)) | K218: =IF(OR(I218="",J218=""),"",J218-I218) | L218: =IF(OR(C218="",I218="",J217=""),"",I218-J217) | M218: =IF(C218="","",IF(OR(D218="",E218="",F218="",H218="",I218="",J218="",AND(H218="Professionnel",G218="")),"Incomplet",IF(AND(ISNUMBER(C217),C218<C217),"Ordre des dates",IF(J218<I218,"Compteur incohérent",IF(AND(ISNUMBER(L218),L218>ToleranceKm),"Km non enregistrés",IF(AND(ISNUMBER(L218),L218<-ToleranceKm),"Chevauchement","Conforme"))))))
B219: =IF(C219="","",COUNT($C$7:C219)) | K219: =IF(OR(I219="",J219=""),"",J219-I219) | L219: =IF(OR(C219="",I219="",J218=""),"",I219-J218) | M219: =IF(C219="","",IF(OR(D219="",E219="",F219="",H219="",I219="",J219="",AND(H219="Professionnel",G219="")),"Incomplet",IF(AND(ISNUMBER(C218),C219<C218),"Ordre des dates",IF(J219<I219,"Compteur incohérent",IF(AND(ISNUMBER(L219),L219>ToleranceKm),"Km non enregistrés",IF(AND(ISNUMBER(L219),L219<-ToleranceKm),"Chevauchement","Conforme"))))))
... B606: =IF(C606="","",COUNT($C$7:C606)) | K606: =IF(OR(I606="",J606=""),"",J606-I606) | L606: =IF(OR(C606="",I606="",J605=""),"",I606-J605) | M606: =IF(C606="","",IF(OR(D606="",E606="",F606="",H606="",I606="",J606="",AND(H606="Professionnel",G606="")),"Incomplet",IF(AND(ISNUMBER(C605),C606<C605),"Ordre des dates",IF(J606<I606,"Compteur incohérent",IF(AND(ISNUMBER(L606),L606>ToleranceKm),"Km non enregistrés",IF(AND(ISNUMBER(L606),L606<-ToleranceKm),"Chevauchement","Conforme"))))))

Sheet Carburant
B1: PLEINS DE CARBURANT ET RECHARGES | P1: =IF(Immatriculation="","",Immatriculation&" · "&TRIM(Marque&" "&Modele)) -> GH-482-TK · Voltéra Compacte 1.6 hybride
B2: Suivi des pleins, du prix unitaire et de la consommation réelle | P2: ="Kilométrage au compteur : "&FIXED(KmActuel,0)&" km" -> Kilométrage au compteur : 68.387 km
B4: Consommation calculée « de plein à plein » : indiquez si le réservoir a été rempli complètement. | K4: Saisie | L4: Calcul automatique
B6: N° | C6: Date | D6: Conducteur | E6: Compteur (km) | F6: Station / lieu | G6: ="Quantité"&CHAR(10)&"("&UniteQte&")" -> Quantité (L) | H6: Montant TTC | I6: ="Prix au"&CHAR(10)&IF(UniteQte="kWh","kWh","litre") -> Prix au litre | J6: Plein complet | K6: Mode de règlement | L6: Km depuis le plein précédent | M6: ="Consommation"&CHAR(10)&"("&UniteQte&"/100 km)" -> Consommation (L/100 km) | N6: Coût aux 100 km | O6: Contrôle | P6: N° de ticket / observations | R6: Km du plein complet préc. | S6: Quantité cumulée | T6: Distance retenue
B7: =IF(C7="","",COUNT($C$7:C7)) -> 1 | C7: 46400 | D7: Camille Morel | E7: 49056 | F7: Station – Avenue de la Gare | G7: 43.97 | H7: 79.89 | I7: =IF(OR(G7="",H7="",N(G7)=0),"",H7/G7) -> 1.8169206 | J7: Oui | K7: Carte bancaire | L7: ="" | M7: =IF(OR(C7="",J7<>"Oui",R7="",N(E7)<=N(R7)),"",S7/(E7-R7)*100) | N7: =IF(OR(M7="",I7=""),"",M7*I7) | O7: =IF(C7="","",IF(OR(E7="",G7="",H7=""),"Incomplet",IF(FALSE,"",IF(AND(N(Capacite)>0,G7>Capacite*1.02),"Quantité > réservoir",IF(ISNUMBER(M7),IF(AND(ConsoMoyenne>0,ABS(M7/MAX(ConsoMoyenne,0.0001)-1)>SeuilConso),"Conso. atypique","Conforme"),"Conforme"))))) -> Conforme | P7: Ticket n° C-001 | R7: ="" | S7: =IF(C7="","",N(G7)) -> 43.97 | T7: =IF(M7="","",E7-R7)
B8: =IF(C8="","",COUNT($C$7:C8)) -> 2 | C8: 46415 | D8: Camille Morel | E8: 49727 | F8: Station – Zone des Grands Champs | G8: 40.93 | H8: 74 | I8: =IF(OR(G8="",H8="",N(G8)=0),"",H8/G8) -> 1.8079648 | J8: Oui | K8: Carte bancaire | L8: =IF(OR(C8="",E8="",E7=""),"",E8-E7) -> 671 | M8: =IF(OR(C8="",J8<>"Oui",R8="",N(E8)<=N(R8)),"",S8/(E8-R8)*100) -> 6.099851 | N8: =IF(OR(M8="",I8=""),"",M8*I8) -> 11.028316 | O8: =IF(C8="","",IF(OR(E8="",G8="",H8=""),"Incomplet",IF(AND(ISNUMBER(E7),E8<E7),"Km incohérent",IF(AND(N(Capacite)>0,G8>Capacite*1.02),"Quantité > réservoir",IF(ISNUMBER(M8),IF(AND(ConsoMoyenne>0,ABS(M8/MAX(ConsoMoyenne,0.0001)-1)>SeuilConso),"Conso. atypique","Conforme"),"Conforme"))))) -> Conforme | P8: Ticket n° C-002 | R8: =IF(C8="","",IF(J7="Oui",E7,R7)) -> 49056 | S8: =IF(C8="","",IF(J7="Oui",N(G8),N(S7)+N(G8))) -> 40.93 | T8: =IF(M8="","",E8-R8) -> 671
B9: =IF(C9="","",COUNT($C$7:C9)) -> 3 | C9: 46429 | D9: Camille Morel | E9: 50483 | F9: Station – Avenue de la Gare | G9: 44.29 | H9: 80.56 | I9: =IF(OR(G9="",H9="",N(G9)=0),"",H9/G9) -> 1.8189207 | J9: Oui | K9: Carte bancaire | L9: =IF(OR(C9="",E9="",E8=""),"",E9-E8) -> 756 | M9: =IF(OR(C9="",J9<>"Oui",R9="",N(E9)<=N(R9)),"",S9/(E9-R9)*100) -> 5.8584656 | N9: =IF(OR(M9="",I9=""),"",M9*I9) -> 10.656085 | O9: =IF(C9="","",IF(OR(E9="",G9="",H9=""),"Incomplet",IF(AND(ISNUMBER(E8),E9<E8),"Km incohérent",IF(AND(N(Capacite)>0,G9>Capacite*1.02),"Quantité > réservoir",IF(ISNUMBER(M9),IF(AND(ConsoMoyenne>0,ABS(M9/MAX(ConsoMoyenne,0.0001)-1)>SeuilConso),"Conso. atypique","Conforme"),"Conforme"))))) -> Conforme | P9: Ticket n° C-003 | R9: =IF(C9="","",IF(J8="Oui",E8,R8)) -> 49727 | S9: =IF(C9="","",IF(J8="Oui",N(G9),N(S8)+N(G9))) -> 44.29 | T9: =IF(M9="","",E9-R9) -> 756
B10: =IF(C10="","",COUNT($C$7:C10)) -> 4 | C10: 46440 | D10: Camille Morel | E10: 51101 | F10: Station – Zone des Grands Champs | G10: 39.08 | H10: 69.76 | I10: =IF(OR(G10="",H10="",N(G10)=0),"",H10/G10) -> 1.7850563 | J10: Oui | K10: Carte bancaire | L10: =IF(OR(C10="",E10="",E9=""),"",E10-E9) -> 618 | M10: =IF(OR(C10="",J10<>"Oui",R10="",N(E10)<=N(R10)),"",S10/(E10-R10)*100) -> 6.3236246 | N10: =IF(OR(M10="",I10=""),"",M10*I10) -> 11.288026 | O10: =IF(C10="","",IF(OR(E10="",G10="",H10=""),"Incomplet",IF(AND(ISNUMBER(E9),E10<E9),"Km incohérent",IF(AND(N(Capacite)>0,G10>Capacite*1.02),"Quantité > réservoir",IF(ISNUMBER(M10),IF(AND(ConsoMoyenne>0,ABS(M10/MAX(ConsoMoyenne,0.0001)-1)>SeuilConso),"Conso. atypique","Conforme"),"Conforme"))))) -> Conforme | P10: Ticket n° C-004 | R10: =IF(C10="","",IF(J9="Oui",E9,R9)) -> 50483 | S10: =IF(C10="","",IF(J9="Oui",N(G10),N(S9)+N(G10))) -> 39.08 | T10: =IF(M10="","",E10-R10) -> 618
B11: =IF(C11="","",COUNT($C$7:C11)) -> 5 | C11: 46450 | D11: Camille Morel | E11: 51854 | F11: Station – Rocade Nord | G11: 41.59 | H11: 75.24 | I11: =IF(OR(G11="",H11="",N(G11)=0),"",H11/G11) -> 1.8090887 | J11: Oui | K11: Carte carburant | L11: =IF(OR(C11="",E11="",E10=""),"",E11-E10) -> 753 | M11: =IF(OR(C11="",J11<>"Oui",R11="",N(E11)<=N(R11)),"",S11/(E11-R11)*100) -> 5.5232404 | N11: =IF(OR(M11="",I11=""),"",M11*I11) -> 9.9920319 | O11: =IF(C11="","",IF(OR(E11="",G11="",H11=""),"Incomplet",IF(AND(ISNUMBER(E10),E11<E10),"Km incohérent",IF(AND(N(Capacite)>0,G11>Capacite*1.02),"Quantité > réservoir",IF(ISNUMBER(M11),IF(AND(ConsoMoyenne>0,ABS(M11/MAX(ConsoMoyenne,0.0001)-1)>SeuilConso),"Conso. atypique","Conforme"),"Conforme"))))) -> Conforme | P11: Ticket n° C-005 | R11: =IF(C11="","",IF(J10="Oui",E10,R10)) -> 51101 | S11: =IF(C11="","",IF(J10="Oui",N(G11),N(S10)+N(G11))) -> 41.59 | T11: =IF(M11="","",E11-R11) -> 753
B12: =IF(C12="","",COUNT($C$7:C12)) -> 6 | C12: 46462 | D12: Camille Morel | E12: 52471 | F12: Hypermarché – Route de Paris | G12: 34.98 | H12: 63.07 | I12: =IF(OR(G12="",H12="",N(G12)=0),"",H12/G12) -> 1.8030303 | J12: Oui | K12: Carte bancaire | L12: =IF(OR(C12="",E12="",E11=""),"",E12-E11) -> 617 | M12: =IF(OR(C12="",J12<>"Oui",R12="",N(E12)<=N(R12)),"",S12/(E12-R12)*100) -> 5.6693679 | N12: =IF(OR(M12="",I12=""),"",M12*I12) -> 10.222042 | O12: =IF(C12="","",IF(OR(E12="",G12="",H12=""),"Incomplet",IF(AND(ISNUMBER(E11),E12<E11),"Km incohérent",IF(AND(N(Capacite)>0,G12>Capacite*1.02),"Quantité > réservoir",IF(ISNUMBER(M12),IF(AND(ConsoMoyenne>0,ABS(M12/MAX(ConsoMoyenne,0.0001)-1)>SeuilConso),"Conso. atypique","Conforme"),"Conforme"))))) -> Conforme | P12: Ticket n° C-006 | R12: =IF(C12="","",IF(J11="Oui",E11,R11)) -> 51854 | S12: =IF(C12="","",IF(J11="Oui",N(G12),N(S11)+N(G12))) -> 34.98 | T12: =IF(M12="","",E12-R12) -> 617
B13: =IF(C13="","",COUNT($C$7:C13)) -> 7 | C13: 46472 | D13: Camille Morel | E13: 53188 | F13: Station – Avenue de la Gare | G13: 40.63 | H13: 72 | I13: =IF(OR(G13="",H13="",N(G13)=0),"",H13/G13) -> 1.7720896 | J13: Oui | K13: Carte carburant | L13: =IF(OR(C13="",E13="",E12=""),"",E13-E12) -> 717 | M13: =IF(OR(C13="",J13<>"Oui",R13="",N(E13)<=N(R13)),"",S13/(E13-R13)*100) -> 5.6666667 | N13: =IF(OR(M13="",I13=""),"",M13*I13) -> 10.041841 | O13: =IF(C13="","",IF(OR(E13="",G13="",H13=""),"Incomplet",IF(AND(ISNUMBER(E12),E13<E12),"Km incohérent",IF(AND(N(Capacite)>0,G13>Capacite*1.02),"Quantité > réservoir",IF(ISNUMBER(M13),IF(AND(ConsoMoyenne>0,ABS(M13/MAX(ConsoMoyenne,0.0001)-1)>SeuilConso),"Conso. atypique","Conforme"),"Conforme"))))) -> Conforme | P13: Ticket n° C-007 | R13: =IF(C13="","",IF(J12="Oui",E12,R12)) -> 52471 | S13: =IF(C13="","",IF(J12="Oui",N(G13),N(S12)+N(G13))) -> 40.63 | T13: =IF(M13="","",E13-R13) -> 717
B14: =IF(C14="","",COUNT($C$7:C14)) -> 8 | C14: 46485 | D14: Camille Morel | E14: 53859 | F14: Station – Rocade Nord | G14: 38.52 | H14: 71.84 | I14: =IF(OR(G14="",H14="",N(G14)=0),"",H14/G14) -> 1.8650052 | J14: Oui | K14: Carte carburant | L14: =IF(OR(C14="",E14="",E13=""),"",E14-E13) -> 671 | M14: =IF(OR(C14="",J14<>"Oui",R14="",N(E14)<=N(R14)),"",S14/(E14-R14)*100) -> 5.7406855 | N14: =IF(OR(M14="",I14=""),"",M14*I14) -> 10.706408 | O14: =IF(C14="","",IF(OR(E14="",G14="",H14=""),"Incomplet",IF(AND(ISNUMBER(E13),E14<E13),"Km incohérent",IF(AND(N(Capacite)>0,G14>Capacite*1.02),"Quantité > réservoir",IF(ISNUMBER(M14),IF(AND(ConsoMoyenne>0,ABS(M14/MAX(ConsoMoyenne,0.0001)-1)>SeuilConso),"Conso. atypique","Conforme"),"Conforme"))))) -> Conforme | P14: Ticket n° C-008 | R14: =IF(C14="","",IF(J13="Oui",E13,R13)) -> 53188 | S14: =IF(C14="","",IF(J13="Oui",N(G14),N(S13)+N(G14))) -> 38.52 | T14: =IF(M14="","",E14-R14) -> 671
B15: =IF(C15="","",COUNT($C$7:C15)) -> 9 | C15: 46497 | D15: Camille Morel | E15: 54528 | F15: Station – Avenue de la Gare | G15: 37.76 | H15: 70.72 | I15: =IF(OR(G15="",H15="",N(G15)=0),"",H15/G15) -> 1.8728814 | J15: Oui | K15: Carte bancaire | L15: =IF(OR(C15="",E15="",E14=""),"",E15-E14) -> 669 | M15: =IF(OR(C15="",J15<>"Oui",R15="",N(E15)<=N(R15)),"",S15/(E15-R15)*100) -> 5.6442451 | N15: =IF(OR(M15="",I15=""),"",M15*I15) -> 10.571001 | O15: =IF(C15="","",IF(OR(E15="",G15="",H15=""),"Incomplet",IF(AND(ISNUMBER(E14),E15<E14),"Km incohérent",IF(AND(N(Capacite)>0,G15>Capacite*1.02),"Quantité > réservoir",IF(ISNUMBER(M15),IF(AND(ConsoMoyenne>0,ABS(M15/MAX(ConsoMoyenne,0.0001)-1)>SeuilConso),"Conso. atypique","Conforme"),"Conforme"))))) -> Conforme | P15: Ticket n° C-009 | R15: =IF(C15="","",IF(J14="Oui",E14,R14)) -> 53859 | S15: =IF(C15="","",IF(J14="Oui",N(G15),N(S14)+N(G15))) -> 37.76 | T15: =IF(M15="","",E15-R15) -> 669
B16: =IF(C16="","",COUNT($C$7:C16)) -> 10 | C16: 46506 | D16: Camille Morel | E16: 55201 | F16: Station – Avenue de la Gare | G16: 38.64 | H16: 71.75 | I16: =IF(OR(G16="",H16="",N(G16)=0),"",H16/G16) -> 1.8568841 | J16: Oui | K16: Carte bancaire | L16: =IF(OR(C16="",E16="",E15=""),"",E16-E15) -> 673 | M16: =IF(OR(C16="",J16<>"Oui",R16="",N(E16)<=N(R16)),"",S16/(E16-R16)*100) -> 5.7414562 | N16: =IF(OR(M16="",I16=""),"",M16*I16) -> 10.661218 | O16: =IF(C16="","",IF(OR(E16="",G16="",H16=""),"Incomplet",IF(AND(ISNUMBER(E15),E16<E15),"Km incohérent",IF(AND(N(Capacite)>0,G16>Capacite*1.02),"Quantité > réservoir",IF(ISNUMBER(M16),IF(AND(ConsoMoyenne>0,ABS(M16/MAX(ConsoMoyenne,0.0001)-1)>SeuilConso),"Conso. atypique","Conforme"),"Conforme"))))) -> Conforme | P16: Ticket n° C-010 | R16: =IF(C16="","",IF(J15="Oui",E15,R15)) -> 54528 | S16: =IF(C16="","",IF(J15="Oui",N(G16),N(S15)+N(G16))) -> 38.64 | T16: =IF(M16="","",E16-R16) -> 673
B17: =IF(C17="","",COUNT($C$7:C17)) -> 11 | C17: 46522 | D17: Julien Morel | E17: 55822 | F17: Station – Rocade Nord | G17: 36.4 | H17: 66.79 | I17: =IF(OR(G17="",H17="",N(G17)=0),"",H17/G17) -> 1.8348901 | J17: Oui | K17: Carte bancaire | L17: =IF(OR(C17="",E17="",E16=""),"",E17-E16) -> 621 | M17: =IF(OR(C17="",J17<>"Oui",R17="",N(E17)<=N(R17)),"",S17/(E17-R17)*100) -> 5.8615137 | N17: =IF(OR(M17="",I17=""),"",M17*I17) -> 10.755233 | O17: =IF(C17="","",IF(OR(E17="",G17="",H17=""),"Incomplet",IF(AND(ISNUMBER(E16),E17<E16),"Km incohérent",IF(AND(N(Capacite)>0,G17>Capacite*1.02),"Quantité > réservoir",IF(ISNUMBER(M17),IF(AND(ConsoMoyenne>0,ABS(M17/MAX(ConsoMoyenne,0.0001)-1)>SeuilConso),"Conso. atypique","Conforme"),"Conforme"))))) -> Conforme | P17: Ticket n° C-011 | R17: =IF(C17="","",IF(J16="Oui",E16,R16)) -> 55201 | S17: =IF(C17="","",IF(J16="Oui",N(G17),N(S16)+N(G17))) -> 36.4 | T17: =IF(M17="","",E17-R17) -> 621
B18: =IF(C18="","",COUNT($C$7:C18)) -> 12 | C18: 46532 | D18: Camille Morel | E18: 56624 | F18: Hypermarché – Route de Paris | G18: 44.41 | H18: 83.54 | I18: =IF(OR(G18="",H18="",N(G18)=0),"",H18/G18) -> 1.8811079 | J18: Oui | K18: Carte carburant | L18: =IF(OR(C18="",E18="",E17=""),"",E18-E17) -> 802 | M18: =IF(OR(C18="",J18<>"Oui",R18="",N(E18)<=N(R18)),"",S18/(E18-R18)*100) -> 5.5374065 | N18: =IF(OR(M18="",I18=""),"",M18*I18) -> 10.416459 | O18: =IF(C18="","",IF(OR(E18="",G18="",H18=""),"Incomplet",IF(AND(ISNUMBER(E17),E18<E17),"Km incohérent",IF(AND(N(Capacite)>0,G18>Capacite*1.02),"Quantité > réservoir",IF(ISNUMBER(M18),IF(AND(ConsoMoyenne>0,ABS(M18/MAX(ConsoMoyenne,0.0001)-1)>SeuilConso),"Conso. atypique","Conforme"),"Conforme"))))) -> Conforme | P18: Ticket n° C-012 | R18: =IF(C18="","",IF(J17="Oui",E17,R17)) -> 55822 | S18: =IF(C18="","",IF(J17="Oui",N(G18),N(S17)+N(G18))) -> 44.41 | T18: =IF(M18="","",E18-R18) -> 802
B19: =IF(C19="","",COUNT($C$7:C19)) -> 13 | C19: 46539 | D19: Camille Morel | E19: 57236 | F19: Hypermarché – Route de Paris | G19: 34.24 | H19: 64.75 | I19: =IF(OR(G19="",H19="",N(G19)=0),"",H19/G19) -> 1.8910631 | J19: Oui | K19: Carte bancaire | L19: =IF(OR(C19="",E19="",E18=""),"",E19-E18) -> 612 | M19: =IF(OR(C19="",J19<>"Oui",R19="",N(E19)<=N(R19)),"",S19/(E19-R19)*100) -> 5.5947712 | N19: =IF(OR(M19="",I19=""),"",M19*I19) -> 10.580065 | O19: =IF(C19="","",IF(OR(E19="",G19="",H19=""),"Incomplet",IF(AND(ISNUMBER(E18),E19<E18),"Km incohérent",IF(AND(N(Capacite)>0,G19>Capacite*1.02),"Quantité > réservoir",IF(ISNUMBER(M19),IF(AND(ConsoMoyenne>0,ABS(M19/MAX(ConsoMoyenne,0.0001)-1)>SeuilConso),"Conso. atypique","Conforme"),"Conforme"))))) -> Conforme | P19: Ticket n° C-013 | R19: =IF(C19="","",IF(J18="Oui",E18,R18)) -> 56624 | S19: =IF(C19="","",IF(J18="Oui",N(G19),N(S18)+N(G19))) -> 34.24 | T19: =IF(M19="","",E19-R19) -> 612
... B36: =IF(C36="","",COUNT($C$7:C36)) -> 30 | C36: 46735 | D36: Camille Morel | E36: 68292 | F36: Station – Avenue de la Gare | G36: 42.94 | H36: 75.87 | I36: =IF(OR(G36="",H36="",N(G36)=0),"",H36/G36) -> 1.766884 | J36: Oui | K36: Carte bancaire | L36: =IF(OR(C36="",E36="",E35=""),"",E36-E35) -> 675 | M36: =IF(OR(C36="",J36<>"Oui",R36="",N(E36)<=N(R36)),"",S36/(E36-R36)*100) -> 6.3614815 | N36: =IF(OR(M36="",I36=""),"",M36*I36) -> 11.24 | O36: =IF(C36="","",IF(OR(E36="",G36="",H36=""),"Incomplet",IF(AND(ISNUMBER(E35),E36<E35),"Km incohérent",IF(AND(N(Capacite)>0,G36>Capacite*1.02),"Quantité > réservoir",IF(ISNUMBER(M36),IF(AND(ConsoMoyenne>0,ABS(M36/MAX(ConsoMoyenne,0.0001)-1)>SeuilConso),"Conso. atypique","Conforme"),"Conforme"))))) -> Conforme | P36: Ticket n° C-030 | R36: =IF(C36="","",IF(J35="Oui",E35,R35)) -> 67617 | S36: =IF(C36="","",IF(J35="Oui",N(G36),N(S35)+N(G36))) -> 42.94 | T36: =IF(M36="","",E36-R36) -> 675
B37: =IF(C37="","",COUNT($C$7:C37)) | I37: =IF(OR(G37="",H37="",N(G37)=0),"",H37/G37) | L37: =IF(OR(C37="",E37="",E36=""),"",E37-E36) | M37: =IF(OR(C37="",J37<>"Oui",R37="",N(E37)<=N(R37)),"",S37/(E37-R37)*100) | N37: =IF(OR(M37="",I37=""),"",M37*I37) | O37: =IF(C37="","",IF(OR(E37="",G37="",H37=""),"Incomplet",IF(AND(ISNUMBER(E36),E37<E36),"Km incohérent",IF(AND(N(Capacite)>0,G37>Capacite*1.02),"Quantité > réservoir",IF(ISNUMBER(M37),IF(AND(ConsoMoyenne>0,ABS(M37/MAX(ConsoMoyenne,0.0001)-1)>SeuilConso),"Conso. atypique","Conforme"),"Conforme"))))) | R37: =IF(C37="","",IF(J36="Oui",E36,R36)) | S37: =IF(C37="","",IF(J36="Oui",N(G37),N(S36)+N(G37))) | T37: =IF(M37="","",E37-R37)
B38: =IF(C38="","",COUNT($C$7:C38)) | I38: =IF(OR(G38="",H38="",N(G38)=0),"",H38/G38) | L38: =IF(OR(C38="",E38="",E37=""),"",E38-E37) | M38: =IF(OR(C38="",J38<>"Oui",R38="",N(E38)<=N(R38)),"",S38/(E38-R38)*100) | N38: =IF(OR(M38="",I38=""),"",M38*I38) | O38: =IF(C38="","",IF(OR(E38="",G38="",H38=""),"Incomplet",IF(AND(ISNUMBER(E37),E38<E37),"Km incohérent",IF(AND(N(Capacite)>0,G38>Capacite*1.02),"Quantité > réservoir",IF(ISNUMBER(M38),IF(AND(ConsoMoyenne>0,ABS(M38/MAX(ConsoMoyenne,0.0001)-1)>SeuilConso),"Conso. atypique","Conforme"),"Conforme"))))) | R38: =IF(C38="","",IF(J37="Oui",E37,R37)) | S38: =IF(C38="","",IF(J37="Oui",N(G38),N(S37)+N(G38))) | T38: =IF(M38="","",E38-R38)
B39: =IF(C39="","",COUNT($C$7:C39)) | I39: =IF(OR(G39="",H39="",N(G39)=0),"",H39/G39) | L39: =IF(OR(C39="",E39="",E38=""),"",E39-E38) | M39: =IF(OR(C39="",J39<>"Oui",R39="",N(E39)<=N(R39)),"",S39/(E39-R39)*100) | N39: =IF(OR(M39="",I39=""),"",M39*I39) | O39: =IF(C39="","",IF(OR(E39="",G39="",H39=""),"Incomplet",IF(AND(ISNUMBER(E38),E39<E38),"Km incohérent",IF(AND(N(Capacite)>0,G39>Capacite*1.02),"Quantité > réservoir",IF(ISNUMBER(M39),IF(AND(ConsoMoyenne>0,ABS(M39/MAX(ConsoMoyenne,0.0001)-1)>SeuilConso),"Conso. atypique","Conforme"),"Conforme"))))) | R39: =IF(C39="","",IF(J38="Oui",E38,R38)) | S39: =IF(C39="","",IF(J38="Oui",N(G39),N(S38)+N(G39))) | T39: =IF(M39="","",E39-R39)
B40: =IF(C40="","",COUNT($C$7:C40)) | I40: =IF(OR(G40="",H40="",N(G40)=0),"",H40/G40) | L40: =IF(OR(C40="",E40="",E39=""),"",E40-E39) | M40: =IF(OR(C40="",J40<>"Oui",R40="",N(E40)<=N(R40)),"",S40/(E40-R40)*100) | N40: =IF(OR(M40="",I40=""),"",M40*I40) | O40: =IF(C40="","",IF(OR(E40="",G40="",H40=""),"Incomplet",IF(AND(ISNUMBER(E39),E40<E39),"Km incohérent",IF(AND(N(Capacite)>0,G40>Capacite*1.02),"Quantité > réservoir",IF(ISNUMBER(M40),IF(AND(ConsoMoyenne>0,ABS(M40/MAX(ConsoMoyenne,0.0001)-1)>SeuilConso),"Conso. atypique","Conforme"),"Conforme"))))) | R40: =IF(C40="","",IF(J39="Oui",E39,R39)) | S40: =IF(C40="","",IF(J39="Oui",N(G40),N(S39)+N(G40))) | T40: =IF(M40="","",E40-R40)
B41: =IF(C41="","",COUNT($C$7:C41)) | I41: =IF(OR(G41="",H41="",N(G41)=0),"",H41/G41) | L41: =IF(OR(C41="",E41="",E40=""),"",E41-E40) | M41: =IF(OR(C41="",J41<>"Oui",R41="",N(E41)<=N(R41)),"",S41/(E41-R41)*100) | N41: =IF(OR(M41="",I41=""),"",M41*I41) | O41: =IF(C41="","",IF(OR(E41="",G41="",H41=""),"Incomplet",IF(AND(ISNUMBER(E40),E41<E40),"Km incohérent",IF(AND(N(Capacite)>0,G41>Capacite*1.02),"Quantité > réservoir",IF(ISNUMBER(M41),IF(AND(ConsoMoyenne>0,ABS(M41/MAX(ConsoMoyenne,0.0001)-1)>SeuilConso),"Conso. atypique","Conforme"),"Conforme"))))) | R41: =IF(C41="","",IF(J40="Oui",E40,R40)) | S41: =IF(C41="","",IF(J40="Oui",N(G41),N(S40)+N(G41))) | T41: =IF(M41="","",E41-R41)
B42: =IF(C42="","",COUNT($C$7:C42)) | I42: =IF(OR(G42="",H42="",N(G42)=0),"",H42/G42) | L42: =IF(OR(C42="",E42="",E41=""),"",E42-E41) | M42: =IF(OR(C42="",J42<>"Oui",R42="",N(E42)<=N(R42)),"",S42/(E42-R42)*100) | N42: =IF(OR(M42="",I42=""),"",M42*I42) | O42: =IF(C42="","",IF(OR(E42="",G42="",H42=""),"Incomplet",IF(AND(ISNUMBER(E41),E42<E41),"Km incohérent",IF(AND(N(Capacite)>0,G42>Capacite*1.02),"Quantité > réservoir",IF(ISNUMBER(M42),IF(AND(ConsoMoyenne>0,ABS(M42/MAX(ConsoMoyenne,0.0001)-1)>SeuilConso),"Conso. atypique","Conforme"),"Conforme"))))) | R42: =IF(C42="","",IF(J41="Oui",E41,R41)) | S42: =IF(C42="","",IF(J41="Oui",N(G42),N(S41)+N(G42))) | T42: =IF(M42="","",E42-R42)
B43: =IF(C43="","",COUNT($C$7:C43)) | I43: =IF(OR(G43="",H43="",N(G43)=0),"",H43/G43) | L43: =IF(OR(C43="",E43="",E42=""),"",E43-E42) | M43: =IF(OR(C43="",J43<>"Oui",R43="",N(E43)<=N(R43)),"",S43/(E43-R43)*100) | N43: =IF(OR(M43="",I43=""),"",M43*I43) | O43: =IF(C43="","",IF(OR(E43="",G43="",H43=""),"Incomplet",IF(AND(ISNUMBER(E42),E43<E42),"Km incohérent",IF(AND(N(Capacite)>0,G43>Capacite*1.02),"Quantité > réservoir",IF(ISNUMBER(M43),IF(AND(ConsoMoyenne>0,ABS(M43/MAX(ConsoMoyenne,0.0001)-1)>SeuilConso),"Conso. atypique","Conforme"),"Conforme"))))) | R43: =IF(C43="","",IF(J42="Oui",E42,R42)) | S43: =IF(C43="","",IF(J42="Oui",N(G43),N(S42)+N(G43))) | T43: =IF(M43="","",E43-R43)
