Workbook

Sheet Diagramme Ishikawa
B1: DIAGRAMME D'ISHIKAWA — CAUSES & EFFET (5M)
B2: Diagramme en arêtes de poisson : chaque branche = une famille de causes (5M) ; les causes sont détaillées dans « Analyse des causes ».
B5: Main-d'œuvre | G5: Méthode | L5: Milieu
B6: ='Analyse des causes'!$B$9 -> Formation insuffisante des préparateurs | G6: ='Analyse des causes'!$B$17 -> Procédure de préparation non standardisée | L6: ='Analyse des causes'!$B$25 -> Zone de stockage encombrée
B7: ='Analyse des causes'!$B$10 -> Manque d'effectif en période de pointe | G7: ='Analyse des causes'!$B$18 -> Priorisation des commandes floue | L7: ='Analyse des causes'!$B$26 -> Distances de déplacement longues
B8: ='Analyse des causes'!$B$11 -> Rotation élevée du personnel | G8: ='Analyse des causes'!$B$19 -> Contrôle final absent | L8: ='Analyse des causes'!$B$27 -> Éclairage insuffisant
Q10: ='Analyse des causes'!$C$3 -> Taux de retard de livraison élevé (> 8 % des commandes)
B16: Matière | G16: Matériel | L16: Mesure
B17: ='Analyse des causes'!$H$9 -> Emballages en rupture de stock | G17: ='Analyse des causes'!$H$17 -> Panne récurrente du convoyeur | L17: ='Analyse des causes'!$H$25 -> Indicateurs non suivis au quotidien
B18: ='Analyse des causes'!$H$10 -> Étiquettes non conformes | G18: ='Analyse des causes'!$H$18 -> Scanettes défaillantes | L18: ='Analyse des causes'!$H$26 -> Objectifs de délai mal définis
B19: ='Analyse des causes'!$H$11 -> Composants défectueux fournisseur | G19: ='Analyse des causes'!$H$19 -> Maintenance préventive insuffisante | L19: ='Analyse des causes'!$H$27 -> Relevés manuels source d'erreurs
B21: Astuce : modifiez les causes dans l'onglet « Analyse des causes » — les trois causes prioritaires de chaque famille remontent automatiquement ici. La tête du poisson affiche l'effet analysé.

Sheet Analyse des causes
B1: ANALYSE DES CAUSES — MÉTHODE DES 5M
B3: Effet / Problème | C3: Taux de retard de livraison élevé (> 8 % des commandes)
B4: Processus | C4: Préparation de commandes | F4: Pilote | H4: Responsable qualité | J4: Date | K4: 46407
B5: Équipe | C5: Groupe d'amélioration continue | F5: Cotation : Gravité (G) et Fréquence (F) de 1 à 5 · Criticité = G × F (max 25)
B7: Main-d'œuvre | H7: Matière
B8: Cause | C8: G | D8: F | E8: Crit. | F8: Racine | H8: Cause | I8: G | J8: F | K8: Crit. | L8: Racine
B9: Formation insuffisante des préparateurs | C9: 4 | D9: 3 | E9: =IF(OR(C9="",D9=""),"",C9*D9) -> 12 | F9: Non | H9: Emballages en rupture de stock | I9: 4 | J9: 3 | K9: =IF(OR(I9="",J9=""),"",I9*J9) -> 12 | L9: Non
B10: Manque d'effectif en période de pointe | C10: 3 | D10: 4 | E10: =IF(OR(C10="",D10=""),"",C10*D10) -> 12 | F10: Non | H10: Étiquettes non conformes | I10: 3 | J10: 2 | K10: =IF(OR(I10="",J10=""),"",I10*J10) -> 6 | L10: Non
B11: Rotation élevée du personnel | C11: 3 | D11: 2 | E11: =IF(OR(C11="",D11=""),"",C11*D11) -> 6 | F11: Non | H11: Composants défectueux fournisseur | I11: 4 | J11: 2 | K11: =IF(OR(I11="",J11=""),"",I11*J11) -> 8 | L11: Non
B12: Consignes orales non tracées | C12: 3 | D12: 3 | E12: =IF(OR(C12="",D12=""),"",C12*D12) -> 9 | F12: Non | K12: =IF(OR(I12="",J12=""),"",I12*J12)
E13: =IF(OR(C13="",D13=""),"",C13*D13) | K13: =IF(OR(I13="",J13=""),"",I13*J13)
B15: Méthode | H15: Matériel
B16: Cause | C16: G | D16: F | E16: Crit. | F16: Racine | H16: Cause | I16: G | J16: F | K16: Crit. | L16: Racine
B17: Procédure de préparation non standardisée | C17: 4 | D17: 4 | E17: =IF(OR(C17="",D17=""),"",C17*D17) -> 16 | F17: Oui | H17: Panne récurrente du convoyeur | I17: 5 | J17: 3 | K17: =IF(OR(I17="",J17=""),"",I17*J17) -> 15 | L17: Oui
B18: Priorisation des commandes floue | C18: 3 | D18: 3 | E18: =IF(OR(C18="",D18=""),"",C18*D18) -> 9 | F18: Non | H18: Scanettes défaillantes | I18: 3 | J18: 3 | K18: =IF(OR(I18="",J18=""),"",I18*J18) -> 9 | L18: Non
B19: Contrôle final absent | C19: 4 | D19: 2 | E19: =IF(OR(C19="",D19=""),"",C19*D19) -> 8 | F19: Non | H19: Maintenance préventive insuffisante | I19: 4 | J19: 2 | K19: =IF(OR(I19="",J19=""),"",I19*J19) -> 8 | L19: Non
B20: Double saisie des références | C20: 2 | D20: 3 | E20: =IF(OR(C20="",D20=""),"",C20*D20) -> 6 | F20: Non | K20: =IF(OR(I20="",J20=""),"",I20*J20)
E21: =IF(OR(C21="",D21=""),"",C21*D21) | K21: =IF(OR(I21="",J21=""),"",I21*J21)
B23: Milieu | H23: Mesure
B24: Cause | C24: G | D24: F | E24: Crit. | F24: Racine | H24: Cause | I24: G | J24: F | K24: Crit. | L24: Racine
B25: Zone de stockage encombrée | C25: 3 | D25: 3 | E25: =IF(OR(C25="",D25=""),"",C25*D25) -> 9 | F25: Non | H25: Indicateurs non suivis au quotidien | I25: 3 | J25: 3 | K25: =IF(OR(I25="",J25=""),"",I25*J25) -> 9 | L25: Non
B26: Distances de déplacement longues | C26: 2 | D26: 3 | E26: =IF(OR(C26="",D26=""),"",C26*D26) -> 6 | F26: Non | H26: Objectifs de délai mal définis | I26: 3 | J26: 2 | K26: =IF(OR(I26="",J26=""),"",I26*J26) -> 6 | L26: Non
B27: Éclairage insuffisant | C27: 2 | D27: 2 | E27: =IF(OR(C27="",D27=""),"",C27*D27) -> 4 | F27: Non | H27: Relevés manuels source d'erreurs | I27: 2 | J27: 3 | K27: =IF(OR(I27="",J27=""),"",I27*J27) -> 6 | L27: Non
E28: =IF(OR(C28="",D28=""),"",C28*D28) | K28: =IF(OR(I28="",J28=""),"",I28*J28)
E29: =IF(OR(C29="",D29=""),"",C29*D29) | K29: =IF(OR(I29="",J29=""),"",I29*J29)
B31: SYNTHÈSE & INDICATEURS
B32: Catégorie | C32: Crit. | D32: Nb | F32: Nombre total de causes | J32: Causes racines identifiées
B33: Main-d'œuvre | C33: =SUM(E9:E13) -> 39 | D33: =COUNT(E9:E13) -> 4 | F33: =D39 -> 20 | J33: =COUNTIF(F9:F13,"Oui")+COUNTIF(F17:F21,"Oui")+COUNTIF(F25:F29,"Oui")+COUNTIF(L9:L13,"Oui")+COUNTIF(L17:L21,"Oui")+COUNTIF(L25:L29,"Oui") -> 2
B34: Méthode | C34: =SUM(E17:E21) -> 39 | D34: =COUNT(E17:E21) -> 4
B35: Milieu | C35: =SUM(E25:E29) -> 19 | D35: =COUNT(E25:E29) -> 3 | F35: Criticité maximale | J35: Catégorie prioritaire
B36: Matière | C36: =SUM(K9:K13) -> 26 | D36: =COUNT(K9:K13) -> 3 | F36: =MAX(E9:E13,E17:E21,E25:E29,K9:K13,K17:K21,K25:K29) -> 16 | J36: =INDEX(B33:B38,MATCH(MAX(C33:C38),C33:C38,0)) -> Main-d'œuvre
B37: Matériel | C37: =SUM(K17:K21) -> 32 | D37: =COUNT(K17:K21) -> 3
B38: Mesure | C38: =SUM(K25:K29) -> 21 | D38: =COUNT(K25:K29) -> 3
B39: Total | C39: =SUM(C33:C38) -> 176 | D39: =SUM(D33:D38) -> 20

Sheet 5 Pourquoi & Actions
B1: 5 POURQUOI & PLAN D'ACTION
B2: Pour chaque cause racine, remontez la chaîne des « Pourquoi ? » puis définissez l'action corrective.
B4: ANALYSE DES 5 POURQUOI
B5: Cause racine (départ) | C5: Pourquoi 1 ? | D5: Pourquoi 2 ? | E5: Pourquoi 3 ? | F5: Pourquoi 4 ? | G5: Pourquoi 5 ? → cause profonde
B6: Procédure de préparation non standardisée | C6: Chaque préparateur a sa méthode | D6: Aucun mode opératoire écrit | E6: Le standard n'a jamais été formalisé | F6: Pas de temps alloué au service méthodes | G6: Priorité non donnée à la standardisation
B7: Panne récurrente du convoyeur | C7: Arrêts non planifiés fréquents | D7: Pas de maintenance préventive | E7: Plan de maintenance inexistant | F7: Charge de l'équipe technique trop élevée | G7: Effectif maintenance sous-dimensionné
B12: PLAN D'ACTION
B13: Action corrective | C13: Cause racine visée | D13: Responsable | E13: Échéance | F13: Statut | G13: Efficacité vérifiée
B14: Rédiger et déployer un mode opératoire standard | C14: Standard non formalisé | D14: Resp. Méthodes | E14: 46461 | F14: En cours | G14: Non
B15: Former les préparateurs au nouveau standard | C15: Formation insuffisante | D15: Resp. RH | E15: 46487 | F15: À faire | G15: Non
B16: Mettre en place un plan de maintenance préventive | C16: Maintenance inexistante | D16: Resp. Maintenance | E16: 46477 | F16: À faire | G16: Non
B17: Renforcer l'équipe maintenance en période de pointe | C17: Effectif sous-dimensionné | D17: Direction | E17: 46509 | F17: À faire | G17: Non
B18: Mettre en place un suivi quotidien du taux de retard | C18: Indicateurs non suivis | D18: Resp. Qualité | E18: 46446 | F18: En cours | G18: Non
B24: Avancement du plan d'action (actions terminées) | F24: =IFERROR(COUNTIF(F14:F23,"Fait")/COUNTA(F14:F23),0) -> 0

Sheet Paramètres
B1: PARAMÈTRES — LISTES DE RÉFÉRENCE
B2: Le diagramme utilise les 5M (6M avec « Mesure »). Étendez si besoin (Management, Moyens financiers, Maintenance).
B4: FAMILLES (5M / 7M) | D4: ÉCHELLE 1 À 5 | F4: COTATION | H4: STATUTS ACTION
B5: Main-d'œuvre | D5: 1 — Très faible | F5: Criticité = Gravité × Fréquence | H5: À faire
B6: Matière | D6: 2 — Faible | F6: Faible : 1 à 5 | H6: En cours
B7: Matériel | D7: 3 — Moyen | F7: Moyenne : 6 à 14 | H7: Fait
B8: Méthode | D8: 4 — Fort | F8: Élevée : 15 à 25
B9: Milieu | D9: 5 — Très fort
B10: Mesure
B11: Management
B12: Moyens financiers
B13: Maintenance

Sheet Mode d'emploi
B1: MODE D'EMPLOI
B2: Diagramme d'Ishikawa (5M) — causes & effet
B4: À QUOI SERT CE CLASSEUR
B5: Le diagramme d'Ishikawa (ou diagramme causes-effet, ou arêtes de poisson) sert à identifier et classer les causes possibles d'un problème selon les 5M : Main-d'œuvre, Matière, Matériel, Méthode, Milieu (souvent complété par Mesure).
B6: LES CINQ ONGLETS
B7: • Diagramme Ishikawa : la vue en arêtes de poisson. La tête = l'effet ; les branches = les 5M ; les causes prioritaires y remontent automatiquement.
B8: • Analyse des causes : listez les causes par famille et cotez-les (Gravité × Fréquence = Criticité). Synthèse et graphique inclus.
B9: • 5 Pourquoi & Actions : remontez à la cause profonde puis planifiez les actions correctives.
B10: • Paramètres : familles, échelle de cotation, statuts.
B11: • Mode d'emploi : cette page.
B12: COMMENT L'UTILISER
B13: 1. Décrivez l'effet / le problème en haut de « Analyse des causes ».
... B21: • Cellules bleutées = à remplir. • Cellules blanches = calculées. • Bandeaux colorés = structure, à ne pas modifier.
